BEGIN:VCALENDAR
VERSION:2.0
PRODID:-//STOLLE CONTENTS - ECPv6.6.2//NONSGML v1.0//EN
CALSCALE:GREGORIAN
METHOD:PUBLISH
X-WR-CALNAME:STOLLE CONTENTS
X-ORIGINAL-URL:https://member.stolle.jp/various_contents_top
X-WR-CALDESC:STOLLE CONTENTS のイベント
REFRESH-INTERVAL;VALUE=DURATION:PT1H
X-Robots-Tag:noindex
X-PUBLISHED-TTL:PT1H
BEGIN:VTIMEZONE
TZID:Asia/Tokyo
BEGIN:STANDARD
TZOFFSETFROM:+0900
TZOFFSETTO:+0900
TZNAME:JST
DTSTART:20250101T000000
END:STANDARD
END:VTIMEZONE
BEGIN:VEVENT
DTSTART;TZID=Asia/Tokyo:20251218T133000
DTEND;TZID=Asia/Tokyo:20251218T143000
DTSTAMP:20260422T103901
CREATED:20251204T051752Z
LAST-MODIFIED:20251212T010404Z
UID:6186-1766064600-1766068200@member.stolle.jp
SUMMARY:ZOOM【アカデミー+】
DESCRIPTION:17日から日程変更となりました。何卒ご了承くださいますようお願い申し上げます。 \n  \nミーティング ID: 822 4475 8998 \nZOOMアプリをダウンロード済みの方はこちらから⇒参加する\nZOOMアプリを持っていない方はこちらから⇒参加する
URL:https://member.stolle.jp/various_contents_top/event/zoom%e3%80%90%e3%82%a2%e3%82%ab%e3%83%87%e3%83%9f%e3%83%bc%e3%80%91-4/
CATEGORIES:ZOOM
END:VEVENT
BEGIN:VEVENT
DTSTART;TZID=Asia/Tokyo:20251225T133000
DTEND;TZID=Asia/Tokyo:20251225T143000
DTSTAMP:20260422T103901
CREATED:20251204T052304Z
LAST-MODIFIED:20251223T031236Z
UID:6189-1766669400-1766673000@member.stolle.jp
SUMMARY:ZOOM【アカデミー+】
DESCRIPTION:【ユニットリーダー対談】\n「後悔したくない。だから諦めずサステナを伝え続ける。」 \n12月25日(木)のアカデミー＋では、千葉県在住の ユニットリーダー・宮﨑 香子さん をゲストにお迎えしました。 \n宮﨑さんは2年間で3度も肺炎を患った経験から、26種類の抗体とその試験データに魅力を感じ、会員登録を決意されました。しかし、年金生活の中で「どうすればサステナを飲み続けられるのか」を真剣に考える日々が始まります。 \n何度断られても諦めずにサステナを伝え続けてこられたのは、楽しい仲間たちの存在、そして何より宮﨑さん自身のまっすぐな想いがあったから―――。 \n宮﨑さんの経験と想いに触れられる、心に残る対談です。\nぜひご視聴ください！ \n*=======*=======*======* \nミーティング ID:876 2772 4174 \nZOOMアプリをダウンロード済みの方はこちらから⇒参加する\nZOOMアプリを持っていない方はこちらから⇒参加する
URL:https://member.stolle.jp/various_contents_top/event/zoom%e3%80%90%e3%82%a2%e3%82%ab%e3%83%87%e3%83%9f%e3%83%bc%e3%80%91-5/
CATEGORIES:ZOOM
END:VEVENT
END:VCALENDAR