BEGIN:VCALENDAR
VERSION:2.0
PRODID:-//STOLLE CONTENTS - ECPv6.6.2//NONSGML v1.0//EN
CALSCALE:GREGORIAN
METHOD:PUBLISH
X-WR-CALNAME:STOLLE CONTENTS
X-ORIGINAL-URL:https://member.stolle.jp/various_contents_top
X-WR-CALDESC:STOLLE CONTENTS のイベント
REFRESH-INTERVAL;VALUE=DURATION:PT1H
X-Robots-Tag:noindex
X-PUBLISHED-TTL:PT1H
BEGIN:VTIMEZONE
TZID:Asia/Tokyo
BEGIN:STANDARD
TZOFFSETFROM:+0900
TZOFFSETTO:+0900
TZNAME:JST
DTSTART:20250101T000000
END:STANDARD
END:VTIMEZONE
BEGIN:VEVENT
DTSTART;TZID=Asia/Tokyo:20250704T190000
DTEND;TZID=Asia/Tokyo:20250704T200000
DTSTAMP:20260422T180533
CREATED:20250620T082749Z
LAST-MODIFIED:20250625T035222Z
UID:4819-1751655600-1751659200@member.stolle.jp
SUMMARY:ZOOM【アカデミー＋】
DESCRIPTION:テーマ「感謝」・「健康」・「喜び」 \n  \nミーティング ID: 862 4182 6869 \nZOOMアプリをダウンロード済みの方はこちらから⇒参加する \n  \nZOOMアプリを持っていない方はこちらから⇒参加する
URL:https://member.stolle.jp/various_contents_top/event/zoom%e3%80%90%e3%82%a2%e3%82%ab%e3%83%87%e3%83%9f%e3%83%bc%ef%bc%8b%e3%80%91/
CATEGORIES:ZOOM
END:VEVENT
BEGIN:VEVENT
DTSTART;TZID=Asia/Tokyo:20250709T133000
DTEND;TZID=Asia/Tokyo:20250709T143000
DTSTAMP:20260422T180533
CREATED:20250623T064208Z
LAST-MODIFIED:20250625T035053Z
UID:4829-1752067800-1752071400@member.stolle.jp
SUMMARY:ZOOM【アカデミー＋】
DESCRIPTION:～～ゲスト回～～ \n天野泰子ダイヤモンド アドバイザーと大谷社長の対談です。 \nミーティング ID: 868 8825 8603 \nZOOMアプリをダウンロード済みの方はこちらから⇒参加する \n  \nZOOMアプリを持っていない方はこちらから⇒参加する
URL:https://member.stolle.jp/various_contents_top/event/zoom%e3%80%90%e3%82%a2%e3%82%ab%e3%83%87%e3%83%9f%e3%83%bc%ef%bc%8b%e3%80%91-2/
CATEGORIES:ZOOM
END:VEVENT
BEGIN:VEVENT
DTSTART;TZID=Asia/Tokyo:20250723T133000
DTEND;TZID=Asia/Tokyo:20250723T143000
DTSTAMP:20260422T180533
CREATED:20250623T070703Z
LAST-MODIFIED:20250625T034847Z
UID:4837-1753277400-1753281000@member.stolle.jp
SUMMARY:ZOOM【アカデミー＋】
DESCRIPTION:ミーティング ID: 836 4135 0655 \nZOOMアプリをダウンロード済みの方はこちらから⇒参加する \n  \nZOOMアプリを持っていない方はこちらから⇒参加する
URL:https://member.stolle.jp/various_contents_top/event/zoom%e3%80%90%e3%82%a2%e3%82%ab%e3%83%87%e3%83%9f%e3%83%bc%ef%bc%8b%e3%80%91-3/
CATEGORIES:ZOOM
END:VEVENT
BEGIN:VEVENT
DTSTART;TZID=Asia/Tokyo:20250723T190000
DTEND;TZID=Asia/Tokyo:20250723T200000
DTSTAMP:20260422T180533
CREATED:20250623T072032Z
LAST-MODIFIED:20250625T035652Z
UID:4840-1753297200-1753300800@member.stolle.jp
SUMMARY:ZOOM【サステナ健康セミナー】
DESCRIPTION:ミーティング ID: 827 2974 2038 \nZOOMアプリをダウンロード済みの方はこちらから⇒参加する \n  \nZOOMアプリを持っていない方はこちらから⇒参加する
URL:https://member.stolle.jp/various_contents_top/event/zoom%e3%80%90%e3%82%b5%e3%82%b9%e3%83%86%e3%83%8a%e5%81%a5%e5%ba%b7%e3%82%bb%e3%83%9f%e3%83%8a%e3%83%bc%e3%80%91-3/
CATEGORIES:ZOOM,全国セミナー【一覧】
END:VEVENT
BEGIN:VEVENT
DTSTART;TZID=Asia/Tokyo:20250729T133000
DTEND;TZID=Asia/Tokyo:20250729T143000
DTSTAMP:20260422T180533
CREATED:20250623T072738Z
LAST-MODIFIED:20250625T035942Z
UID:4842-1753795800-1753799400@member.stolle.jp
SUMMARY:ZOOM【アカデミー＋】
DESCRIPTION:ミーティング ID: 889 8423 4407 \nZOOMアプリをダウンロード済みの方はこちらから⇒参加する \n  \nZOOMアプリを持っていない方はこちらから⇒参加する
URL:https://member.stolle.jp/various_contents_top/event/zoom%e3%80%90%e3%82%a2%e3%82%ab%e3%83%87%e3%83%9f%e3%83%bc%ef%bc%8b%e3%80%91-4/
CATEGORIES:ZOOM
END:VEVENT
END:VCALENDAR