BEGIN:VCALENDAR
VERSION:2.0
PRODID:-//STOLLE CONTENTS - ECPv6.6.2//NONSGML v1.0//EN
CALSCALE:GREGORIAN
METHOD:PUBLISH
X-WR-CALNAME:STOLLE CONTENTS
X-ORIGINAL-URL:https://member.stolle.jp/various_contents_top
X-WR-CALDESC:STOLLE CONTENTS のイベント
REFRESH-INTERVAL;VALUE=DURATION:PT1H
X-Robots-Tag:noindex
X-PUBLISHED-TTL:PT1H
BEGIN:VTIMEZONE
TZID:Asia/Tokyo
BEGIN:STANDARD
TZOFFSETFROM:+0900
TZOFFSETTO:+0900
TZNAME:JST
DTSTART:20250101T000000
END:STANDARD
END:VTIMEZONE
BEGIN:VEVENT
DTSTART;TZID=Asia/Tokyo:20251014T133000
DTEND;TZID=Asia/Tokyo:20251014T143000
DTSTAMP:20260422T150712
CREATED:20250924T080454Z
LAST-MODIFIED:20251008T050816Z
UID:5694-1760448600-1760452200@member.stolle.jp
SUMMARY:ZOOM【アカデミー＋】
DESCRIPTION:～～ゲスト回～～ \n浦谷　佳朋ダイヤモンドアドバイザーと大谷社長の対談です。 \nミーティング ID: 891 7562 3631 \nZOOMアプリをダウンロード済みの方はこちらから⇒参加する \nZOOMアプリを持っていない方はこちらから⇒参加する
URL:https://member.stolle.jp/various_contents_top/event/zoom%e3%80%90%e3%82%a2%e3%82%ab%e3%83%87%e3%83%9f%e3%83%bc%ef%bc%8b%e3%80%91-14/
CATEGORIES:ZOOM
END:VEVENT
END:VCALENDAR