BEGIN:VCALENDAR
VERSION:2.0
PRODID:-//STOLLE CONTENTS - ECPv6.6.2//NONSGML v1.0//EN
CALSCALE:GREGORIAN
METHOD:PUBLISH
X-ORIGINAL-URL:https://member.stolle.jp/various_contents_top
X-WR-CALDESC:STOLLE CONTENTS のイベント
REFRESH-INTERVAL;VALUE=DURATION:PT1H
X-Robots-Tag:noindex
X-PUBLISHED-TTL:PT1H
BEGIN:VTIMEZONE
TZID:Asia/Tokyo
BEGIN:STANDARD
TZOFFSETFROM:+0900
TZOFFSETTO:+0900
TZNAME:JST
DTSTART:20250101T000000
END:STANDARD
END:VTIMEZONE
BEGIN:VEVENT
DTSTART;TZID=Asia/Tokyo:20250521T133000
DTEND;TZID=Asia/Tokyo:20250521T200000
DTSTAMP:20260422T223048
CREATED:20250410T055824Z
LAST-MODIFIED:20250520T082001Z
UID:3971-1747834200-1747857600@member.stolle.jp
SUMMARY:ZOOM【ランクアップ・ミーティング】
DESCRIPTION:テーマ《商品説明とプラン解説について》 \n  \nZOOMアプリをダウンロード済みの方→こちらから \nZOOMアプリをお持ちでない方→こちらから \nミーティング ID: 881 0429 3525 \n  \nオンラインのみ、２回開催します。 \n◆１回目　13：30～14：30 \n◆２回目　19：00～20：00
URL:https://member.stolle.jp/various_contents_top/event/zoom%e3%80%90%e3%83%a9%e3%83%b3%e3%82%af%e3%82%a2%e3%83%83%e3%83%97%e3%83%bb%e3%83%9f%e3%83%bc%e3%83%86%e3%82%a3%e3%83%b3%e3%82%b0%e3%80%91-3/
CATEGORIES:ZOOM
END:VEVENT
END:VCALENDAR