BEGIN:VCALENDAR
VERSION:2.0
PRODID:-//STOLLE CONTENTS - ECPv6.6.2//NONSGML v1.0//EN
CALSCALE:GREGORIAN
METHOD:PUBLISH
X-ORIGINAL-URL:https://member.stolle.jp/various_contents_top
X-WR-CALDESC:STOLLE CONTENTS のイベント
REFRESH-INTERVAL;VALUE=DURATION:PT1H
X-Robots-Tag:noindex
X-PUBLISHED-TTL:PT1H
BEGIN:VTIMEZONE
TZID:Asia/Tokyo
BEGIN:STANDARD
TZOFFSETFROM:+0900
TZOFFSETTO:+0900
TZNAME:JST
DTSTART:20250101T000000
END:STANDARD
END:VTIMEZONE
BEGIN:VEVENT
DTSTART;TZID=Asia/Tokyo:20250514T133000
DTEND;TZID=Asia/Tokyo:20250514T143000
DTSTAMP:20260422T223133
CREATED:20250410T063621Z
LAST-MODIFIED:20250514T020744Z
UID:3977-1747229400-1747233000@member.stolle.jp
SUMMARY:ZOOM【ランクアップ・ミーティング】
DESCRIPTION:オンラインのみでの開催です。 \nZOOMアプリをダウンロード済みの方→こちらから \nZOOMアプリをダウンロードしていない方→こちらから \nミーティング ID: 883 2957 7543
URL:https://member.stolle.jp/various_contents_top/event/zoom%e3%80%90%e3%83%a9%e3%83%b3%e3%82%af%e3%82%a2%e3%83%83%e3%83%97%e3%83%bb%e3%83%9f%e3%83%bc%e3%83%86%e3%82%a3%e3%83%b3%e3%82%b0%e3%80%91-4/
CATEGORIES:ZOOM
END:VEVENT
BEGIN:VEVENT
DTSTART;TZID=Asia/Tokyo:20250514T190000
DTEND;TZID=Asia/Tokyo:20250514T200000
DTSTAMP:20260422T223133
CREATED:20250410T064201Z
LAST-MODIFIED:20250410T064335Z
UID:3981-1747249200-1747252800@member.stolle.jp
SUMMARY:ZOOM【サステナ健康セミナー】
DESCRIPTION:オンラインのみでの開催です。 \nZOOMアプリをダウンロード済みの方→こちら \nミーティング ID: 835 9049 0636
URL:https://member.stolle.jp/various_contents_top/event/zoom%e3%80%90%e3%82%b5%e3%82%b9%e3%83%86%e3%83%8a%e5%81%a5%e5%ba%b7%e3%82%bb%e3%83%9f%e3%83%8a%e3%83%bc%e3%80%91/
CATEGORIES:ZOOM,全国セミナー【一覧】
END:VEVENT
END:VCALENDAR