BEGIN:VCALENDAR
VERSION:2.0
PRODID:-//STOLLE CONTENTS - ECPv6.6.2//NONSGML v1.0//EN
CALSCALE:GREGORIAN
METHOD:PUBLISH
X-ORIGINAL-URL:https://member.stolle.jp/various_contents_top
X-WR-CALDESC:STOLLE CONTENTS のイベント
REFRESH-INTERVAL;VALUE=DURATION:PT1H
X-Robots-Tag:noindex
X-PUBLISHED-TTL:PT1H
BEGIN:VTIMEZONE
TZID:Asia/Tokyo
BEGIN:STANDARD
TZOFFSETFROM:+0900
TZOFFSETTO:+0900
TZNAME:JST
DTSTART:20260101T000000
END:STANDARD
END:VTIMEZONE
BEGIN:VEVENT
DTSTART;TZID=Asia/Tokyo:20260310T133000
DTEND;TZID=Asia/Tokyo:20260310T143000
DTSTAMP:20260422T105905
CREATED:20260304T083731Z
LAST-MODIFIED:20260304T092117Z
UID:6752-1773149400-1773153000@member.stolle.jp
SUMMARY:ZOOM【アカデミー+】
DESCRIPTION:ミーティング ID: 861 9506 2121 \n※パスワードが必要になりました。369（ミルク）と覚えてください。 \nパスワード：369 \nZOOMアプリをダウンロード済みの方はこちらから⇒参加する\nZOOMアプリを持っていない方はこちらから⇒参加する
URL:https://member.stolle.jp/various_contents_top/event/zoom%e3%80%90%e3%82%a2%e3%82%ab%e3%83%87%e3%83%9f%e3%83%bc%e3%80%91-12/
CATEGORIES:ZOOM
END:VEVENT
BEGIN:VEVENT
DTSTART;TZID=Asia/Tokyo:20260325T133000
DTEND;TZID=Asia/Tokyo:20260325T143000
DTSTAMP:20260422T105905
CREATED:20260304T083901Z
LAST-MODIFIED:20260312T054853Z
UID:6755-1774445400-1774449000@member.stolle.jp
SUMMARY:ZOOM【アカデミー+】
DESCRIPTION:ミーティング ID: 821 4516 4412 \n※パスワードが必要になりました。369（ミルク）と覚えてください。 \nパスワード：369 \nZOOMアプリをダウンロード済みの方はこちらから⇒参加する\nZOOMアプリを持っていない方はこちらから⇒参加する
URL:https://member.stolle.jp/various_contents_top/event/zoom%e3%80%90%e3%82%a2%e3%82%ab%e3%83%87%e3%83%9f%e3%83%bc%e3%80%91-13/
CATEGORIES:ZOOM
END:VEVENT
BEGIN:VEVENT
DTSTART;TZID=Asia/Tokyo:20260401T133000
DTEND;TZID=Asia/Tokyo:20260401T143000
DTSTAMP:20260422T105905
CREATED:20260304T084013Z
LAST-MODIFIED:20260331T100930Z
UID:6757-1775050200-1775053800@member.stolle.jp
SUMMARY:ZOOM【アカデミー+】
DESCRIPTION:ミーティング ID: 822 7959 9156 \nパスコード: 369 \n※パスワードが必要になりました。369（ミルク）と覚えてください。 \nZOOMアプリをダウンロード済みの方はこちらから⇒参加する\nZOOMアプリを持っていない方はこちらから⇒参加する
URL:https://member.stolle.jp/various_contents_top/event/zoom%e3%80%90%e3%82%a2%e3%82%ab%e3%83%87%e3%83%9f%e3%83%bc%e3%80%91-14/
CATEGORIES:ZOOM
END:VEVENT
BEGIN:VEVENT
DTSTART;TZID=Asia/Tokyo:20260409T133000
DTEND;TZID=Asia/Tokyo:20260409T143000
DTSTAMP:20260422T105905
CREATED:20260402T060057Z
LAST-MODIFIED:20260402T060057Z
UID:6942-1775741400-1775745000@member.stolle.jp
SUMMARY:ZOOM【アカデミー+】
DESCRIPTION:ミーティング ID: 666 971 3793 \nパスコード: 369 \n※パスワードが必要になりました。369（ミルク）と覚えてください。 \nZOOMアプリをダウンロード済みの方はこちらから⇒参加する\nZOOMアプリを持っていない方はこちらから⇒参加する
URL:https://member.stolle.jp/various_contents_top/event/zoom%e3%80%90%e3%82%a2%e3%82%ab%e3%83%87%e3%83%9f%e3%83%bc%e3%80%91-15/
CATEGORIES:ZOOM
END:VEVENT
BEGIN:VEVENT
DTSTART;TZID=Asia/Tokyo:20260424T133000
DTEND;TZID=Asia/Tokyo:20260424T143000
DTSTAMP:20260422T105905
CREATED:20260402T060417Z
LAST-MODIFIED:20260409T051908Z
UID:6944-1777037400-1777041000@member.stolle.jp
SUMMARY:ZOOM【アカデミー+】
DESCRIPTION:都合により4/21から日程変更となりました。何卒ご了承くださいますようお願い申し上げます。 \nミーティング ID: 815 4079 6218 \nパスコード: 369 \n※パスワードが必要になりました。369（ミルク）と覚えてください。 \nZOOMアプリをダウンロード済みの方はこちらから⇒参加する\nZOOMアプリを持っていない方はこちらから⇒参加する
URL:https://member.stolle.jp/various_contents_top/event/6944/
CATEGORIES:ZOOM
END:VEVENT
END:VCALENDAR