BEGIN:VCALENDAR
VERSION:2.0
PRODID:-//STOLLE CONTENTS - ECPv6.6.2//NONSGML v1.0//EN
CALSCALE:GREGORIAN
METHOD:PUBLISH
X-ORIGINAL-URL:https://member.stolle.jp/various_contents_top
X-WR-CALDESC:STOLLE CONTENTS のイベント
REFRESH-INTERVAL;VALUE=DURATION:PT1H
X-Robots-Tag:noindex
X-PUBLISHED-TTL:PT1H
BEGIN:VTIMEZONE
TZID:Asia/Tokyo
BEGIN:STANDARD
TZOFFSETFROM:+0900
TZOFFSETTO:+0900
TZNAME:JST
DTSTART:20250101T000000
END:STANDARD
END:VTIMEZONE
BEGIN:VEVENT
DTSTART;TZID=Asia/Tokyo:20250604T133000
DTEND;TZID=Asia/Tokyo:20250604T143000
DTSTAMP:20260422T211032
CREATED:20250523T070031Z
LAST-MODIFIED:20250602T020911Z
UID:4445-1749043800-1749047400@member.stolle.jp
SUMMARY:ZOOM【ランクアップ・ミーティング】
DESCRIPTION:ミーティング ID: 814 5514 2947 \nZOOMアプリをダウンロードされている方はこちらから⇒参加する \nZOOMアプリをダウンロードされていない方はこちらから⇒参加する
URL:https://member.stolle.jp/various_contents_top/event/%e3%80%90%e3%83%a9%e3%83%b3%e3%82%af%e3%82%a2%e3%83%83%e3%83%97%e3%83%bb%e3%83%9f%e3%83%bc%e3%83%86%e3%82%a3%e3%83%b3%e3%82%b0%e3%80%91/
CATEGORIES:ZOOM
END:VEVENT
BEGIN:VEVENT
DTSTART;TZID=Asia/Tokyo:20250610T133000
DTEND;TZID=Asia/Tokyo:20250610T143000
DTSTAMP:20260422T211032
CREATED:20250523T070759Z
LAST-MODIFIED:20250602T021227Z
UID:4450-1749562200-1749565800@member.stolle.jp
SUMMARY:ZOOM【ランクアップ・ミーティング】
DESCRIPTION:ミーティング ID: 868 4878 6829 \nZOOMアプリをダウンロードされている方はこちらから⇒参加する \nZOOMアプリをダウンロードされていない方はこちらから⇒参加する
URL:https://member.stolle.jp/various_contents_top/event/zoom%e3%80%90%e3%83%a9%e3%83%b3%e3%82%af%e3%82%a2%e3%83%83%e3%83%97%e3%83%bb%e3%83%9f%e3%83%bc%e3%83%86%e3%82%a3%e3%83%b3%e3%82%b0%e3%80%91-6/
CATEGORIES:ZOOM
END:VEVENT
BEGIN:VEVENT
DTSTART;TZID=Asia/Tokyo:20250617T133000
DTEND;TZID=Asia/Tokyo:20250617T153000
DTSTAMP:20260422T211032
CREATED:20250529T085210Z
LAST-MODIFIED:20250605T052017Z
UID:4490-1750167000-1750174200@member.stolle.jp
SUMMARY:ZOOM【ランクアップ・ミーティング】
DESCRIPTION:ミーティング ID: 849 1371 8594 \nZOOMアプリをダウンロードされている方はこちらから⇒参加する \nZOOMアプリをダウンロードされていない方はこちらから⇒参加する
URL:https://member.stolle.jp/various_contents_top/event/zoom%e3%80%90%e3%83%a9%e3%83%b3%e3%82%af%e3%82%a2%e3%83%83%e3%83%97%e3%83%bb%e3%83%9f%e3%83%bc%e3%83%86%e3%82%a3%e3%83%b3%e3%82%b0%e3%80%91-8/
CATEGORIES:ZOOM
END:VEVENT
BEGIN:VEVENT
DTSTART;TZID=Asia/Tokyo:20250617T190000
DTEND;TZID=Asia/Tokyo:20250617T200000
DTSTAMP:20260422T211032
CREATED:20250523T071508Z
LAST-MODIFIED:20250605T052030Z
UID:4452-1750186800-1750190400@member.stolle.jp
SUMMARY:ZOOM【サステナ健康セミナー】
DESCRIPTION:ミーティング ID: 837 4672 9540 \nZOOMアプリをダウンロードされている方はこちらから⇒参加する \nZOOMアプリをダウンロードされていない方はこちらから⇒参加する
URL:https://member.stolle.jp/various_contents_top/event/zoom%e3%80%90%e3%82%b5%e3%82%b9%e3%83%86%e3%83%8a%e5%81%a5%e5%ba%b7%e3%82%bb%e3%83%9f%e3%83%8a%e3%83%bc%e3%80%91-2/
CATEGORIES:ZOOM,全国セミナー【一覧】
END:VEVENT
BEGIN:VEVENT
DTSTART;TZID=Asia/Tokyo:20250624T133000
DTEND;TZID=Asia/Tokyo:20250624T143000
DTSTAMP:20260422T211032
CREATED:20250523T071754Z
LAST-MODIFIED:20250605T072641Z
UID:4454-1750771800-1750775400@member.stolle.jp
SUMMARY:ZOOM【ランクアップ・ミーティング】
DESCRIPTION:営業本部　一戸本部長 と ＭＬＭ戦略室　新宮室長 による討論会 \n  \nミーティング ID: 892 5025 1276 \nZOOMアプリをダウンロードされている方はこちらから⇒参加する \n  \nZOOMアプリをダウンロードされていない方はこちらから⇒参加する \n  \n 
URL:https://member.stolle.jp/various_contents_top/event/zoom%e3%80%90%e3%83%a9%e3%83%b3%e3%82%af%e3%82%a2%e3%83%83%e3%83%97%e3%83%bb%e3%83%9f%e3%83%bc%e3%83%86%e3%82%a3%e3%83%b3%e3%82%b0%e3%80%91-7/
CATEGORIES:ZOOM
END:VEVENT
BEGIN:VEVENT
DTSTART;TZID=Asia/Tokyo:20250704T190000
DTEND;TZID=Asia/Tokyo:20250704T200000
DTSTAMP:20260422T211032
CREATED:20250620T082749Z
LAST-MODIFIED:20250625T035222Z
UID:4819-1751655600-1751659200@member.stolle.jp
SUMMARY:ZOOM【アカデミー＋】
DESCRIPTION:テーマ「感謝」・「健康」・「喜び」 \n  \nミーティング ID: 862 4182 6869 \nZOOMアプリをダウンロード済みの方はこちらから⇒参加する \n  \nZOOMアプリを持っていない方はこちらから⇒参加する
URL:https://member.stolle.jp/various_contents_top/event/zoom%e3%80%90%e3%82%a2%e3%82%ab%e3%83%87%e3%83%9f%e3%83%bc%ef%bc%8b%e3%80%91/
CATEGORIES:ZOOM
END:VEVENT
BEGIN:VEVENT
DTSTART;TZID=Asia/Tokyo:20250709T133000
DTEND;TZID=Asia/Tokyo:20250709T143000
DTSTAMP:20260422T211032
CREATED:20250623T064208Z
LAST-MODIFIED:20250625T035053Z
UID:4829-1752067800-1752071400@member.stolle.jp
SUMMARY:ZOOM【アカデミー＋】
DESCRIPTION:～～ゲスト回～～ \n天野泰子ダイヤモンド アドバイザーと大谷社長の対談です。 \nミーティング ID: 868 8825 8603 \nZOOMアプリをダウンロード済みの方はこちらから⇒参加する \n  \nZOOMアプリを持っていない方はこちらから⇒参加する
URL:https://member.stolle.jp/various_contents_top/event/zoom%e3%80%90%e3%82%a2%e3%82%ab%e3%83%87%e3%83%9f%e3%83%bc%ef%bc%8b%e3%80%91-2/
CATEGORIES:ZOOM
END:VEVENT
BEGIN:VEVENT
DTSTART;TZID=Asia/Tokyo:20250723T133000
DTEND;TZID=Asia/Tokyo:20250723T143000
DTSTAMP:20260422T211032
CREATED:20250623T070703Z
LAST-MODIFIED:20250625T034847Z
UID:4837-1753277400-1753281000@member.stolle.jp
SUMMARY:ZOOM【アカデミー＋】
DESCRIPTION:ミーティング ID: 836 4135 0655 \nZOOMアプリをダウンロード済みの方はこちらから⇒参加する \n  \nZOOMアプリを持っていない方はこちらから⇒参加する
URL:https://member.stolle.jp/various_contents_top/event/zoom%e3%80%90%e3%82%a2%e3%82%ab%e3%83%87%e3%83%9f%e3%83%bc%ef%bc%8b%e3%80%91-3/
CATEGORIES:ZOOM
END:VEVENT
BEGIN:VEVENT
DTSTART;TZID=Asia/Tokyo:20250723T190000
DTEND;TZID=Asia/Tokyo:20250723T200000
DTSTAMP:20260422T211032
CREATED:20250623T072032Z
LAST-MODIFIED:20250625T035652Z
UID:4840-1753297200-1753300800@member.stolle.jp
SUMMARY:ZOOM【サステナ健康セミナー】
DESCRIPTION:ミーティング ID: 827 2974 2038 \nZOOMアプリをダウンロード済みの方はこちらから⇒参加する \n  \nZOOMアプリを持っていない方はこちらから⇒参加する
URL:https://member.stolle.jp/various_contents_top/event/zoom%e3%80%90%e3%82%b5%e3%82%b9%e3%83%86%e3%83%8a%e5%81%a5%e5%ba%b7%e3%82%bb%e3%83%9f%e3%83%8a%e3%83%bc%e3%80%91-3/
CATEGORIES:ZOOM,全国セミナー【一覧】
END:VEVENT
BEGIN:VEVENT
DTSTART;TZID=Asia/Tokyo:20250729T133000
DTEND;TZID=Asia/Tokyo:20250729T143000
DTSTAMP:20260422T211032
CREATED:20250623T072738Z
LAST-MODIFIED:20250625T035942Z
UID:4842-1753795800-1753799400@member.stolle.jp
SUMMARY:ZOOM【アカデミー＋】
DESCRIPTION:ミーティング ID: 889 8423 4407 \nZOOMアプリをダウンロード済みの方はこちらから⇒参加する \n  \nZOOMアプリを持っていない方はこちらから⇒参加する
URL:https://member.stolle.jp/various_contents_top/event/zoom%e3%80%90%e3%82%a2%e3%82%ab%e3%83%87%e3%83%9f%e3%83%bc%ef%bc%8b%e3%80%91-4/
CATEGORIES:ZOOM
END:VEVENT
BEGIN:VEVENT
DTSTART;TZID=Asia/Tokyo:20250801T190000
DTEND;TZID=Asia/Tokyo:20250801T200000
DTSTAMP:20260422T211032
CREATED:20250729T024015Z
LAST-MODIFIED:20250729T024335Z
UID:5147-1754074800-1754078400@member.stolle.jp
SUMMARY:ZOOM【アカデミー＋】
DESCRIPTION:根っこワーク協会 \n野口　悦子 様と山上　マミ 様による配信です。 \nテーマ「感謝」・「健康」・「喜び」 \nミーティング ID:828 0508 6606 \nZOOMアプリをダウンロード済みの方はこちらから⇒参加する \n  \nZOOMアプリを持っていない方はこちらから⇒参加する
URL:https://member.stolle.jp/various_contents_top/event/zoom%e3%80%90%e3%82%a2%e3%82%ab%e3%83%87%e3%83%9f%e3%83%bc%ef%bc%8b%e3%80%91-5/
CATEGORIES:ZOOM
END:VEVENT
BEGIN:VEVENT
DTSTART;TZID=Asia/Tokyo:20250806T133000
DTEND;TZID=Asia/Tokyo:20250806T143000
DTSTAMP:20260422T211032
CREATED:20250729T025309Z
LAST-MODIFIED:20250729T025309Z
UID:5150-1754487000-1754490600@member.stolle.jp
SUMMARY:ZOOM【アカデミー＋】
DESCRIPTION:～～ゲスト回～～ \n大久保嘉代ダイヤモンド アドバイザーと大谷社長の対談です。 \nミーティング ID: 811 3677 9372 \nZOOMアプリをダウンロード済みの方はこちらから⇒参加する \n  \nZOOMアプリを持っていない方はこちらから⇒参加する
URL:https://member.stolle.jp/various_contents_top/event/zoom%e3%80%90%e3%82%a2%e3%82%ab%e3%83%87%e3%83%9f%e3%83%bc%ef%bc%8b%e3%80%91-6/
CATEGORIES:ZOOM
END:VEVENT
BEGIN:VEVENT
DTSTART;TZID=Asia/Tokyo:20250819T133000
DTEND;TZID=Asia/Tokyo:20250819T143000
DTSTAMP:20260422T211032
CREATED:20250729T025704Z
LAST-MODIFIED:20250729T030317Z
UID:5153-1755610200-1755613800@member.stolle.jp
SUMMARY:ZOOM【アカデミー＋】
DESCRIPTION:ミーティング ID: 843 8253 7715 \nZOOMアプリをダウンロード済みの方はこちらから⇒参加する \n  \nZOOMアプリを持っていない方はこちらから⇒参加する
URL:https://member.stolle.jp/various_contents_top/event/zoom%e3%80%90%e3%82%a2%e3%82%ab%e3%83%87%e3%83%9f%e3%83%bc%ef%bc%8b%e3%80%91-7/
CATEGORIES:ZOOM
END:VEVENT
BEGIN:VEVENT
DTSTART;TZID=Asia/Tokyo:20250819T190000
DTEND;TZID=Asia/Tokyo:20250819T200000
DTSTAMP:20260422T211032
CREATED:20250729T030041Z
LAST-MODIFIED:20250729T030056Z
UID:5156-1755630000-1755633600@member.stolle.jp
SUMMARY:ZOOM【サステナ健康セミナー】
DESCRIPTION:ミーティング ID:897 8407 2823 \nZOOMアプリをダウンロード済みの方はこちらから⇒参加する \n  \nZOOMアプリを持っていない方はこちらから⇒参加する
URL:https://member.stolle.jp/various_contents_top/event/zoom%e3%80%90%e3%82%b5%e3%82%b9%e3%83%86%e3%83%8a%e5%81%a5%e5%ba%b7%e3%82%bb%e3%83%9f%e3%83%8a%e3%83%bc%e3%80%91-4/
CATEGORIES:ZOOM,全国セミナー【一覧】
END:VEVENT
BEGIN:VEVENT
DTSTART;TZID=Asia/Tokyo:20250827T133000
DTEND;TZID=Asia/Tokyo:20250827T143000
DTSTAMP:20260422T211032
CREATED:20250729T032439Z
LAST-MODIFIED:20250729T032621Z
UID:5162-1756301400-1756305000@member.stolle.jp
SUMMARY:ZOOM【アカデミー＋】
DESCRIPTION:ミーティング ID: 898 2341 3007 \nZOOMアプリをダウンロード済みの方はこちらから⇒参加する \n  \nZOOMアプリを持っていない方はこちらから⇒参加する
URL:https://member.stolle.jp/various_contents_top/event/zoom%e3%80%90%e3%82%a2%e3%82%ab%e3%83%87%e3%83%9f%e3%83%bc%ef%bc%8b%e3%80%91-8/
CATEGORIES:ZOOM
END:VEVENT
BEGIN:VEVENT
DTSTART;TZID=Asia/Tokyo:20250905T133000
DTEND;TZID=Asia/Tokyo:20250905T143000
DTSTAMP:20260422T211032
CREATED:20250827T084020Z
LAST-MODIFIED:20250827T084225Z
UID:5537-1757079000-1757082600@member.stolle.jp
SUMMARY:ZOOM【アカデミー＋】
DESCRIPTION:根っこワーク協会 \n野口　悦子 様と山上　マミ 様による配信です。 \nテーマ「感謝」・「健康」・「喜び」 \nミーティング ID: 885 6894 8530 \nZOOMアプリをダウンロード済みの方はこちらから⇒参加する \n  \nZOOMアプリを持っていない方はこちらから⇒参加する
URL:https://member.stolle.jp/various_contents_top/event/zoom%e3%80%90%e3%82%a2%e3%82%ab%e3%83%87%e3%83%9f%e3%83%bc%ef%bc%8b%e3%80%91-9/
CATEGORIES:ZOOM
END:VEVENT
BEGIN:VEVENT
DTSTART;TZID=Asia/Tokyo:20250910T133000
DTEND;TZID=Asia/Tokyo:20250910T143000
DTSTAMP:20260422T211032
CREATED:20250827T084513Z
LAST-MODIFIED:20250827T085750Z
UID:5540-1757511000-1757514600@member.stolle.jp
SUMMARY:ZOOM【アカデミー＋】
DESCRIPTION:～～ゲスト回～～ \n後藤みどりダイヤモンド アドバイザーと大谷社長の対談です。 \nミーティング ID: 821 1905 8750 \nZOOMアプリをダウンロード済みの方はこちらから⇒参加する \n  \nZOOMアプリを持っていない方はこちらから⇒参加する
URL:https://member.stolle.jp/various_contents_top/event/zoom%e3%80%90%e3%82%a2%e3%82%ab%e3%83%87%e3%83%9f%e3%83%bc%ef%bc%8b%e3%80%91-10/
CATEGORIES:ZOOM
END:VEVENT
BEGIN:VEVENT
DTSTART;TZID=Asia/Tokyo:20250916T133000
DTEND;TZID=Asia/Tokyo:20250916T143000
DTSTAMP:20260422T211032
CREATED:20250827T084745Z
LAST-MODIFIED:20250827T084745Z
UID:5543-1758029400-1758033000@member.stolle.jp
SUMMARY:ZOOM【アカデミー＋】
DESCRIPTION:ミーティング ID: 886 9869 1373 \nZOOMアプリをダウンロード済みの方はこちらから⇒参加する \n  \nZOOMアプリを持っていない方はこちらから⇒参加する
URL:https://member.stolle.jp/various_contents_top/event/zoom%e3%80%90%e3%82%a2%e3%82%ab%e3%83%87%e3%83%9f%e3%83%bc%ef%bc%8b%e3%80%91-11/
CATEGORIES:ZOOM
END:VEVENT
BEGIN:VEVENT
DTSTART;TZID=Asia/Tokyo:20250916T190000
DTEND;TZID=Asia/Tokyo:20250916T200000
DTSTAMP:20260422T211032
CREATED:20250827T085003Z
LAST-MODIFIED:20250827T085023Z
UID:5545-1758049200-1758052800@member.stolle.jp
SUMMARY:ZOOM【サステナ健康セミナー】
DESCRIPTION:ミーティング ID:899 7960 6718 \nZOOMアプリをダウンロード済みの方はこちらから⇒参加する \n  \nZOOMアプリを持っていない方はこちらから⇒参加する
URL:https://member.stolle.jp/various_contents_top/event/zoom%e3%80%90%e3%82%b5%e3%82%b9%e3%83%86%e3%83%8a%e5%81%a5%e5%ba%b7%e3%82%bb%e3%83%9f%e3%83%8a%e3%83%bc%e3%80%91-5/
CATEGORIES:ZOOM,全国セミナー【一覧】
END:VEVENT
BEGIN:VEVENT
DTSTART;TZID=Asia/Tokyo:20250924T133000
DTEND;TZID=Asia/Tokyo:20250924T143000
DTSTAMP:20260422T211032
CREATED:20250827T085432Z
LAST-MODIFIED:20250827T085432Z
UID:5547-1758720600-1758724200@member.stolle.jp
SUMMARY:ZOOM【アカデミー＋】
DESCRIPTION:ミーティング ID: 878 7927 1033 \nZOOMアプリをダウンロード済みの方はこちらから⇒参加する \nZOOMアプリを持っていない方はこちらから⇒参加する
URL:https://member.stolle.jp/various_contents_top/event/zoom%e3%80%90%e3%82%a2%e3%82%ab%e3%83%87%e3%83%9f%e3%83%bc%ef%bc%8b%e3%80%91-12/
CATEGORIES:ZOOM
END:VEVENT
BEGIN:VEVENT
DTSTART;TZID=Asia/Tokyo:20251005T173000
DTEND;TZID=Asia/Tokyo:20251005T183000
DTSTAMP:20260422T211032
CREATED:20250919T022347Z
LAST-MODIFIED:20250924T080142Z
UID:5669-1759685400-1759689000@member.stolle.jp
SUMMARY:ZOOM【アカデミー＋】
DESCRIPTION:根っこワーク協会 \n野口　悦子 様と山上　マミ 様による配信です。 \nテーマ「感謝」・「健康」・「喜び」 \nミーティング ID: 885 9612 9535 \nZOOMアプリをダウンロード済みの方はこちらから⇒参加する \nZOOMアプリを持っていない方はこちらから⇒参加する
URL:https://member.stolle.jp/various_contents_top/event/zoom%e3%80%90%e3%82%a2%e3%82%ab%e3%83%87%e3%83%9f%e3%83%bc%ef%bc%8b%e3%80%91-13/
CATEGORIES:ZOOM
END:VEVENT
BEGIN:VEVENT
DTSTART;TZID=Asia/Tokyo:20251014T133000
DTEND;TZID=Asia/Tokyo:20251014T143000
DTSTAMP:20260422T211032
CREATED:20250924T080454Z
LAST-MODIFIED:20251008T050816Z
UID:5694-1760448600-1760452200@member.stolle.jp
SUMMARY:ZOOM【アカデミー＋】
DESCRIPTION:～～ゲスト回～～ \n浦谷　佳朋ダイヤモンドアドバイザーと大谷社長の対談です。 \nミーティング ID: 891 7562 3631 \nZOOMアプリをダウンロード済みの方はこちらから⇒参加する \nZOOMアプリを持っていない方はこちらから⇒参加する
URL:https://member.stolle.jp/various_contents_top/event/zoom%e3%80%90%e3%82%a2%e3%82%ab%e3%83%87%e3%83%9f%e3%83%bc%ef%bc%8b%e3%80%91-14/
CATEGORIES:ZOOM
END:VEVENT
BEGIN:VEVENT
DTSTART;TZID=Asia/Tokyo:20251023T133000
DTEND;TZID=Asia/Tokyo:20251023T143000
DTSTAMP:20260422T211032
CREATED:20250924T081456Z
LAST-MODIFIED:20250924T081456Z
UID:5696-1761226200-1761229800@member.stolle.jp
SUMMARY:ZOOM【アカデミー＋】
DESCRIPTION:ミーティング ID: 862 9608 0680 \nZOOMアプリをダウンロード済みの方はこちらから⇒参加する \nZOOMアプリを持っていない方はこちらから⇒参加する
URL:https://member.stolle.jp/various_contents_top/event/zoom%e3%80%90%e3%82%a2%e3%82%ab%e3%83%87%e3%83%9f%e3%83%bc%ef%bc%8b%e3%80%91-15/
CATEGORIES:ZOOM
END:VEVENT
BEGIN:VEVENT
DTSTART;TZID=Asia/Tokyo:20251029T133000
DTEND;TZID=Asia/Tokyo:20251029T143000
DTSTAMP:20260422T211032
CREATED:20250924T084900Z
LAST-MODIFIED:20250924T084900Z
UID:5698-1761744600-1761748200@member.stolle.jp
SUMMARY:ZOOM【アカデミー＋】
DESCRIPTION:ミーティング ID: 895 3294 4626 \nZOOMアプリをダウンロード済みの方はこちらから⇒参加する \nZOOMアプリを持っていない方はこちらから⇒参加する
URL:https://member.stolle.jp/various_contents_top/event/zoom%e3%80%90%e3%82%a2%e3%82%ab%e3%83%87%e3%83%9f%e3%83%bc%ef%bc%8b%e3%80%91-16/
CATEGORIES:ZOOM
END:VEVENT
BEGIN:VEVENT
DTSTART;TZID=Asia/Tokyo:20251112T133000
DTEND;TZID=Asia/Tokyo:20251112T143000
DTSTAMP:20260422T211032
CREATED:20251027T061300Z
LAST-MODIFIED:20251027T062645Z
UID:5844-1762954200-1762957800@member.stolle.jp
SUMMARY:ZOOM【アカデミー+】
DESCRIPTION:ミーティング ID: 858 2120 2971 \nZOOMアプリをダウンロード済みの方はこちらから⇒参加する\nZOOMアプリを持っていない方はこちらから⇒参加する\n 
URL:https://member.stolle.jp/various_contents_top/event/zoom%e3%80%90%e3%82%a2%e3%82%ab%e3%83%87%e3%83%9f%e3%83%bc%e3%80%91/
CATEGORIES:ZOOM
END:VEVENT
BEGIN:VEVENT
DTSTART;TZID=Asia/Tokyo:20251119T133000
DTEND;TZID=Asia/Tokyo:20251119T143000
DTSTAMP:20260422T211032
CREATED:20251027T061647Z
LAST-MODIFIED:20251117T082738Z
UID:5848-1763559000-1763562600@member.stolle.jp
SUMMARY:ZOOM【アカデミー+】
DESCRIPTION:～～ゲスト回～～ \n佐賀県で活動されている　スターリサファイヤ諸岡　和子さん×大谷社長　対談です \nミーティング ID: 823 2400 9361 \nZOOMアプリをダウンロード済みの方はこちらから⇒参加する\nZOOMアプリを持っていない方はこちらから⇒参加する\n 
URL:https://member.stolle.jp/various_contents_top/event/zoom%e3%80%90%e3%82%a2%e3%82%ab%e3%83%87%e3%83%9f%e3%83%bc%e3%80%91-2/
CATEGORIES:ZOOM
END:VEVENT
BEGIN:VEVENT
DTSTART;TZID=Asia/Tokyo:20251126T133000
DTEND;TZID=Asia/Tokyo:20251126T143000
DTSTAMP:20260422T211032
CREATED:20251027T061923Z
LAST-MODIFIED:20251027T062347Z
UID:5850-1764163800-1764167400@member.stolle.jp
SUMMARY:ZOOM【アカデミー+】
DESCRIPTION:ミーティング ID: 852 4500 7193 \nZOOMアプリをダウンロード済みの方はこちらから⇒参加する\nZOOMアプリを持っていない方はこちらから⇒参加する
URL:https://member.stolle.jp/various_contents_top/event/zoom%e3%80%90%e3%82%a2%e3%82%ab%e3%83%87%e3%83%9f%e3%83%bc%e3%80%91-3/
CATEGORIES:ZOOM
END:VEVENT
BEGIN:VEVENT
DTSTART;TZID=Asia/Tokyo:20251218T133000
DTEND;TZID=Asia/Tokyo:20251218T143000
DTSTAMP:20260422T211032
CREATED:20251204T051752Z
LAST-MODIFIED:20251212T010404Z
UID:6186-1766064600-1766068200@member.stolle.jp
SUMMARY:ZOOM【アカデミー+】
DESCRIPTION:17日から日程変更となりました。何卒ご了承くださいますようお願い申し上げます。 \n  \nミーティング ID: 822 4475 8998 \nZOOMアプリをダウンロード済みの方はこちらから⇒参加する\nZOOMアプリを持っていない方はこちらから⇒参加する
URL:https://member.stolle.jp/various_contents_top/event/zoom%e3%80%90%e3%82%a2%e3%82%ab%e3%83%87%e3%83%9f%e3%83%bc%e3%80%91-4/
CATEGORIES:ZOOM
END:VEVENT
BEGIN:VEVENT
DTSTART;TZID=Asia/Tokyo:20251225T133000
DTEND;TZID=Asia/Tokyo:20251225T143000
DTSTAMP:20260422T211032
CREATED:20251204T052304Z
LAST-MODIFIED:20251223T031236Z
UID:6189-1766669400-1766673000@member.stolle.jp
SUMMARY:ZOOM【アカデミー+】
DESCRIPTION:【ユニットリーダー対談】\n「後悔したくない。だから諦めずサステナを伝え続ける。」 \n12月25日(木)のアカデミー＋では、千葉県在住の ユニットリーダー・宮﨑 香子さん をゲストにお迎えしました。 \n宮﨑さんは2年間で3度も肺炎を患った経験から、26種類の抗体とその試験データに魅力を感じ、会員登録を決意されました。しかし、年金生活の中で「どうすればサステナを飲み続けられるのか」を真剣に考える日々が始まります。 \n何度断られても諦めずにサステナを伝え続けてこられたのは、楽しい仲間たちの存在、そして何より宮﨑さん自身のまっすぐな想いがあったから―――。 \n宮﨑さんの経験と想いに触れられる、心に残る対談です。\nぜひご視聴ください！ \n*=======*=======*======* \nミーティング ID:876 2772 4174 \nZOOMアプリをダウンロード済みの方はこちらから⇒参加する\nZOOMアプリを持っていない方はこちらから⇒参加する
URL:https://member.stolle.jp/various_contents_top/event/zoom%e3%80%90%e3%82%a2%e3%82%ab%e3%83%87%e3%83%9f%e3%83%bc%e3%80%91-5/
CATEGORIES:ZOOM
END:VEVENT
BEGIN:VEVENT
DTSTART;TZID=Asia/Tokyo:20260113T133000
DTEND;TZID=Asia/Tokyo:20260113T143000
DTSTAMP:20260422T211032
CREATED:20251225T063642Z
LAST-MODIFIED:20260107T051646Z
UID:6406-1768311000-1768314600@member.stolle.jp
SUMMARY:ZOOM【アカデミー+】
DESCRIPTION:誠に申し訳ございませんが、都合により1/8から1/13に日程変更をさせていただきます。 \nミーティング ID: 873 6273 1589 \nZOOMアプリをダウンロード済みの方はこちらから⇒参加する\nZOOMアプリを持っていない方はこちらから⇒参加する
URL:https://member.stolle.jp/various_contents_top/event/zoom%e3%80%90%e3%82%a2%e3%82%ab%e3%83%87%e3%83%9f%e3%83%bc%e3%80%91-6/
CATEGORIES:ZOOM
END:VEVENT
END:VCALENDAR