BEGIN:VCALENDAR
VERSION:2.0
PRODID:-//STOLLE CONTENTS - ECPv6.6.2//NONSGML v1.0//EN
CALSCALE:GREGORIAN
METHOD:PUBLISH
X-WR-CALNAME:STOLLE CONTENTS
X-ORIGINAL-URL:https://member.stolle.jp/various_contents_top
X-WR-CALDESC:STOLLE CONTENTS のイベント
REFRESH-INTERVAL;VALUE=DURATION:PT1H
X-Robots-Tag:noindex
X-PUBLISHED-TTL:PT1H
BEGIN:VTIMEZONE
TZID:Asia/Tokyo
BEGIN:STANDARD
TZOFFSETFROM:+0900
TZOFFSETTO:+0900
TZNAME:JST
DTSTART:20250101T000000
END:STANDARD
END:VTIMEZONE
BEGIN:VEVENT
DTSTART;TZID=Asia/Tokyo:20251213T133000
DTEND;TZID=Asia/Tokyo:20251213T153000
DTSTAMP:20260423T204115
CREATED:20250819T055031Z
LAST-MODIFIED:20251014T075821Z
UID:5480-1765632600-1765639800@member.stolle.jp
SUMMARY:★中止★佐賀県【サステナ健康セミナー】
DESCRIPTION:都合により中止となりました。何卒ご了承くださいますようお願い申し上げます。
URL:https://member.stolle.jp/various_contents_top/event/%e4%bd%90%e8%b3%80%e7%9c%8c%e3%80%90%e3%82%b5%e3%82%b9%e3%83%86%e3%83%8a%e5%81%a5%e5%ba%b7%e3%82%bb%e3%83%9f%e3%83%8a%e3%83%bc%e3%80%91-25/
LOCATION:唐津市民交流プラザ(第一会議室)\, 佐賀県唐津市南城内1-1 大手口センタービル3F
CATEGORIES:九州・沖縄セミナー,佐賀セミナー,全国セミナー【一覧】
END:VEVENT
BEGIN:VEVENT
DTSTART;TZID=Asia/Tokyo:20251222T133000
DTEND;TZID=Asia/Tokyo:20251222T153000
DTSTAMP:20260423T204115
CREATED:20251119T032843Z
LAST-MODIFIED:20251119T032843Z
UID:5988-1766410200-1766417400@member.stolle.jp
SUMMARY:佐賀県【サステナ健康セミナー】
DESCRIPTION:
URL:https://member.stolle.jp/various_contents_top/event/%e4%bd%90%e8%b3%80%e7%9c%8c%e3%80%90%e3%82%b5%e3%82%b9%e3%83%86%e3%83%8a%e5%81%a5%e5%ba%b7%e3%82%bb%e3%83%9f%e3%83%8a%e3%83%bc%e3%80%91-30/
LOCATION:メートプラザ(勤労福祉センター)\, 佐賀県佐賀市兵庫北3-8-40
CATEGORIES:九州・沖縄セミナー,佐賀セミナー,全国セミナー【一覧】
END:VEVENT
END:VCALENDAR