BEGIN:VCALENDAR
VERSION:2.0
PRODID:-//STOLLE CONTENTS - ECPv6.6.2//NONSGML v1.0//EN
CALSCALE:GREGORIAN
METHOD:PUBLISH
X-ORIGINAL-URL:https://member.stolle.jp/various_contents_top
X-WR-CALDESC:STOLLE CONTENTS のイベント
REFRESH-INTERVAL;VALUE=DURATION:PT1H
X-Robots-Tag:noindex
X-PUBLISHED-TTL:PT1H
BEGIN:VTIMEZONE
TZID:Asia/Tokyo
BEGIN:STANDARD
TZOFFSETFROM:+0900
TZOFFSETTO:+0900
TZNAME:JST
DTSTART:20250101T000000
END:STANDARD
END:VTIMEZONE
BEGIN:VEVENT
DTSTART;TZID=Asia/Tokyo:20250507T133000
DTEND;TZID=Asia/Tokyo:20250507T160000
DTSTAMP:20260424T074254
CREATED:20250422T052006Z
LAST-MODIFIED:20250422T053743Z
UID:4064-1746624600-1746633600@member.stolle.jp
SUMMARY:福岡県【サステナ健康セミナー】
DESCRIPTION:
URL:https://member.stolle.jp/various_contents_top/event/%e7%a6%8f%e5%b2%a1%e7%9c%8c%e3%80%90%e3%82%b5%e3%82%b9%e3%83%86%e3%83%8a%e5%81%a5%e5%ba%b7%e3%82%bb%e3%83%9f%e3%83%8a%e3%83%bc%e3%80%91-18/
LOCATION:飯塚穂波福祉総合センター\, 福岡県飯塚市枝国402-100
CATEGORIES:九州・沖縄セミナー,全国セミナー【一覧】,福岡セミナー
END:VEVENT
BEGIN:VEVENT
DTSTART;TZID=Asia/Tokyo:20250507T133000
DTEND;TZID=Asia/Tokyo:20250507T160000
DTSTAMP:20260424T074254
CREATED:20250506T091457Z
LAST-MODIFIED:20250506T091457Z
UID:4173-1746624600-1746633600@member.stolle.jp
SUMMARY:佐賀県【サステナ健康セミナー】
DESCRIPTION:
URL:https://member.stolle.jp/various_contents_top/event/%e4%bd%90%e8%b3%80%e7%9c%8c%e3%80%90%e3%82%b5%e3%82%b9%e3%83%86%e3%83%8a%e5%81%a5%e5%ba%b7%e3%82%bb%e3%83%9f%e3%83%8a%e3%83%bc%e3%80%91-12/
LOCATION:メートプラザ(勤労福祉センター)\, 佐賀県佐賀市兵庫北3-8-40
CATEGORIES:九州・沖縄セミナー,佐賀セミナー,全国セミナー【一覧】
END:VEVENT
BEGIN:VEVENT
DTSTART;TZID=Asia/Tokyo:20250509T133000
DTEND;TZID=Asia/Tokyo:20250509T153000
DTSTAMP:20260424T074254
CREATED:20250418T015203Z
LAST-MODIFIED:20250418T015203Z
UID:4031-1746797400-1746804600@member.stolle.jp
SUMMARY:佐賀県【サステナ健康セミナー】
DESCRIPTION:
URL:https://member.stolle.jp/various_contents_top/event/%e4%bd%90%e8%b3%80%e7%9c%8c%e3%80%90%e3%82%b5%e3%82%b9%e3%83%86%e3%83%8a%e5%81%a5%e5%ba%b7%e3%82%bb%e3%83%9f%e3%83%8a%e3%83%bc%e3%80%91-10/
LOCATION:唐津市民交流プラザ\, 佐賀県唐津市南城内1-1 大手口センタービル3F
CATEGORIES:九州・沖縄セミナー,佐賀セミナー,全国セミナー【一覧】
END:VEVENT
BEGIN:VEVENT
DTSTART;TZID=Asia/Tokyo:20250513T133000
DTEND;TZID=Asia/Tokyo:20250513T170000
DTSTAMP:20260424T074254
CREATED:20250307T082300Z
LAST-MODIFIED:20250307T082300Z
UID:3695-1747143000-1747155600@member.stolle.jp
SUMMARY:福岡県【サステナ健康セミナー】
DESCRIPTION:
URL:https://member.stolle.jp/various_contents_top/event/%e7%a6%8f%e5%b2%a1%e7%9c%8c%e3%80%90%e3%82%b5%e3%82%b9%e3%83%86%e3%83%8a%e5%81%a5%e5%ba%b7%e3%82%bb%e3%83%9f%e3%83%8a%e3%83%bc%e3%80%91-12/
LOCATION:なみきスクエア　視聴覚室\, 福岡県福岡市東区千早4-21-45
CATEGORIES:九州・沖縄セミナー,全国セミナー【一覧】,福岡セミナー
END:VEVENT
BEGIN:VEVENT
DTSTART;TZID=Asia/Tokyo:20250518T140000
DTEND;TZID=Asia/Tokyo:20250518T160000
DTSTAMP:20260424T074254
CREATED:20250508T084848Z
LAST-MODIFIED:20250513T025138Z
UID:4305-1747576800-1747584000@member.stolle.jp
SUMMARY:沖縄県【本社主催セミナー】
DESCRIPTION:開始時間が14時に変更となりました。
URL:https://member.stolle.jp/various_contents_top/event/%e6%b2%96%e7%b8%84%e7%9c%8c%e3%80%90%e6%9c%ac%e7%a4%be%e4%b8%bb%e5%82%ac%e3%82%bb%e3%83%9f%e3%83%8a%e3%83%bc%e3%80%91-4/
LOCATION:沖縄県男女共同参画センターてぃるる\, 沖縄県那覇市西3-11-1
CATEGORIES:九州・沖縄その他セミナー,九州・沖縄セミナー,全国セミナー【一覧】
END:VEVENT
BEGIN:VEVENT
DTSTART;TZID=Asia/Tokyo:20250519T133000
DTEND;TZID=Asia/Tokyo:20250519T160000
DTSTAMP:20260424T074254
CREATED:20250506T091802Z
LAST-MODIFIED:20250506T091802Z
UID:4175-1747661400-1747670400@member.stolle.jp
SUMMARY:佐賀県【サステナ健康セミナー】
DESCRIPTION:
URL:https://member.stolle.jp/various_contents_top/event/%e4%bd%90%e8%b3%80%e7%9c%8c%e3%80%90%e3%82%b5%e3%82%b9%e3%83%86%e3%83%8a%e5%81%a5%e5%ba%b7%e3%82%bb%e3%83%9f%e3%83%8a%e3%83%bc%e3%80%91-13/
LOCATION:メートプラザ(勤労福祉センター)\, 佐賀県佐賀市兵庫北3-8-40
CATEGORIES:九州・沖縄セミナー,佐賀セミナー,全国セミナー【一覧】
END:VEVENT
BEGIN:VEVENT
DTSTART;TZID=Asia/Tokyo:20250520T130000
DTEND;TZID=Asia/Tokyo:20250520T150000
DTSTAMP:20260424T074254
CREATED:20250321T081921Z
LAST-MODIFIED:20250321T094611Z
UID:3749-1747746000-1747753200@member.stolle.jp
SUMMARY:福岡県【サステナ健康セミナー】
DESCRIPTION:
URL:https://member.stolle.jp/various_contents_top/event/%e7%a6%8f%e5%b2%a1%e7%9c%8c%e3%80%90%e3%82%b5%e3%82%b9%e3%83%86%e3%83%8a%e5%81%a5%e5%ba%b7%e3%82%bb%e3%83%9f%e3%83%8a%e3%83%bc%e3%80%91-13/
LOCATION:ももち文化センター(会議室1）\, 福岡県福岡市早良区百道2-3-15
CATEGORIES:九州・沖縄セミナー,全国セミナー【一覧】,福岡セミナー
END:VEVENT
BEGIN:VEVENT
DTSTART;TZID=Asia/Tokyo:20250523T133000
DTEND;TZID=Asia/Tokyo:20250523T170000
DTSTAMP:20260424T074254
CREATED:20250403T052224Z
LAST-MODIFIED:20250521T090740Z
UID:3862-1748007000-1748019600@member.stolle.jp
SUMMARY:ロバート・ストーラー博士　来日記念公演会
DESCRIPTION:※大事なお知らせ※\n当日は9階の博多オフィスは控室として使用しておりますので、講演会終了の15時までご利用になれません。\n会員の皆様にはご不便をお掛けいたしますが、何卒ご了承くださいますようお願い申し上げます。 \n  \n◆スケジュール◆ \n13：00開場 \n13：30開演 \n15：30終了予定 \n15：30~17：00交流会（参加費無料）ドリンク&お茶菓子付き★
URL:https://member.stolle.jp/various_contents_top/event/%e3%83%ad%e3%83%90%e3%83%bc%e3%83%88%e3%83%bb%e3%82%b9%e3%83%88%e3%83%bc%e3%83%a9%e3%83%bc%e5%8d%9a%e5%a3%ab%e3%80%80%e6%9d%a5%e6%97%a5%e8%a8%98%e5%bf%b5%e5%85%ac%e6%bc%94%e4%bc%9a/
LOCATION:南近代ビル（1号室）\, 福岡県福岡市博多区博多駅南4-2-10　南近代ビル7階
CATEGORIES:福岡セミナー
END:VEVENT
BEGIN:VEVENT
DTSTART;TZID=Asia/Tokyo:20250527T130000
DTEND;TZID=Asia/Tokyo:20250527T160000
DTSTAMP:20260424T074254
CREATED:20250519T051705Z
LAST-MODIFIED:20250519T052028Z
UID:4415-1748350800-1748361600@member.stolle.jp
SUMMARY:福岡県【ワークショップ】
DESCRIPTION:◇お申込み方法◇ \n１．お電話で申し込む（092-409-2703） \n２．博多オフィスにて申し込む \n  \n※お申込み期限５月２３日(金)まで \n \n 
URL:https://member.stolle.jp/various_contents_top/event/%e7%a6%8f%e5%b2%a1%e7%9c%8c%e3%80%90%e3%83%af%e3%83%bc%e3%82%af%e3%82%b7%e3%83%a7%e3%83%83%e3%83%97%e3%80%91-3/
LOCATION:博多オフィス\, 福岡県福岡市博多区博多駅南4-2-10　南近代ビル9階
CATEGORIES:九州・沖縄セミナー,全国セミナー【一覧】,福岡セミナー
END:VEVENT
BEGIN:VEVENT
DTSTART;TZID=Asia/Tokyo:20250528T103000
DTEND;TZID=Asia/Tokyo:20250528T123000
DTSTAMP:20260424T074254
CREATED:20250430T013908Z
LAST-MODIFIED:20250430T013908Z
UID:4116-1748428200-1748435400@member.stolle.jp
SUMMARY:熊本県【サステナ健康セミナー】
DESCRIPTION:
URL:https://member.stolle.jp/various_contents_top/event/%e7%86%8a%e6%9c%ac%e7%9c%8c%e3%80%90%e3%82%b5%e3%82%b9%e3%83%86%e3%83%8a%e5%81%a5%e5%ba%b7%e3%82%bb%e3%83%9f%e3%83%8a%e3%83%bc%e3%80%91-4/
LOCATION:宇土中央公民館（多目的室）\, 熊本県宇土市新小路町96
CATEGORIES:九州・沖縄その他セミナー,九州・沖縄セミナー,全国セミナー【一覧】
END:VEVENT
BEGIN:VEVENT
DTSTART;TZID=Asia/Tokyo:20250530T130000
DTEND;TZID=Asia/Tokyo:20250530T170000
DTSTAMP:20260424T074254
CREATED:20250513T035316Z
LAST-MODIFIED:20250513T073314Z
UID:4317-1748610000-1748624400@member.stolle.jp
SUMMARY:福岡県【サステナ健康セミナー】
DESCRIPTION:
URL:https://member.stolle.jp/various_contents_top/event/%e7%a6%8f%e5%b2%a1%e7%9c%8c%e3%80%90%e3%82%b5%e3%82%b9%e3%83%86%e3%83%8a%e5%81%a5%e5%ba%b7%e3%82%bb%e3%83%9f%e3%83%8a%e3%83%bc%e3%80%91-19/
LOCATION:久留米地域地場産業振興センター\, 福岡県 久留米市 東合川 5-8-5
CATEGORIES:九州・沖縄セミナー,全国セミナー【一覧】,福岡セミナー
END:VEVENT
BEGIN:VEVENT
DTSTART;TZID=Asia/Tokyo:20250530T133000
DTEND;TZID=Asia/Tokyo:20250530T153000
DTSTAMP:20260424T074254
CREATED:20250513T072545Z
LAST-MODIFIED:20250513T072545Z
UID:4326-1748611800-1748619000@member.stolle.jp
SUMMARY:大分県【本社主催セミナー】
DESCRIPTION:
URL:https://member.stolle.jp/various_contents_top/event/%e5%a4%a7%e5%88%86%e7%9c%8c%e3%80%90%e6%9c%ac%e7%a4%be%e4%b8%bb%e5%82%ac%e3%82%bb%e3%83%9f%e3%83%8a%e3%83%bc%e3%80%91/
LOCATION:ホルトホール大分（3F301号室）\, 大分県大分市金池南一丁目5番1号
CATEGORIES:九州・沖縄その他セミナー,九州・沖縄セミナー,全国セミナー【一覧】
END:VEVENT
BEGIN:VEVENT
DTSTART;TZID=Asia/Tokyo:20250531T133000
DTEND;TZID=Asia/Tokyo:20250531T153000
DTSTAMP:20260424T074254
CREATED:20250422T051508Z
LAST-MODIFIED:20250422T051508Z
UID:4061-1748698200-1748705400@member.stolle.jp
SUMMARY:宮崎県【本社主催セミナー】
DESCRIPTION:
URL:https://member.stolle.jp/various_contents_top/event/%e5%ae%ae%e5%b4%8e%e7%9c%8c%e3%80%90%e6%9c%ac%e7%a4%be%e4%b8%bb%e5%82%ac%e3%82%bb%e3%83%9f%e3%83%8a%e3%83%bc%e3%80%91-6/
LOCATION:らいふのパン\, 宮崎県宮崎市大坪町大坪町倉ノ町4410-1
CATEGORIES:九州・沖縄セミナー,全国セミナー【一覧】,宮崎セミナー
END:VEVENT
END:VCALENDAR