BEGIN:VCALENDAR
VERSION:2.0
PRODID:-//STOLLE CONTENTS - ECPv6.6.2//NONSGML v1.0//EN
CALSCALE:GREGORIAN
METHOD:PUBLISH
X-WR-CALNAME:STOLLE CONTENTS
X-ORIGINAL-URL:https://member.stolle.jp/various_contents_top
X-WR-CALDESC:STOLLE CONTENTS のイベント
REFRESH-INTERVAL;VALUE=DURATION:PT1H
X-Robots-Tag:noindex
X-PUBLISHED-TTL:PT1H
BEGIN:VTIMEZONE
TZID:Asia/Tokyo
BEGIN:STANDARD
TZOFFSETFROM:+0900
TZOFFSETTO:+0900
TZNAME:JST
DTSTART:20260101T000000
END:STANDARD
END:VTIMEZONE
BEGIN:VEVENT
DTSTART;TZID=Asia/Tokyo:20260423T133000
DTEND;TZID=Asia/Tokyo:20260423T153000
DTSTAMP:20260422T004432
CREATED:20260402T072534Z
LAST-MODIFIED:20260402T093951Z
UID:6958-1776951000-1776958200@member.stolle.jp
SUMMARY:宮崎県【本社主催セミナー】
DESCRIPTION:11：30～12：30　サステナ健康セミナー \n12：30～13：30　ランチ（お弁当をご用意） \n13：45～15：15　歌の会 \n  \n※ご参加をご希望の場合にはご連絡ください。 \n※参加費：1\,000円
URL:https://member.stolle.jp/various_contents_top/event/%e5%ae%ae%e5%b4%8e%e7%9c%8c%e3%80%90%e6%9c%ac%e7%a4%be%e4%b8%bb%e5%82%ac%e3%82%bb%e3%83%9f%e3%83%8a%e3%83%bc%e3%80%91-2/
LOCATION:宮崎市民文化ホール\, 宮崎県宮崎市花山手東3丁目25-3
CATEGORIES:九州・沖縄セミナー,全国セミナー【一覧】,宮崎セミナー
END:VEVENT
BEGIN:VEVENT
DTSTART;TZID=Asia/Tokyo:20260424T130000
DTEND;TZID=Asia/Tokyo:20260424T150000
DTSTAMP:20260422T004432
CREATED:20260402T074122Z
LAST-MODIFIED:20260402T074122Z
UID:6963-1777035600-1777042800@member.stolle.jp
SUMMARY:福岡県【サステナ健康セミナー】
DESCRIPTION:
URL:https://member.stolle.jp/various_contents_top/event/%e7%a6%8f%e5%b2%a1%e7%9c%8c%e3%80%90%e3%82%b5%e3%82%b9%e3%83%86%e3%83%8a%e5%81%a5%e5%ba%b7%e3%82%bb%e3%83%9f%e3%83%8a%e3%83%bc%e3%80%91-6/
LOCATION:えきマチ1丁目香椎コミュニティルーム\, 福岡県福岡市東区香椎駅前1丁目11番1号
CATEGORIES:九州・沖縄セミナー,全国セミナー【一覧】,福岡セミナー
END:VEVENT
END:VCALENDAR