BEGIN:VCALENDAR
VERSION:2.0
PRODID:-//STOLLE CONTENTS - ECPv6.6.2//NONSGML v1.0//EN
CALSCALE:GREGORIAN
METHOD:PUBLISH
X-WR-CALNAME:STOLLE CONTENTS
X-ORIGINAL-URL:https://member.stolle.jp/various_contents_top
X-WR-CALDESC:STOLLE CONTENTS のイベント
REFRESH-INTERVAL;VALUE=DURATION:PT1H
X-Robots-Tag:noindex
X-PUBLISHED-TTL:PT1H
BEGIN:VTIMEZONE
TZID:Asia/Tokyo
BEGIN:STANDARD
TZOFFSETFROM:+0900
TZOFFSETTO:+0900
TZNAME:JST
DTSTART:20250101T000000
END:STANDARD
END:VTIMEZONE
BEGIN:VEVENT
DTSTART;TZID=Asia/Tokyo:20251028T103000
DTEND;TZID=Asia/Tokyo:20251028T123000
DTSTAMP:20260424T013117
CREATED:20251014T073723Z
LAST-MODIFIED:20251014T073723Z
UID:5796-1761647400-1761654600@member.stolle.jp
SUMMARY:福岡県【ワークショップ】
DESCRIPTION:参加費用は300円 \n◇お申込み方法◇ \n１．お電話で申し込む（092-409-2703） \n２．博多オフィスにて申し込む \n◇お申込み期限◇ \n10月24日(金)まで
URL:https://member.stolle.jp/various_contents_top/event/%e7%a6%8f%e5%b2%a1%e7%9c%8c%e3%80%90%e3%83%af%e3%83%bc%e3%82%af%e3%82%b7%e3%83%a7%e3%83%83%e3%83%97%e3%80%91-6/
LOCATION:博多オフィス\, 福岡県福岡市博多区博多駅南4-2-10　南近代ビル9階
CATEGORIES:九州・沖縄セミナー,全国セミナー【一覧】,福岡セミナー
END:VEVENT
BEGIN:VEVENT
DTSTART;TZID=Asia/Tokyo:20251028T133000
DTEND;TZID=Asia/Tokyo:20251028T153000
DTSTAMP:20260424T013117
CREATED:20251008T061919Z
LAST-MODIFIED:20251014T080604Z
UID:5781-1761658200-1761665400@member.stolle.jp
SUMMARY:福岡県【本社主催セミナー】
DESCRIPTION:★午前中にワークショップを開催いたします！ \n詳細はこちらをクリック→10月ワークショップ
URL:https://member.stolle.jp/various_contents_top/event/%e7%a6%8f%e5%b2%a1%e7%9c%8c%e3%80%90%e6%9c%ac%e7%a4%be%e4%b8%bb%e5%82%ac%e3%82%bb%e3%83%9f%e3%83%8a%e3%83%bc%e3%80%91-9/
LOCATION:南近代ビル（2F）\, 福岡県福岡市博多区博多駅南4-2-10　南近代ビル2階
CATEGORIES:九州・沖縄セミナー,全国セミナー【一覧】,福岡セミナー
END:VEVENT
END:VCALENDAR