BEGIN:VCALENDAR
VERSION:2.0
PRODID:-//STOLLE CONTENTS - ECPv6.6.2//NONSGML v1.0//EN
CALSCALE:GREGORIAN
METHOD:PUBLISH
X-ORIGINAL-URL:https://member.stolle.jp/various_contents_top
X-WR-CALDESC:STOLLE CONTENTS のイベント
REFRESH-INTERVAL;VALUE=DURATION:PT1H
X-Robots-Tag:noindex
X-PUBLISHED-TTL:PT1H
BEGIN:VTIMEZONE
TZID:Asia/Tokyo
BEGIN:STANDARD
TZOFFSETFROM:+0900
TZOFFSETTO:+0900
TZNAME:JST
DTSTART:20250101T000000
END:STANDARD
END:VTIMEZONE
BEGIN:VEVENT
DTSTART;TZID=Asia/Tokyo:20250826T133000
DTEND;TZID=Asia/Tokyo:20250826T153000
DTSTAMP:20260424T043741
CREATED:20250624T081723Z
LAST-MODIFIED:20250818T083243Z
UID:4872-1756215000-1756222200@member.stolle.jp
SUMMARY:福岡県【本社主催セミナー】
DESCRIPTION:博多ワークショップのお知らせ \n10：30~博多オフィスにてワークショップを行います！ \n参加費用は300円 \n◇お申込み方法◇ \n１．お電話で申し込む（092-409-2703） \n２．博多オフィスにて申し込む \n◇お申込み期限◇ \n8月22日(金)まで
URL:https://member.stolle.jp/various_contents_top/event/%e7%a6%8f%e5%b2%a1%e7%9c%8c%e3%80%90%e6%9c%ac%e7%a4%be%e4%b8%bb%e5%82%ac%e3%82%bb%e3%83%9f%e3%83%8a%e3%83%bc%e3%80%91-6/
LOCATION:南近代ビル（6号室）\, 福岡県福岡市博多区博多駅南4-2-10　南近代ビル7階
CATEGORIES:九州・沖縄セミナー,全国セミナー【一覧】,福岡セミナー
END:VEVENT
END:VCALENDAR