BEGIN:VCALENDAR
VERSION:2.0
PRODID:-//STOLLE CONTENTS - ECPv6.6.2//NONSGML v1.0//EN
CALSCALE:GREGORIAN
METHOD:PUBLISH
X-ORIGINAL-URL:https://member.stolle.jp/various_contents_top
X-WR-CALDESC:STOLLE CONTENTS のイベント
REFRESH-INTERVAL;VALUE=DURATION:PT1H
X-Robots-Tag:noindex
X-PUBLISHED-TTL:PT1H
BEGIN:VTIMEZONE
TZID:Asia/Tokyo
BEGIN:STANDARD
TZOFFSETFROM:+0900
TZOFFSETTO:+0900
TZNAME:JST
DTSTART:20250101T000000
END:STANDARD
END:VTIMEZONE
BEGIN:VEVENT
DTSTART;TZID=Asia/Tokyo:20260421T133000
DTEND;TZID=Asia/Tokyo:20260421T153000
DTSTAMP:20260421T183614
CREATED:20260327T063210Z
LAST-MODIFIED:20260327T063210Z
UID:6884-1776778200-1776785400@member.stolle.jp
SUMMARY:神奈川県【本社主催セミナー】
DESCRIPTION:
URL:https://member.stolle.jp/various_contents_top/event/%e7%a5%9e%e5%a5%88%e5%b7%9d%e7%9c%8c%e3%80%90%e6%9c%ac%e7%a4%be%e4%b8%bb%e5%82%ac%e3%82%bb%e3%83%9f%e3%83%8a%e3%83%bc%e3%80%91-2/
LOCATION:横浜市民フロア(そごう横浜店9F　Aルーム)\, 神奈川県横浜市西区高島2-18-1　横浜新都市ビル
CATEGORIES:全国セミナー【一覧】,神奈川セミナー,関東セミナー
END:VEVENT
BEGIN:VEVENT
DTSTART;TZID=Asia/Tokyo:20260414T133000
DTEND;TZID=Asia/Tokyo:20260414T153000
DTSTAMP:20260421T183614
CREATED:20260227T003257Z
LAST-MODIFIED:20260227T003257Z
UID:6732-1776173400-1776180600@member.stolle.jp
SUMMARY:千葉県【サステナ健康セミナー】
DESCRIPTION:
URL:https://member.stolle.jp/various_contents_top/event/%e5%8d%83%e8%91%89%e7%9c%8c%e3%80%90%e3%82%b5%e3%82%b9%e3%83%86%e3%83%8a%e5%81%a5%e5%ba%b7%e3%82%bb%e3%83%9f%e3%83%8a%e3%83%bc%e3%80%91-2/
LOCATION:千葉生涯学習センター\, 千葉県千葉市中央区弁天3-7-7
CATEGORIES:全国セミナー【一覧】,千葉セミナー,関東セミナー
END:VEVENT
BEGIN:VEVENT
DTSTART;TZID=Asia/Tokyo:20260409T133000
DTEND;TZID=Asia/Tokyo:20260409T160000
DTSTAMP:20260421T183614
CREATED:20260408T075104Z
LAST-MODIFIED:20260408T075104Z
UID:7013-1775741400-1775750400@member.stolle.jp
SUMMARY:神奈川県【サステナ健康セミナー】
DESCRIPTION:
URL:https://member.stolle.jp/various_contents_top/event/%e7%a5%9e%e5%a5%88%e5%b7%9d%e7%9c%8c%e3%80%90%e3%82%b5%e3%82%b9%e3%83%86%e3%83%8a%e5%81%a5%e5%ba%b7%e3%82%bb%e3%83%9f%e3%83%8a%e3%83%bc%e3%80%91-16/
LOCATION:ゆうゆう\, 神奈川県相模原市緑区城山1-8-12
CATEGORIES:全国セミナー【一覧】,神奈川セミナー,関東セミナー
END:VEVENT
BEGIN:VEVENT
DTSTART;TZID=Asia/Tokyo:20260331T133000
DTEND;TZID=Asia/Tokyo:20260331T153000
DTSTAMP:20260421T183614
CREATED:20260213T083231Z
LAST-MODIFIED:20260213T083231Z
UID:6698-1774963800-1774971000@member.stolle.jp
SUMMARY:神奈川県【サステナ健康セミナー】
DESCRIPTION:
URL:https://member.stolle.jp/various_contents_top/event/%e7%a5%9e%e5%a5%88%e5%b7%9d%e7%9c%8c%e3%80%90%e3%82%b5%e3%82%b9%e3%83%86%e3%83%8a%e5%81%a5%e5%ba%b7%e3%82%bb%e3%83%9f%e3%83%8a%e3%83%bc%e3%80%91-15/
LOCATION:横浜市民フロア(そごう横浜店9F　Aルーム)\, 神奈川県横浜市西区高島2-18-1　横浜新都市ビル
CATEGORIES:全国セミナー【一覧】,神奈川セミナー,関東セミナー
END:VEVENT
BEGIN:VEVENT
DTSTART;TZID=Asia/Tokyo:20260312T133000
DTEND;TZID=Asia/Tokyo:20260312T163000
DTSTAMP:20260421T183614
CREATED:20260305T082556Z
LAST-MODIFIED:20260305T082556Z
UID:6770-1773322200-1773333000@member.stolle.jp
SUMMARY:神奈川県【サステナ健康セミナー】
DESCRIPTION:
URL:https://member.stolle.jp/various_contents_top/event/%e7%a5%9e%e5%a5%88%e5%b7%9d%e7%9c%8c%e3%80%90%e3%82%b5%e3%82%b9%e3%83%86%e3%83%8a%e5%81%a5%e5%ba%b7%e3%82%bb%e3%83%9f%e3%83%8a%e3%83%bc%e3%80%91/
LOCATION:ゆうゆう\, 神奈川県相模原市緑区城山1-8-12
CATEGORIES:全国セミナー【一覧】,神奈川セミナー,関東セミナー
END:VEVENT
BEGIN:VEVENT
DTSTART;TZID=Asia/Tokyo:20260310T133000
DTEND;TZID=Asia/Tokyo:20260310T153000
DTSTAMP:20260421T183614
CREATED:20260227T001127Z
LAST-MODIFIED:20260227T001127Z
UID:6719-1773149400-1773156600@member.stolle.jp
SUMMARY:千葉県【サステナ健康セミナー】
DESCRIPTION:
URL:https://member.stolle.jp/various_contents_top/event/%e5%8d%83%e8%91%89%e7%9c%8c%e3%80%90%e3%82%b5%e3%82%b9%e3%83%86%e3%83%8a%e5%81%a5%e5%ba%b7%e3%82%bb%e3%83%9f%e3%83%8a%e3%83%bc%e3%80%91/
LOCATION:千葉生涯学習センター\, 千葉県千葉市中央区弁天3-7-7
CATEGORIES:全国セミナー【一覧】,千葉セミナー,関東セミナー
END:VEVENT
BEGIN:VEVENT
DTSTART;TZID=Asia/Tokyo:20260304T133000
DTEND;TZID=Asia/Tokyo:20260304T153000
DTSTAMP:20260421T183614
CREATED:20260126T075512Z
LAST-MODIFIED:20260226T101219Z
UID:6556-1772631000-1772638200@member.stolle.jp
SUMMARY:東京都【本社主催セミナー】
DESCRIPTION:プレミアムティーセット付き☕ \n※席に限りがございますので、参加人数をお知らせください。
URL:https://member.stolle.jp/various_contents_top/event/%e6%9d%b1%e4%ba%ac%e9%83%bd%e3%80%90%e6%9c%ac%e7%a4%be%e4%b8%bb%e5%82%ac%e3%82%bb%e3%83%9f%e3%83%8a%e3%83%bc%e3%80%91-4/
LOCATION:本社6階会議室\, 東京都渋谷区渋谷1-1-11青山SIビル6階
CATEGORIES:全国セミナー【一覧】,関東その他セミナー,関東セミナー
END:VEVENT
BEGIN:VEVENT
DTSTART;TZID=Asia/Tokyo:20260218T133000
DTEND;TZID=Asia/Tokyo:20260218T153000
DTSTAMP:20260421T183614
CREATED:20260126T064501Z
LAST-MODIFIED:20260126T064501Z
UID:6542-1771421400-1771428600@member.stolle.jp
SUMMARY:神奈川県【本社主催セミナー】
DESCRIPTION:
URL:https://member.stolle.jp/various_contents_top/event/%e7%a5%9e%e5%a5%88%e5%b7%9d%e7%9c%8c%e3%80%90%e6%9c%ac%e7%a4%be%e4%b8%bb%e5%82%ac%e3%82%bb%e3%83%9f%e3%83%8a%e3%83%bc%e3%80%91/
LOCATION:横浜市民フロア(そごう横浜店9F　Aルーム)\, 神奈川県横浜市西区高島2-18-1　横浜新都市ビル
CATEGORIES:全国セミナー【一覧】,神奈川セミナー,関東セミナー
END:VEVENT
BEGIN:VEVENT
DTSTART;TZID=Asia/Tokyo:20260216T133000
DTEND;TZID=Asia/Tokyo:20260216T160000
DTSTAMP:20260421T183614
CREATED:20260202T031706Z
LAST-MODIFIED:20260209T063940Z
UID:6584-1771248600-1771257600@member.stolle.jp
SUMMARY:神奈川県【サステナ健康セミナー】
DESCRIPTION:2/12→2/16に変更となりました。何卒ご了承くださいますようお願い申し上げます。
URL:https://member.stolle.jp/various_contents_top/event/%e7%a5%9e%e5%a5%88%e5%b7%9d%e7%9c%8c%e3%80%90%e3%82%b5%e3%82%b9%e3%83%86%e3%83%8a%e5%81%a5%e5%ba%b7%e3%82%bb%e3%83%9f%e3%83%8a%e3%83%bc%e3%80%91-14/
LOCATION:ゆうゆう\, 神奈川県相模原市緑区城山1-8-12
CATEGORIES:全国セミナー【一覧】,神奈川セミナー,関東セミナー
END:VEVENT
BEGIN:VEVENT
DTSTART;TZID=Asia/Tokyo:20260127T133000
DTEND;TZID=Asia/Tokyo:20260127T160000
DTSTAMP:20260421T183614
CREATED:20251126T035351Z
LAST-MODIFIED:20251126T035351Z
UID:6138-1769520600-1769529600@member.stolle.jp
SUMMARY:神奈川県【サステナ健康セミナー】
DESCRIPTION:
URL:https://member.stolle.jp/various_contents_top/event/%e7%a5%9e%e5%a5%88%e5%b7%9d%e7%9c%8c%e3%80%90%e3%82%b5%e3%82%b9%e3%83%86%e3%83%8a%e5%81%a5%e5%ba%b7%e3%82%bb%e3%83%9f%e3%83%8a%e3%83%bc%e3%80%91-11/
LOCATION:横浜市民フロア(そごう横浜店9F　Aルーム)\, 神奈川県横浜市西区高島2-18-1　横浜新都市ビル
CATEGORIES:全国セミナー【一覧】,神奈川セミナー,関東セミナー
END:VEVENT
BEGIN:VEVENT
DTSTART;TZID=Asia/Tokyo:20260109T133000
DTEND;TZID=Asia/Tokyo:20260109T163000
DTSTAMP:20260421T183614
CREATED:20260202T025050Z
LAST-MODIFIED:20260202T025050Z
UID:6572-1767965400-1767976200@member.stolle.jp
SUMMARY:神奈川県【サステナ健康セミナー】
DESCRIPTION:
URL:https://member.stolle.jp/various_contents_top/event/%e7%a5%9e%e5%a5%88%e5%b7%9d%e7%9c%8c%e3%80%90%e3%82%b5%e3%82%b9%e3%83%86%e3%83%8a%e5%81%a5%e5%ba%b7%e3%82%bb%e3%83%9f%e3%83%8a%e3%83%bc%e3%80%91-13/
LOCATION:ゆうゆう\, 神奈川県相模原市緑区城山1-8-12
CATEGORIES:全国セミナー【一覧】,神奈川セミナー,関東セミナー
END:VEVENT
BEGIN:VEVENT
DTSTART;TZID=Asia/Tokyo:20251223T133000
DTEND;TZID=Asia/Tokyo:20251223T153000
DTSTAMP:20260421T183614
CREATED:20251121T061830Z
LAST-MODIFIED:20251128T091110Z
UID:6002-1766496600-1766503800@member.stolle.jp
SUMMARY:神奈川県【サステナFANミーティング〜感謝の集い2025～】
DESCRIPTION:★お申込み期限：12月12日(金)まで★ \n参加費：おひとり500円（お茶菓子🍰とドリンク🥤付き） \n参加をご希望の方はカスタマーセンターへお申込みください。 \n代表の方よりまとめてのお申込みも可能です。 \nお申込み方法 \n1）お電話　0120-301-637 \n2）FAX　03-5466-3168 \n3）メール　sprt@stolle.jp
URL:https://member.stolle.jp/various_contents_top/event/%e7%a5%9e%e5%a5%88%e5%b7%9d%e7%9c%8c%e3%80%90%e3%82%b5%e3%82%b9%e3%83%86%e3%83%8afan%e3%83%9f%e3%83%bc%e3%83%86%e3%82%a3%e3%83%b3%e3%82%b0%e3%80%9c%e6%84%9f%e8%ac%9d%e3%81%ae%e9%9b%86%e3%81%842025/
LOCATION:横浜市民フロア(そごう横浜店9F　ACルーム)\, 神奈川県横浜市西区高島2-18-1　横浜新都市ビル
CATEGORIES:全国セミナー【一覧】,神奈川セミナー,関東セミナー
END:VEVENT
BEGIN:VEVENT
DTSTART;TZID=Asia/Tokyo:20251216T130000
DTEND;TZID=Asia/Tokyo:20251216T160000
DTSTAMP:20260421T183614
CREATED:20251208T073407Z
LAST-MODIFIED:20251208T073407Z
UID:6208-1765890000-1765900800@member.stolle.jp
SUMMARY:神奈川県【サステナ健康セミナー】
DESCRIPTION:
URL:https://member.stolle.jp/various_contents_top/event/%e7%a5%9e%e5%a5%88%e5%b7%9d%e7%9c%8c%e3%80%90%e3%82%b5%e3%82%b9%e3%83%86%e3%83%8a%e5%81%a5%e5%ba%b7%e3%82%bb%e3%83%9f%e3%83%8a%e3%83%bc%e3%80%91-12/
LOCATION:ゆうゆう\, 神奈川県相模原市緑区城山1-8-12
CATEGORIES:全国セミナー【一覧】,神奈川セミナー,関東セミナー
END:VEVENT
BEGIN:VEVENT
DTSTART;TZID=Asia/Tokyo:20251213T123000
DTEND;TZID=Asia/Tokyo:20251213T150000
DTSTAMP:20260421T183614
CREATED:20251121T055932Z
LAST-MODIFIED:20251121T064241Z
UID:5996-1765629000-1765638000@member.stolle.jp
SUMMARY:千葉県【サステナFANミーティング〜感謝の集い2025～】
DESCRIPTION:参加をご希望の方はカスタマーセンターへお申込みください。 \n代表の方よりまとめてのお申込みも可能です。 \nお申込み方法 \n1）お電話　0120-301-637 \n2）FAX　03-5466-3168 \n3）メール　sprt@stolle.jp \n  \n◇参加費用◇ \nおひとり3\,000円
URL:https://member.stolle.jp/various_contents_top/event/%e5%8d%83%e8%91%89%e7%9c%8c%e3%80%90%e3%82%b5%e3%82%b9%e3%83%86%e3%83%8afan%e3%83%9f%e3%83%bc%e3%83%86%e3%82%a3%e3%83%b3%e3%82%b0%e3%80%9c%e6%84%9f%e8%ac%9d%e3%81%ae%e9%9b%86%e3%81%842025%e3%80%91/
LOCATION:UE GARDEN RESORT(ユイガーデンリゾート)\, 千葉県東金市八坂台1-8-1
CATEGORIES:全国セミナー【一覧】,千葉セミナー,関東セミナー
END:VEVENT
BEGIN:VEVENT
DTSTART;TZID=Asia/Tokyo:20251111T133000
DTEND;TZID=Asia/Tokyo:20251111T153000
DTSTAMP:20260421T183614
CREATED:20251002T023710Z
LAST-MODIFIED:20251002T023710Z
UID:5748-1762867800-1762875000@member.stolle.jp
SUMMARY:神奈川県【サステナ健康セミナー】
DESCRIPTION:
URL:https://member.stolle.jp/various_contents_top/event/%e7%a5%9e%e5%a5%88%e5%b7%9d%e7%9c%8c%e3%80%90%e3%82%b5%e3%82%b9%e3%83%86%e3%83%8a%e5%81%a5%e5%ba%b7%e3%82%bb%e3%83%9f%e3%83%8a%e3%83%bc%e3%80%91-10/
LOCATION:横浜市民フロア(そごう横浜店9F　Aルーム)\, 神奈川県横浜市西区高島2-18-1　横浜新都市ビル
CATEGORIES:全国セミナー【一覧】,神奈川セミナー,関東セミナー
END:VEVENT
BEGIN:VEVENT
DTSTART;TZID=Asia/Tokyo:20251026T133000
DTEND;TZID=Asia/Tokyo:20251026T153000
DTSTAMP:20260421T183614
CREATED:20250321T093631Z
LAST-MODIFIED:20251015T055038Z
UID:3773-1761485400-1761492600@member.stolle.jp
SUMMARY:★中止★千葉県【サステナ健康セミナー】
DESCRIPTION:都合により本セミナーは中止となりました。何卒ご了承くださいますようお願い申し上げます。
URL:https://member.stolle.jp/various_contents_top/event/%e5%8d%83%e8%91%89%e7%9c%8c%e3%80%90%e3%82%b5%e3%82%b9%e3%83%86%e3%83%8a%e5%81%a5%e5%ba%b7%e3%82%bb%e3%83%9f%e3%83%8a%e3%83%bc%e3%80%91-9/
LOCATION:サンライズ九十九里\, 千葉県山武郡九十九里町真亀490
CATEGORIES:全国セミナー【一覧】,千葉セミナー,関東セミナー
END:VEVENT
BEGIN:VEVENT
DTSTART;TZID=Asia/Tokyo:20251007T133000
DTEND;TZID=Asia/Tokyo:20251007T153000
DTSTAMP:20260421T183614
CREATED:20250918T053101Z
LAST-MODIFIED:20250918T053101Z
UID:5660-1759843800-1759851000@member.stolle.jp
SUMMARY:神奈川県【本社主催セミナー】
DESCRIPTION:
URL:https://member.stolle.jp/various_contents_top/event/%e7%a5%9e%e5%a5%88%e5%b7%9d%e7%9c%8c%e3%80%90%e6%9c%ac%e7%a4%be%e4%b8%bb%e5%82%ac%e3%82%bb%e3%83%9f%e3%83%8a%e3%83%bc%e3%80%91-5/
LOCATION:横浜市民フロア(そごう横浜店9F　Aルーム)\, 神奈川県横浜市西区高島2-18-1　横浜新都市ビル
CATEGORIES:全国セミナー【一覧】,神奈川セミナー,関東セミナー
END:VEVENT
BEGIN:VEVENT
DTSTART;TZID=Asia/Tokyo:20251007T133000
DTEND;TZID=Asia/Tokyo:20251007T153000
DTSTAMP:20260421T183614
CREATED:20250507T021100Z
LAST-MODIFIED:20250507T021100Z
UID:4183-1759843800-1759851000@member.stolle.jp
SUMMARY:千葉県【サステナ健康セミナー】
DESCRIPTION:
URL:https://member.stolle.jp/various_contents_top/event/%e5%8d%83%e8%91%89%e7%9c%8c%e3%80%90%e3%82%b5%e3%82%b9%e3%83%86%e3%83%8a%e5%81%a5%e5%ba%b7%e3%82%bb%e3%83%9f%e3%83%8a%e3%83%bc%e3%80%91-12/
LOCATION:千葉生涯学習センター\, 千葉県千葉市中央区弁天3-7-7
CATEGORIES:全国セミナー【一覧】,千葉セミナー,関東セミナー
END:VEVENT
BEGIN:VEVENT
DTSTART;TZID=Asia/Tokyo:20250928T133000
DTEND;TZID=Asia/Tokyo:20250928T153000
DTSTAMP:20260421T183614
CREATED:20250321T093220Z
LAST-MODIFIED:20250723T082538Z
UID:3771-1759066200-1759073400@member.stolle.jp
SUMMARY:千葉県【本社主催セミナー】
DESCRIPTION:
URL:https://member.stolle.jp/various_contents_top/event/%e5%8d%83%e8%91%89%e7%9c%8c%e3%80%90%e3%82%b5%e3%82%b9%e3%83%86%e3%83%8a%e5%81%a5%e5%ba%b7%e3%82%bb%e3%83%9f%e3%83%8a%e3%83%bc%e3%80%91-8/
LOCATION:サンライズ九十九里\, 千葉県山武郡九十九里町真亀490
CATEGORIES:全国セミナー【一覧】,千葉セミナー,関東セミナー
END:VEVENT
BEGIN:VEVENT
DTSTART;TZID=Asia/Tokyo:20250914T133000
DTEND;TZID=Asia/Tokyo:20250914T153000
DTSTAMP:20260421T183614
CREATED:20250723T081022Z
LAST-MODIFIED:20250819T054319Z
UID:5081-1757856600-1757863800@member.stolle.jp
SUMMARY:千葉県【本社主催セミナー】
DESCRIPTION:
URL:https://member.stolle.jp/various_contents_top/event/%e5%8d%83%e8%91%89%e7%9c%8c%e3%80%90%e6%9c%ac%e7%a4%be%e4%b8%bb%e5%82%ac%e3%82%bb%e3%83%9f%e3%83%8a%e3%83%bc%e3%80%91-7/
LOCATION:かずさアカデミアパーク\, 千葉県木更津市かずさ鎌足２丁目３－９
CATEGORIES:全国セミナー【一覧】,千葉セミナー,関東セミナー
END:VEVENT
BEGIN:VEVENT
DTSTART;TZID=Asia/Tokyo:20250909T133000
DTEND;TZID=Asia/Tokyo:20250909T153000
DTSTAMP:20260421T183614
CREATED:20250805T084146Z
LAST-MODIFIED:20250805T084146Z
UID:5438-1757424600-1757431800@member.stolle.jp
SUMMARY:神奈川県【サステナ健康セミナー】
DESCRIPTION:
URL:https://member.stolle.jp/various_contents_top/event/%e7%a5%9e%e5%a5%88%e5%b7%9d%e7%9c%8c%e3%80%90%e3%82%b5%e3%82%b9%e3%83%86%e3%83%8a%e5%81%a5%e5%ba%b7%e3%82%bb%e3%83%9f%e3%83%8a%e3%83%bc%e3%80%91-9/
LOCATION:横浜市民フロア(そごう横浜店9F　Aルーム)\, 神奈川県横浜市西区高島2-18-1　横浜新都市ビル
CATEGORIES:全国セミナー【一覧】,神奈川セミナー,関東セミナー
END:VEVENT
BEGIN:VEVENT
DTSTART;TZID=Asia/Tokyo:20250826T133000
DTEND;TZID=Asia/Tokyo:20250826T160000
DTSTAMP:20260421T183614
CREATED:20250805T082802Z
LAST-MODIFIED:20250805T082802Z
UID:5429-1756215000-1756224000@member.stolle.jp
SUMMARY:神奈川県【サステナ健康セミナー】
DESCRIPTION:
URL:https://member.stolle.jp/various_contents_top/event/%e7%a5%9e%e5%a5%88%e5%b7%9d%e7%9c%8c%e3%80%90%e3%82%b5%e3%82%b9%e3%83%86%e3%83%8a%e5%81%a5%e5%ba%b7%e3%82%bb%e3%83%9f%e3%83%8a%e3%83%bc%e3%80%91-8/
LOCATION:ゆうゆう\, 神奈川県相模原市緑区城山1-8-12
CATEGORIES:全国セミナー【一覧】,神奈川セミナー,関東セミナー
END:VEVENT
BEGIN:VEVENT
DTSTART;TZID=Asia/Tokyo:20250824T133000
DTEND;TZID=Asia/Tokyo:20250824T153000
DTSTAMP:20260421T183614
CREATED:20250321T092925Z
LAST-MODIFIED:20250723T080211Z
UID:3769-1756042200-1756049400@member.stolle.jp
SUMMARY:千葉県【本社主催セミナー】
DESCRIPTION:
URL:https://member.stolle.jp/various_contents_top/event/%e5%8d%83%e8%91%89%e7%9c%8c%e3%80%90%e6%9c%ac%e7%a4%be%e4%b8%bb%e5%82%ac%e3%82%bb%e3%83%9f%e3%83%8a%e3%83%bc%e3%80%91-6/
LOCATION:サンライズ九十九里\, 千葉県山武郡九十九里町真亀490
CATEGORIES:全国セミナー【一覧】,千葉セミナー,関東セミナー
END:VEVENT
BEGIN:VEVENT
DTSTART;TZID=Asia/Tokyo:20250817T133000
DTEND;TZID=Asia/Tokyo:20250817T153000
DTSTAMP:20260421T183614
CREATED:20250723T080524Z
LAST-MODIFIED:20250723T080524Z
UID:5076-1755437400-1755444600@member.stolle.jp
SUMMARY:千葉県【サステナ健康セミナー】
DESCRIPTION:
URL:https://member.stolle.jp/various_contents_top/event/%e5%8d%83%e8%91%89%e7%9c%8c%e3%80%90%e3%82%b5%e3%82%b9%e3%83%86%e3%83%8a%e5%81%a5%e5%ba%b7%e3%82%bb%e3%83%9f%e3%83%8a%e3%83%bc%e3%80%91-13/
LOCATION:かずさアカデミアパーク\, 千葉県木更津市かずさ鎌足２丁目３－９
CATEGORIES:全国セミナー【一覧】,千葉セミナー,関東セミナー
END:VEVENT
BEGIN:VEVENT
DTSTART;TZID=Asia/Tokyo:20250805T133000
DTEND;TZID=Asia/Tokyo:20250805T153000
DTSTAMP:20260421T183614
CREATED:20250507T020214Z
LAST-MODIFIED:20250710T035727Z
UID:4181-1754400600-1754407800@member.stolle.jp
SUMMARY:千葉県【サステナ健康セミナー】
DESCRIPTION:★ご注意★ \nセミナー開始時間が変更となりました。 \n誤：12時30分～ \n正：13時30分～
URL:https://member.stolle.jp/various_contents_top/event/%e5%8d%83%e8%91%89%e7%9c%8c%e3%80%90%e3%82%b5%e3%82%b9%e3%83%86%e3%83%8a%e5%81%a5%e5%ba%b7%e3%82%bb%e3%83%9f%e3%83%8a%e3%83%bc%e3%80%91-11/
LOCATION:千葉生涯学習センター\, 千葉県千葉市中央区弁天3-7-7
CATEGORIES:全国セミナー【一覧】,千葉セミナー,関東セミナー
END:VEVENT
BEGIN:VEVENT
DTSTART;TZID=Asia/Tokyo:20250731T133000
DTEND;TZID=Asia/Tokyo:20250731T153000
DTSTAMP:20260421T183614
CREATED:20250624T075551Z
LAST-MODIFIED:20250624T075551Z
UID:4869-1753968600-1753975800@member.stolle.jp
SUMMARY:神奈川県【本社主催セミナー】
DESCRIPTION:
URL:https://member.stolle.jp/various_contents_top/event/%e7%a5%9e%e5%a5%88%e5%b7%9d%e7%9c%8c%e3%80%90%e6%9c%ac%e7%a4%be%e4%b8%bb%e5%82%ac%e3%82%bb%e3%83%9f%e3%83%8a%e3%83%bc%e3%80%91-4/
LOCATION:横浜市民フロア(そごう横浜店9F　Aルーム)\, 神奈川県横浜市西区高島2-18-1　横浜新都市ビル
CATEGORIES:全国セミナー【一覧】,神奈川セミナー,関東セミナー
END:VEVENT
BEGIN:VEVENT
DTSTART;TZID=Asia/Tokyo:20250729T133000
DTEND;TZID=Asia/Tokyo:20250729T160000
DTSTAMP:20260421T183614
CREATED:20250716T075949Z
LAST-MODIFIED:20250716T075949Z
UID:5040-1753795800-1753804800@member.stolle.jp
SUMMARY:神奈川県【サステナ健康セミナー】
DESCRIPTION:
URL:https://member.stolle.jp/various_contents_top/event/%e7%a5%9e%e5%a5%88%e5%b7%9d%e7%9c%8c%e3%80%90%e3%82%b5%e3%82%b9%e3%83%86%e3%83%8a%e5%81%a5%e5%ba%b7%e3%82%bb%e3%83%9f%e3%83%8a%e3%83%bc%e3%80%91-7/
LOCATION:ゆうゆう\, 神奈川県相模原市緑区城山1-8-12
CATEGORIES:全国セミナー【一覧】,神奈川セミナー,関東セミナー
END:VEVENT
BEGIN:VEVENT
DTSTART;TZID=Asia/Tokyo:20250727T133000
DTEND;TZID=Asia/Tokyo:20250727T153000
DTSTAMP:20260421T183614
CREATED:20250321T092617Z
LAST-MODIFIED:20250624T012952Z
UID:3767-1753623000-1753630200@member.stolle.jp
SUMMARY:中止★千葉県【サステナ健康セミナー】
DESCRIPTION:都合によりセミナー中止となりました。
URL:https://member.stolle.jp/various_contents_top/event/%e5%8d%83%e8%91%89%e7%9c%8c%e3%80%90%e3%82%b5%e3%82%b9%e3%83%86%e3%83%8a%e5%81%a5%e5%ba%b7%e3%82%bb%e3%83%9f%e3%83%8a%e3%83%bc%e3%80%91-7/
LOCATION:サンライズ九十九里\, 千葉県山武郡九十九里町真亀490
CATEGORIES:全国セミナー【一覧】,千葉セミナー,関東セミナー
END:VEVENT
BEGIN:VEVENT
DTSTART;TZID=Asia/Tokyo:20250622T133000
DTEND;TZID=Asia/Tokyo:20250622T153000
DTSTAMP:20260421T183614
CREATED:20250321T092103Z
LAST-MODIFIED:20250321T092103Z
UID:3765-1750599000-1750606200@member.stolle.jp
SUMMARY:千葉県【サステナ健康セミナー】
DESCRIPTION:
URL:https://member.stolle.jp/various_contents_top/event/%e5%8d%83%e8%91%89%e7%9c%8c%e3%80%90%e3%82%b5%e3%82%b9%e3%83%86%e3%83%8a%e5%81%a5%e5%ba%b7%e3%82%bb%e3%83%9f%e3%83%8a%e3%83%bc%e3%80%91-6/
LOCATION:サンライズ九十九里\, 千葉県山武郡九十九里町真亀490
CATEGORIES:全国セミナー【一覧】,千葉セミナー,関東セミナー
END:VEVENT
BEGIN:VEVENT
DTSTART;TZID=Asia/Tokyo:20250617T133000
DTEND;TZID=Asia/Tokyo:20250617T160000
DTSTAMP:20260421T183614
CREATED:20250507T015748Z
LAST-MODIFIED:20250507T033504Z
UID:4178-1750167000-1750176000@member.stolle.jp
SUMMARY:神奈川県【サステナ健康セミナー】
DESCRIPTION:
URL:https://member.stolle.jp/various_contents_top/event/%e7%a5%9e%e5%a5%88%e5%b7%9d%e7%9c%8c%e3%80%90%e3%82%b5%e3%82%b9%e3%83%86%e3%83%8a%e5%81%a5%e5%ba%b7%e3%82%bb%e3%83%9f%e3%83%8a%e3%83%bc%e3%80%91-4/
LOCATION:横浜市民フロア(そごう横浜店9F　Aルーム)\, 神奈川県横浜市西区高島2-18-1　横浜新都市ビル
CATEGORIES:全国セミナー【一覧】,神奈川セミナー,関東セミナー
END:VEVENT
END:VCALENDAR