BEGIN:VCALENDAR
VERSION:2.0
PRODID:-//STOLLE CONTENTS - ECPv6.6.2//NONSGML v1.0//EN
CALSCALE:GREGORIAN
METHOD:PUBLISH
X-ORIGINAL-URL:https://member.stolle.jp/various_contents_top
X-WR-CALDESC:STOLLE CONTENTS のイベント
REFRESH-INTERVAL;VALUE=DURATION:PT1H
X-Robots-Tag:noindex
X-PUBLISHED-TTL:PT1H
BEGIN:VTIMEZONE
TZID:Asia/Tokyo
BEGIN:STANDARD
TZOFFSETFROM:+0900
TZOFFSETTO:+0900
TZNAME:JST
DTSTART:20250101T000000
END:STANDARD
END:VTIMEZONE
BEGIN:VEVENT
DTSTART;TZID=Asia/Tokyo:20251124T133000
DTEND;TZID=Asia/Tokyo:20251124T153000
DTSTAMP:20260424T061727
CREATED:20251114T073704Z
LAST-MODIFIED:20251114T073704Z
UID:5915-1763991000-1763998200@member.stolle.jp
SUMMARY:福井県【サステナ健康セミナー】
DESCRIPTION:
URL:https://member.stolle.jp/various_contents_top/event/%e7%a6%8f%e4%ba%95%e7%9c%8c%e3%80%90%e3%82%b5%e3%82%b9%e3%83%86%e3%83%8a%e5%81%a5%e5%ba%b7%e3%82%bb%e3%83%9f%e3%83%8a%e3%83%bc%e3%80%91-3/
LOCATION:ふくい産業支援センター\, 福井県坂井市丸岡町熊堂3-7-1-16
CATEGORIES:中部・北陸セミナー,全国セミナー【一覧】
END:VEVENT
END:VCALENDAR