BEGIN:VCALENDAR
VERSION:2.0
PRODID:-//STOLLE CONTENTS - ECPv6.6.2//NONSGML v1.0//EN
CALSCALE:GREGORIAN
METHOD:PUBLISH
X-ORIGINAL-URL:https://member.stolle.jp/various_contents_top
X-WR-CALDESC:STOLLE CONTENTS のイベント
REFRESH-INTERVAL;VALUE=DURATION:PT1H
X-Robots-Tag:noindex
X-PUBLISHED-TTL:PT1H
BEGIN:VTIMEZONE
TZID:Asia/Tokyo
BEGIN:STANDARD
TZOFFSETFROM:+0900
TZOFFSETTO:+0900
TZNAME:JST
DTSTART:20260101T000000
END:STANDARD
END:VTIMEZONE
BEGIN:VEVENT
DTSTART;TZID=Asia/Tokyo:20260509T133000
DTEND;TZID=Asia/Tokyo:20260509T153000
DTSTAMP:20260424T225352
CREATED:20260424T074009Z
LAST-MODIFIED:20260424T074009Z
UID:7152-1778333400-1778340600@member.stolle.jp
SUMMARY:福井県【サステナ健康セミナー】
DESCRIPTION:
URL:https://member.stolle.jp/various_contents_top/event/%e7%a6%8f%e4%ba%95%e7%9c%8c%e3%80%90%e3%82%b5%e3%82%b9%e3%83%86%e3%83%8a%e5%81%a5%e5%ba%b7%e3%82%bb%e3%83%9f%e3%83%8a%e3%83%bc%e3%80%91/
LOCATION:ふくい産業支援センター\, 福井県坂井市丸岡町熊堂3-7-1-16
CATEGORIES:中部・北陸セミナー,全国セミナー【一覧】
END:VEVENT
BEGIN:VEVENT
DTSTART;TZID=Asia/Tokyo:20260511T133000
DTEND;TZID=Asia/Tokyo:20260511T153000
DTSTAMP:20260424T225352
CREATED:20260327T063434Z
LAST-MODIFIED:20260327T063434Z
UID:6886-1778506200-1778513400@member.stolle.jp
SUMMARY:長野県【本社主催セミナー】
DESCRIPTION:
URL:https://member.stolle.jp/various_contents_top/event/%e9%95%b7%e9%87%8e%e7%9c%8c%e3%80%90%e6%9c%ac%e7%a4%be%e4%b8%bb%e5%82%ac%e3%82%bb%e3%83%9f%e3%83%8a%e3%83%bc%e3%80%91-3/
LOCATION:マリオローヤル会館\, 長野県茅野市ちの3502-1 ベルビア 3階
CATEGORIES:中部・北陸セミナー,全国セミナー【一覧】
END:VEVENT
END:VCALENDAR