BEGIN:VCALENDAR
VERSION:2.0
PRODID:-//STOLLE CONTENTS - ECPv6.6.2//NONSGML v1.0//EN
CALSCALE:GREGORIAN
METHOD:PUBLISH
X-ORIGINAL-URL:https://member.stolle.jp/various_contents_top
X-WR-CALDESC:STOLLE CONTENTS のイベント
REFRESH-INTERVAL;VALUE=DURATION:PT1H
X-Robots-Tag:noindex
X-PUBLISHED-TTL:PT1H
BEGIN:VTIMEZONE
TZID:Asia/Tokyo
BEGIN:STANDARD
TZOFFSETFROM:+0900
TZOFFSETTO:+0900
TZNAME:JST
DTSTART:20250101T000000
END:STANDARD
END:VTIMEZONE
BEGIN:VEVENT
DTSTART;TZID=Asia/Tokyo:20250503T133000
DTEND;TZID=Asia/Tokyo:20250503T153000
DTSTAMP:20260422T164232
CREATED:20250321T082356Z
LAST-MODIFIED:20250321T094532Z
UID:3751-1746279000-1746286200@member.stolle.jp
SUMMARY:千葉県【サステナ健康セミナー】
DESCRIPTION:
URL:https://member.stolle.jp/various_contents_top/event/%e5%8d%83%e8%91%89%e7%9c%8c%e3%80%90%e6%9c%ac%e7%a4%be%e4%b8%bb%e5%82%ac%e3%82%bb%e3%83%9f%e3%83%8a%e3%83%bc%e3%80%91-4/
LOCATION:かずさアカデミアパーク\, 千葉県木更津市かずさ鎌足２丁目３－９
CATEGORIES:全国セミナー【一覧】,千葉セミナー,関東セミナー
END:VEVENT
BEGIN:VEVENT
DTSTART;TZID=Asia/Tokyo:20250427T133000
DTEND;TZID=Asia/Tokyo:20250427T153000
DTSTAMP:20260422T164232
CREATED:20250321T091814Z
LAST-MODIFIED:20250321T091814Z
UID:3763-1745760600-1745767800@member.stolle.jp
SUMMARY:千葉県【サステナ健康セミナー】
DESCRIPTION:
URL:https://member.stolle.jp/various_contents_top/event/%e5%8d%83%e8%91%89%e7%9c%8c%e3%80%90%e3%82%b5%e3%82%b9%e3%83%86%e3%83%8a%e5%81%a5%e5%ba%b7%e3%82%bb%e3%83%9f%e3%83%8a%e3%83%bc%e3%80%91-5/
LOCATION:サンライズ九十九里\, 千葉県山武郡九十九里町真亀490
CATEGORIES:全国セミナー【一覧】,千葉セミナー,関東セミナー
END:VEVENT
BEGIN:VEVENT
DTSTART;TZID=Asia/Tokyo:20250427T110000
DTEND;TZID=Asia/Tokyo:20250427T153000
DTSTAMP:20260422T164232
CREATED:20250313T064327Z
LAST-MODIFIED:20250409T021513Z
UID:3714-1745751600-1745767800@member.stolle.jp
SUMMARY:福岡県【本社主催セミナー】
DESCRIPTION:セミナーの日程が変更になりましたので、更新しました。 \n11：00～12：00ランクアップミーティング（ZOOM配信はございません） \n13：30～15：30サステナ健康セミナー \n 
URL:https://member.stolle.jp/various_contents_top/event/%e7%a6%8f%e5%b2%a1%e7%9c%8c%e3%80%90%e6%9c%ac%e7%a4%be%e4%b8%bb%e5%82%ac%e3%82%bb%e3%83%9f%e3%83%8a%e3%83%bc%e3%80%91-4/
LOCATION:南近代ビル（6号室）\, 福岡県福岡市博多区博多駅南4-2-10　南近代ビル7階
CATEGORIES:九州・沖縄セミナー,全国セミナー【一覧】,福岡セミナー
END:VEVENT
BEGIN:VEVENT
DTSTART;TZID=Asia/Tokyo:20250427T103000
DTEND;TZID=Asia/Tokyo:20250427T130000
DTSTAMP:20260422T164232
CREATED:20250402T072005Z
LAST-MODIFIED:20250402T072005Z
UID:3851-1745749800-1745758800@member.stolle.jp
SUMMARY:宮城県【サステナ健康セミナー】
DESCRIPTION:
URL:https://member.stolle.jp/various_contents_top/event/%e5%ae%ae%e5%9f%8e%e7%9c%8c%e3%80%90%e3%82%b5%e3%82%b9%e3%83%86%e3%83%8a%e5%81%a5%e5%ba%b7%e3%82%bb%e3%83%9f%e3%83%8a%e3%83%bc%e3%80%91-7/
LOCATION:南三陸まなびの里いりやど\, 宮城県本吉郡南三陸町入谷字鏡石5番3
CATEGORIES:全国セミナー【一覧】,北海道・東北セミナー
END:VEVENT
BEGIN:VEVENT
DTSTART;TZID=Asia/Tokyo:20250426T133000
DTEND;TZID=Asia/Tokyo:20250426T153000
DTSTAMP:20260422T164232
CREATED:20250328T081723Z
LAST-MODIFIED:20250408T071708Z
UID:3827-1745674200-1745681400@member.stolle.jp
SUMMARY:宮崎県【本社主催セミナー】
DESCRIPTION:日時が変更となりましたので、更新しました。
URL:https://member.stolle.jp/various_contents_top/event/%e5%ae%ae%e5%b4%8e%e7%9c%8c%e3%80%90%e6%9c%ac%e7%a4%be%e4%b8%bb%e5%82%ac%e3%82%bb%e3%83%9f%e3%83%8a%e3%83%bc%e3%80%91-5/
LOCATION:らいふのパン\, 宮崎県宮崎市大坪町大坪町倉ノ町4410-1
CATEGORIES:九州・沖縄セミナー,全国セミナー【一覧】,宮崎セミナー
END:VEVENT
BEGIN:VEVENT
DTSTART;TZID=Asia/Tokyo:20250426T090000
DTEND;TZID=Asia/Tokyo:20250426T160000
DTSTAMP:20260422T164232
CREATED:20250415T075927Z
LAST-MODIFIED:20250415T075927Z
UID:4009-1745658000-1745683200@member.stolle.jp
SUMMARY:長野県【サステナ健康セミナー】
DESCRIPTION:
URL:https://member.stolle.jp/various_contents_top/event/%e9%95%b7%e9%87%8e%e7%9c%8c%e3%80%90%e3%82%b5%e3%82%b9%e3%83%86%e3%83%8a%e5%81%a5%e5%ba%b7%e3%82%bb%e3%83%9f%e3%83%8a%e3%83%bc%e3%80%91-2/
LOCATION:諏訪市四賀公民館\, 長野県諏訪市大字四賀桑原804-3\, 日本
CATEGORIES:中部・北陸セミナー,全国セミナー【一覧】
END:VEVENT
BEGIN:VEVENT
DTSTART;TZID=Asia/Tokyo:20250425T133000
DTEND;TZID=Asia/Tokyo:20250425T170000
DTSTAMP:20260422T164232
CREATED:20250410T074309Z
LAST-MODIFIED:20250410T074309Z
UID:3989-1745587800-1745600400@member.stolle.jp
SUMMARY:福岡県【サステナ健康セミナー】
DESCRIPTION:
URL:https://member.stolle.jp/various_contents_top/event/%e7%a6%8f%e5%b2%a1%e7%9c%8c%e3%80%90%e3%82%b5%e3%82%b9%e3%83%86%e3%83%8a%e5%81%a5%e5%ba%b7%e3%82%bb%e3%83%9f%e3%83%8a%e3%83%bc%e3%80%91-15/
LOCATION:久留米地域地場産業振興センター\, 福岡県 久留米市 東合川 5-8-5
CATEGORIES:九州・沖縄セミナー,全国セミナー【一覧】,福岡セミナー
END:VEVENT
END:VCALENDAR