BEGIN:VCALENDAR
VERSION:2.0
PRODID:-//STOLLE CONTENTS - ECPv6.6.2//NONSGML v1.0//EN
CALSCALE:GREGORIAN
METHOD:PUBLISH
X-ORIGINAL-URL:https://member.stolle.jp/various_contents_top
X-WR-CALDESC:STOLLE CONTENTS のイベント
REFRESH-INTERVAL;VALUE=DURATION:PT1H
X-Robots-Tag:noindex
X-PUBLISHED-TTL:PT1H
BEGIN:VTIMEZONE
TZID:Asia/Tokyo
BEGIN:STANDARD
TZOFFSETFROM:+0900
TZOFFSETTO:+0900
TZNAME:JST
DTSTART:20250101T000000
END:STANDARD
END:VTIMEZONE
BEGIN:VEVENT
DTSTART;TZID=Asia/Tokyo:20250722T133000
DTEND;TZID=Asia/Tokyo:20250722T153000
DTSTAMP:20260422T151301
CREATED:20250627T095331Z
LAST-MODIFIED:20250627T095331Z
UID:4952-1753191000-1753198200@member.stolle.jp
SUMMARY:佐賀県【サステナ健康セミナー】
DESCRIPTION:
URL:https://member.stolle.jp/various_contents_top/event/%e4%bd%90%e8%b3%80%e7%9c%8c%e3%80%90%e3%82%b5%e3%82%b9%e3%83%86%e3%83%8a%e5%81%a5%e5%ba%b7%e3%82%bb%e3%83%9f%e3%83%8a%e3%83%bc%e3%80%91-17/
LOCATION:メートプラザ(勤労福祉センター)\, 佐賀県佐賀市兵庫北3-8-40
CATEGORIES:九州・沖縄セミナー,佐賀セミナー,全国セミナー【一覧】
END:VEVENT
BEGIN:VEVENT
DTSTART;TZID=Asia/Tokyo:20250720T133000
DTEND;TZID=Asia/Tokyo:20250720T153000
DTSTAMP:20260422T151301
CREATED:20250708T051320Z
LAST-MODIFIED:20250708T051320Z
UID:4992-1753018200-1753025400@member.stolle.jp
SUMMARY:宮城県【サステナ健康セミナー】
DESCRIPTION:
URL:https://member.stolle.jp/various_contents_top/event/%e5%ae%ae%e5%9f%8e%e7%9c%8c%e3%80%90%e3%82%b5%e3%82%b9%e3%83%86%e3%83%8a%e5%81%a5%e5%ba%b7%e3%82%bb%e3%83%9f%e3%83%8a%e3%83%bc%e3%80%91-13/
LOCATION:スタジオサンモール5階\, 宮城県仙台市青葉区一番町２－５－５
CATEGORIES:全国セミナー【一覧】,北海道・東北セミナー
END:VEVENT
BEGIN:VEVENT
DTSTART;TZID=Asia/Tokyo:20250715T170000
DTEND;TZID=Asia/Tokyo:20250715T190000
DTSTAMP:20260422T151301
CREATED:20250620T055031Z
LAST-MODIFIED:20250708T052620Z
UID:4811-1752598800-1752606000@member.stolle.jp
SUMMARY:沖縄県【本社主催セミナー】
DESCRIPTION:
URL:https://member.stolle.jp/various_contents_top/event/%e6%b2%96%e7%b8%84%e7%9c%8c%e3%80%90%e6%9c%ac%e7%a4%be%e4%b8%bb%e5%82%ac%e3%82%bb%e3%83%9f%e3%83%8a%e3%83%bc%e3%80%91-5/
LOCATION:てぃるる（３階研修室１）\, 沖縄県那覇市西3-11-1
CATEGORIES:九州・沖縄その他セミナー,九州・沖縄セミナー,全国セミナー【一覧】
END:VEVENT
BEGIN:VEVENT
DTSTART;TZID=Asia/Tokyo:20250709T133000
DTEND;TZID=Asia/Tokyo:20250709T163000
DTSTAMP:20260422T151301
CREATED:20250520T070016Z
LAST-MODIFIED:20250520T070016Z
UID:4427-1752067800-1752078600@member.stolle.jp
SUMMARY:大阪府【サステナ健康セミナー】
DESCRIPTION:
URL:https://member.stolle.jp/various_contents_top/event/%e5%a4%a7%e9%98%aa%e5%ba%9c%e3%80%90%e3%82%b5%e3%82%b9%e3%83%86%e3%83%8a%e5%81%a5%e5%ba%b7%e3%82%bb%e3%83%9f%e3%83%8a%e3%83%bc%e3%80%91-7/
LOCATION:NLC新大阪8号館9階　902号室\, 大阪府大阪市掟川区西中島3-9-13
CATEGORIES:全国セミナー【一覧】,関西セミナー
END:VEVENT
BEGIN:VEVENT
DTSTART;TZID=Asia/Tokyo:20250708T133000
DTEND;TZID=Asia/Tokyo:20250708T170000
DTSTAMP:20260422T151301
CREATED:20250514T011321Z
LAST-MODIFIED:20250514T011321Z
UID:4336-1751981400-1751994000@member.stolle.jp
SUMMARY:福岡県【サステナ健康セミナー】
DESCRIPTION:
URL:https://member.stolle.jp/various_contents_top/event/%e7%a6%8f%e5%b2%a1%e7%9c%8c%e3%80%90%e3%82%b5%e3%82%b9%e3%83%86%e3%83%8a%e5%81%a5%e5%ba%b7%e3%82%bb%e3%83%9f%e3%83%8a%e3%83%bc%e3%80%91-20/
LOCATION:なみきスクエア　視聴覚室\, 福岡県福岡市東区千早4-21-45
CATEGORIES:九州・沖縄セミナー,全国セミナー【一覧】,福岡セミナー
END:VEVENT
BEGIN:VEVENT
DTSTART;TZID=Asia/Tokyo:20250708T133000
DTEND;TZID=Asia/Tokyo:20250708T153000
DTSTAMP:20260422T151301
CREATED:20250627T095052Z
LAST-MODIFIED:20250627T095052Z
UID:4949-1751981400-1751988600@member.stolle.jp
SUMMARY:佐賀【サステナ健康セミナー】
DESCRIPTION:
URL:https://member.stolle.jp/various_contents_top/event/%e4%bd%90%e8%b3%80%e3%80%90%e3%82%b5%e3%82%b9%e3%83%86%e3%83%8a%e5%81%a5%e5%ba%b7%e3%82%bb%e3%83%9f%e3%83%8a%e3%83%bc%e3%80%91/
LOCATION:メートプラザ(勤労福祉センター)\, 佐賀県佐賀市兵庫北3-8-40
CATEGORIES:九州・沖縄セミナー,佐賀セミナー,全国セミナー【一覧】
END:VEVENT
BEGIN:VEVENT
DTSTART;TZID=Asia/Tokyo:20250708T133000
DTEND;TZID=Asia/Tokyo:20250708T153000
DTSTAMP:20260422T151301
CREATED:20250613T071541Z
LAST-MODIFIED:20250613T071541Z
UID:4584-1751981400-1751988600@member.stolle.jp
SUMMARY:佐賀県【サステナ健康セミナー】
DESCRIPTION:
URL:https://member.stolle.jp/various_contents_top/event/%e4%bd%90%e8%b3%80%e7%9c%8c%e3%80%90%e3%82%b5%e3%82%b9%e3%83%86%e3%83%8a%e5%81%a5%e5%ba%b7%e3%82%bb%e3%83%9f%e3%83%8a%e3%83%bc%e3%80%91-16/
LOCATION:唐津市民交流プラザ\, 佐賀県唐津市南城内1-1 大手口センタービル3F
CATEGORIES:九州・沖縄セミナー,佐賀セミナー,全国セミナー【一覧】
END:VEVENT
BEGIN:VEVENT
DTSTART;TZID=Asia/Tokyo:20250705T113000
DTEND;TZID=Asia/Tokyo:20250705T133000
DTSTAMP:20260422T151301
CREATED:20250610T055417Z
LAST-MODIFIED:20250623T063430Z
UID:4558-1751715000-1751722200@member.stolle.jp
SUMMARY:福岡県【オープンセミナー】
DESCRIPTION:参加をご希望の方はカスタマーへ参加申し込みをお願いいたします。 \n電話番号：0120-301-637　/　FAX：03-5466-3168　/　メール：sprt@stolle.jp \nまたは、こちらのフォームよりお申込みください。⇒参加申込フォーム
URL:https://member.stolle.jp/various_contents_top/event/%e7%a6%8f%e5%b2%a1%e7%9c%8c%e3%80%90%e3%82%aa%e3%83%bc%e3%83%97%e3%83%b3%e3%82%bb%e3%83%9f%e3%83%8a%e3%83%bc%e3%80%91/
LOCATION:アクロス福岡　605会議室(6F)\, 福岡県福岡市中央区天神1-1-1
CATEGORIES:九州・沖縄セミナー,全国セミナー【一覧】,福岡セミナー
END:VEVENT
BEGIN:VEVENT
DTSTART;TZID=Asia/Tokyo:20250702T100000
DTEND;TZID=Asia/Tokyo:20250702T120000
DTSTAMP:20260422T151301
CREATED:20250624T013346Z
LAST-MODIFIED:20250624T013424Z
UID:4861-1751450400-1751457600@member.stolle.jp
SUMMARY:熊本県【サステナ健康セミナー】
DESCRIPTION:
URL:https://member.stolle.jp/various_contents_top/event/%e7%86%8a%e6%9c%ac%e7%9c%8c%e3%80%90%e3%82%b5%e3%82%b9%e3%83%86%e3%83%8a%e5%81%a5%e5%ba%b7%e3%82%bb%e3%83%9f%e3%83%8a%e3%83%bc%e3%80%91-5/
LOCATION:宇土中央公民館（多目的室）\, 熊本県宇土市新小路町96
CATEGORIES:九州・沖縄その他セミナー,九州・沖縄セミナー,全国セミナー【一覧】
END:VEVENT
BEGIN:VEVENT
DTSTART;TZID=Asia/Tokyo:20250624T133000
DTEND;TZID=Asia/Tokyo:20250624T160000
DTSTAMP:20260422T151301
CREATED:20250613T071145Z
LAST-MODIFIED:20250616T013117Z
UID:4580-1750771800-1750780800@member.stolle.jp
SUMMARY:福岡県【サステナ健康セミナー】
DESCRIPTION:
URL:https://member.stolle.jp/various_contents_top/event/%e7%a6%8f%e5%b2%a1%e7%9c%8c%e3%80%90%e3%82%b5%e3%82%b9%e3%83%86%e3%83%8a%e5%81%a5%e5%ba%b7%e3%82%bb%e3%83%9f%e3%83%8a%e3%83%bc%e3%80%91-23/
LOCATION:小郡市総合保健福祉センター「あすてらす」\, 福岡県小郡市二森1167-1
CATEGORIES:九州・沖縄セミナー,全国セミナー【一覧】,福岡セミナー
END:VEVENT
BEGIN:VEVENT
DTSTART;TZID=Asia/Tokyo:20250624T133000
DTEND;TZID=Asia/Tokyo:20250624T160000
DTSTAMP:20260422T151301
CREATED:20250529T031634Z
LAST-MODIFIED:20250529T031634Z
UID:4479-1750771800-1750780800@member.stolle.jp
SUMMARY:佐賀県【サステナ健康セミナー】
DESCRIPTION:
URL:https://member.stolle.jp/various_contents_top/event/%e4%bd%90%e8%b3%80%e7%9c%8c%e3%80%90%e3%82%b5%e3%82%b9%e3%83%86%e3%83%8a%e5%81%a5%e5%ba%b7%e3%82%bb%e3%83%9f%e3%83%8a%e3%83%bc%e3%80%91-15/
LOCATION:メートプラザ(勤労福祉センター)\, 佐賀県佐賀市兵庫北3-8-40
CATEGORIES:九州・沖縄セミナー,佐賀セミナー,全国セミナー【一覧】
END:VEVENT
BEGIN:VEVENT
DTSTART;TZID=Asia/Tokyo:20250622T133000
DTEND;TZID=Asia/Tokyo:20250622T153000
DTSTAMP:20260422T151301
CREATED:20250321T092103Z
LAST-MODIFIED:20250321T092103Z
UID:3765-1750599000-1750606200@member.stolle.jp
SUMMARY:千葉県【サステナ健康セミナー】
DESCRIPTION:
URL:https://member.stolle.jp/various_contents_top/event/%e5%8d%83%e8%91%89%e7%9c%8c%e3%80%90%e3%82%b5%e3%82%b9%e3%83%86%e3%83%8a%e5%81%a5%e5%ba%b7%e3%82%bb%e3%83%9f%e3%83%8a%e3%83%bc%e3%80%91-6/
LOCATION:サンライズ九十九里\, 千葉県山武郡九十九里町真亀490
CATEGORIES:全国セミナー【一覧】,千葉セミナー,関東セミナー
END:VEVENT
BEGIN:VEVENT
DTSTART;TZID=Asia/Tokyo:20250622T103000
DTEND;TZID=Asia/Tokyo:20250622T130000
DTSTAMP:20260422T151301
CREATED:20250609T083253Z
LAST-MODIFIED:20250609T083253Z
UID:4552-1750588200-1750597200@member.stolle.jp
SUMMARY:宮城県【サステナ健康セミナー】
DESCRIPTION:
URL:https://member.stolle.jp/various_contents_top/event/%e5%ae%ae%e5%9f%8e%e7%9c%8c%e3%80%90%e3%82%b5%e3%82%b9%e3%83%86%e3%83%8a%e5%81%a5%e5%ba%b7%e3%82%bb%e3%83%9f%e3%83%8a%e3%83%bc%e3%80%91-12/
LOCATION:南三陸まなびの里いりやど\, 宮城県本吉郡南三陸町入谷字鏡石5番3
CATEGORIES:全国セミナー【一覧】,北海道・東北セミナー
END:VEVENT
BEGIN:VEVENT
DTSTART;TZID=Asia/Tokyo:20250621T133000
DTEND;TZID=Asia/Tokyo:20250621T153000
DTSTAMP:20260422T151301
CREATED:20250605T034135Z
LAST-MODIFIED:20250620T021332Z
UID:4521-1750512600-1750519800@member.stolle.jp
SUMMARY:宮崎県【本社主催セミナー】
DESCRIPTION:
URL:https://member.stolle.jp/various_contents_top/event/%e5%ae%ae%e5%b4%8e%e7%9c%8c%e3%80%90%e6%9c%ac%e7%a4%be%e4%b8%bb%e5%82%ac%e3%82%bb%e3%83%9f%e3%83%8a%e3%83%bc%e3%80%91-7/
LOCATION:宮崎市民文化ホール\, 宮崎県宮崎市花山手東3丁目25-3
CATEGORIES:九州・沖縄セミナー,全国セミナー【一覧】,宮崎セミナー
END:VEVENT
BEGIN:VEVENT
DTSTART;TZID=Asia/Tokyo:20250617T190000
DTEND;TZID=Asia/Tokyo:20250617T200000
DTSTAMP:20260422T151301
CREATED:20250523T071508Z
LAST-MODIFIED:20250605T052030Z
UID:4452-1750186800-1750190400@member.stolle.jp
SUMMARY:ZOOM【サステナ健康セミナー】
DESCRIPTION:ミーティング ID: 837 4672 9540 \nZOOMアプリをダウンロードされている方はこちらから⇒参加する \nZOOMアプリをダウンロードされていない方はこちらから⇒参加する
URL:https://member.stolle.jp/various_contents_top/event/zoom%e3%80%90%e3%82%b5%e3%82%b9%e3%83%86%e3%83%8a%e5%81%a5%e5%ba%b7%e3%82%bb%e3%83%9f%e3%83%8a%e3%83%bc%e3%80%91-2/
CATEGORIES:ZOOM,全国セミナー【一覧】
END:VEVENT
BEGIN:VEVENT
DTSTART;TZID=Asia/Tokyo:20250617T133000
DTEND;TZID=Asia/Tokyo:20250617T163000
DTSTAMP:20260422T151301
CREATED:20250418T055557Z
LAST-MODIFIED:20250418T055655Z
UID:4046-1750167000-1750177800@member.stolle.jp
SUMMARY:大阪府【サステナ健康セミナー】
DESCRIPTION:
URL:https://member.stolle.jp/various_contents_top/event/%e5%a4%a7%e9%98%aa%e5%ba%9c%e3%80%90%e3%82%b5%e3%82%b9%e3%83%86%e3%83%8a%e5%81%a5%e5%ba%b7%e3%82%bb%e3%83%9f%e3%83%8a%e3%83%bc%e3%80%91-6/
LOCATION:NLC新大阪8号館9階　902号室\, 大阪府大阪市掟川区西中島3-9-13
CATEGORIES:全国セミナー【一覧】,関西セミナー
END:VEVENT
BEGIN:VEVENT
DTSTART;TZID=Asia/Tokyo:20250617T133000
DTEND;TZID=Asia/Tokyo:20250617T160000
DTSTAMP:20260422T151301
CREATED:20250507T015748Z
LAST-MODIFIED:20250507T033504Z
UID:4178-1750167000-1750176000@member.stolle.jp
SUMMARY:神奈川県【サステナ健康セミナー】
DESCRIPTION:
URL:https://member.stolle.jp/various_contents_top/event/%e7%a5%9e%e5%a5%88%e5%b7%9d%e7%9c%8c%e3%80%90%e3%82%b5%e3%82%b9%e3%83%86%e3%83%8a%e5%81%a5%e5%ba%b7%e3%82%bb%e3%83%9f%e3%83%8a%e3%83%bc%e3%80%91-4/
LOCATION:横浜市民フロア(そごう横浜店9F　Aルーム)\, 神奈川県横浜市西区高島2-18-1　横浜新都市ビル
CATEGORIES:全国セミナー【一覧】,神奈川セミナー,関東セミナー
END:VEVENT
BEGIN:VEVENT
DTSTART;TZID=Asia/Tokyo:20250615T133000
DTEND;TZID=Asia/Tokyo:20250615T153000
DTSTAMP:20260422T151301
CREATED:20250609T082953Z
LAST-MODIFIED:20250609T082953Z
UID:4550-1749994200-1750001400@member.stolle.jp
SUMMARY:宮城県【サステナ健康セミナー】
DESCRIPTION:
URL:https://member.stolle.jp/various_contents_top/event/%e5%ae%ae%e5%9f%8e%e7%9c%8c%e3%80%90%e3%82%b5%e3%82%b9%e3%83%86%e3%83%8a%e5%81%a5%e5%ba%b7%e3%82%bb%e3%83%9f%e3%83%8a%e3%83%bc%e3%80%91-11/
LOCATION:スタジオサンモール5階\, 宮城県仙台市青葉区一番町２－５－５
CATEGORIES:全国セミナー【一覧】,北海道・東北セミナー
END:VEVENT
BEGIN:VEVENT
DTSTART;TZID=Asia/Tokyo:20250612T133000
DTEND;TZID=Asia/Tokyo:20250612T160000
DTSTAMP:20260422T151301
CREATED:20250529T031436Z
LAST-MODIFIED:20250529T031436Z
UID:4476-1749735000-1749744000@member.stolle.jp
SUMMARY:佐賀県【サステナ健康セミナー】
DESCRIPTION:
URL:https://member.stolle.jp/various_contents_top/event/%e4%bd%90%e8%b3%80%e7%9c%8c%e3%80%90%e3%82%b5%e3%82%b9%e3%83%86%e3%83%8a%e5%81%a5%e5%ba%b7%e3%82%bb%e3%83%9f%e3%83%8a%e3%83%bc%e3%80%91-14/
LOCATION:メートプラザ(勤労福祉センター)\, 佐賀県佐賀市兵庫北3-8-40
CATEGORIES:九州・沖縄セミナー,佐賀セミナー,全国セミナー【一覧】
END:VEVENT
BEGIN:VEVENT
DTSTART;TZID=Asia/Tokyo:20250610T130000
DTEND;TZID=Asia/Tokyo:20250610T170000
DTSTAMP:20260422T151301
CREATED:20250418T030117Z
LAST-MODIFIED:20250418T030117Z
UID:4042-1749560400-1749574800@member.stolle.jp
SUMMARY:福岡県【サステナ健康セミナー】
DESCRIPTION:
URL:https://member.stolle.jp/various_contents_top/event/%e7%a6%8f%e5%b2%a1%e7%9c%8c%e3%80%90%e3%82%b5%e3%82%b9%e3%83%86%e3%83%8a%e5%81%a5%e5%ba%b7%e3%82%bb%e3%83%9f%e3%83%8a%e3%83%bc%e3%80%91-17/
LOCATION:ももち文化センター(会議室2)\, 福岡県福岡市早良区百道2-3-15
CATEGORIES:九州・沖縄セミナー,全国セミナー【一覧】,福岡セミナー
END:VEVENT
BEGIN:VEVENT
DTSTART;TZID=Asia/Tokyo:20250610T123000
DTEND;TZID=Asia/Tokyo:20250610T180000
DTSTAMP:20260422T151301
CREATED:20250328T081000Z
LAST-MODIFIED:20250328T081000Z
UID:3822-1749558600-1749578400@member.stolle.jp
SUMMARY:千葉県【サステナ健康セミナー】
DESCRIPTION:
URL:https://member.stolle.jp/various_contents_top/event/%e5%8d%83%e8%91%89%e7%9c%8c%e3%80%90%e3%82%b5%e3%82%b9%e3%83%86%e3%83%8a%e5%81%a5%e5%ba%b7%e3%82%bb%e3%83%9f%e3%83%8a%e3%83%bc%e3%80%91-10/
LOCATION:千葉生涯学習センター\, 千葉県千葉市中央区弁天3-7-7
CATEGORIES:全国セミナー【一覧】,千葉セミナー,関東セミナー
END:VEVENT
BEGIN:VEVENT
DTSTART;TZID=Asia/Tokyo:20250608T133000
DTEND;TZID=Asia/Tokyo:20250608T153000
DTSTAMP:20260422T151301
CREATED:20250321T091246Z
LAST-MODIFIED:20250321T091246Z
UID:3758-1749389400-1749396600@member.stolle.jp
SUMMARY:千葉県【本社主催セミナー】
DESCRIPTION:
URL:https://member.stolle.jp/various_contents_top/event/%e5%8d%83%e8%91%89%e7%9c%8c%e3%80%90%e6%9c%ac%e7%a4%be%e4%b8%bb%e5%82%ac%e3%82%bb%e3%83%9f%e3%83%8a%e3%83%bc%e3%80%91-5/
LOCATION:かずさアカデミアパーク\, 千葉県木更津市かずさ鎌足２丁目３－９
CATEGORIES:全国セミナー【一覧】,千葉セミナー,関東セミナー
END:VEVENT
BEGIN:VEVENT
DTSTART;TZID=Asia/Tokyo:20250607T133000
DTEND;TZID=Asia/Tokyo:20250607T153000
DTSTAMP:20260422T151301
CREATED:20250418T015740Z
LAST-MODIFIED:20250418T015740Z
UID:4035-1749303000-1749310200@member.stolle.jp
SUMMARY:佐賀県【サステナ健康セミナー】
DESCRIPTION:
URL:https://member.stolle.jp/various_contents_top/event/%e4%bd%90%e8%b3%80%e7%9c%8c%e3%80%90%e3%82%b5%e3%82%b9%e3%83%86%e3%83%8a%e5%81%a5%e5%ba%b7%e3%82%bb%e3%83%9f%e3%83%8a%e3%83%bc%e3%80%91-11/
LOCATION:唐津市民交流プラザ(第一会議室)\, 佐賀県唐津市南城内1-1 大手口センタービル3F
CATEGORIES:九州・沖縄セミナー,佐賀セミナー,全国セミナー【一覧】
END:VEVENT
BEGIN:VEVENT
DTSTART;TZID=Asia/Tokyo:20250603T133000
DTEND;TZID=Asia/Tokyo:20250603T170000
DTSTAMP:20260422T151301
CREATED:20250417T063048Z
LAST-MODIFIED:20250417T063048Z
UID:4027-1748957400-1748970000@member.stolle.jp
SUMMARY:福岡県【サステナ健康セミナー】
DESCRIPTION:
URL:https://member.stolle.jp/various_contents_top/event/%e7%a6%8f%e5%b2%a1%e7%9c%8c%e3%80%90%e3%82%b5%e3%82%b9%e3%83%86%e3%83%8a%e5%81%a5%e5%ba%b7%e3%82%bb%e3%83%9f%e3%83%8a%e3%83%bc%e3%80%91-16/
LOCATION:なみきスクエア　視聴覚室\, 福岡県福岡市東区千早4-21-45
CATEGORIES:九州・沖縄セミナー,全国セミナー【一覧】,福岡セミナー
END:VEVENT
BEGIN:VEVENT
DTSTART;TZID=Asia/Tokyo:20250603T133000
DTEND;TZID=Asia/Tokyo:20250603T160000
DTSTAMP:20260422T151301
CREATED:20250529T050244Z
LAST-MODIFIED:20250529T050244Z
UID:4486-1748957400-1748966400@member.stolle.jp
SUMMARY:神奈川県【サステナ健康セミナー】
DESCRIPTION:
URL:https://member.stolle.jp/various_contents_top/event/%e7%a5%9e%e5%a5%88%e5%b7%9d%e7%9c%8c%e3%80%90%e3%82%b5%e3%82%b9%e3%83%86%e3%83%8a%e5%81%a5%e5%ba%b7%e3%82%bb%e3%83%9f%e3%83%8a%e3%83%bc%e3%80%91-6/
LOCATION:ゆうゆう\, 神奈川県相模原市緑区城山1-8-12
CATEGORIES:全国セミナー【一覧】,神奈川セミナー,関東セミナー
END:VEVENT
BEGIN:VEVENT
DTSTART;TZID=Asia/Tokyo:20250531T133000
DTEND;TZID=Asia/Tokyo:20250531T153000
DTSTAMP:20260422T151301
CREATED:20250422T051508Z
LAST-MODIFIED:20250422T051508Z
UID:4061-1748698200-1748705400@member.stolle.jp
SUMMARY:宮崎県【本社主催セミナー】
DESCRIPTION:
URL:https://member.stolle.jp/various_contents_top/event/%e5%ae%ae%e5%b4%8e%e7%9c%8c%e3%80%90%e6%9c%ac%e7%a4%be%e4%b8%bb%e5%82%ac%e3%82%bb%e3%83%9f%e3%83%8a%e3%83%bc%e3%80%91-6/
LOCATION:らいふのパン\, 宮崎県宮崎市大坪町大坪町倉ノ町4410-1
CATEGORIES:九州・沖縄セミナー,全国セミナー【一覧】,宮崎セミナー
END:VEVENT
BEGIN:VEVENT
DTSTART;TZID=Asia/Tokyo:20250530T133000
DTEND;TZID=Asia/Tokyo:20250530T153000
DTSTAMP:20260422T151301
CREATED:20250513T072545Z
LAST-MODIFIED:20250513T072545Z
UID:4326-1748611800-1748619000@member.stolle.jp
SUMMARY:大分県【本社主催セミナー】
DESCRIPTION:
URL:https://member.stolle.jp/various_contents_top/event/%e5%a4%a7%e5%88%86%e7%9c%8c%e3%80%90%e6%9c%ac%e7%a4%be%e4%b8%bb%e5%82%ac%e3%82%bb%e3%83%9f%e3%83%8a%e3%83%bc%e3%80%91/
LOCATION:ホルトホール大分（3F301号室）\, 大分県大分市金池南一丁目5番1号
CATEGORIES:九州・沖縄その他セミナー,九州・沖縄セミナー,全国セミナー【一覧】
END:VEVENT
BEGIN:VEVENT
DTSTART;TZID=Asia/Tokyo:20250530T130000
DTEND;TZID=Asia/Tokyo:20250530T170000
DTSTAMP:20260422T151301
CREATED:20250513T035316Z
LAST-MODIFIED:20250513T073314Z
UID:4317-1748610000-1748624400@member.stolle.jp
SUMMARY:福岡県【サステナ健康セミナー】
DESCRIPTION:
URL:https://member.stolle.jp/various_contents_top/event/%e7%a6%8f%e5%b2%a1%e7%9c%8c%e3%80%90%e3%82%b5%e3%82%b9%e3%83%86%e3%83%8a%e5%81%a5%e5%ba%b7%e3%82%bb%e3%83%9f%e3%83%8a%e3%83%bc%e3%80%91-19/
LOCATION:久留米地域地場産業振興センター\, 福岡県 久留米市 東合川 5-8-5
CATEGORIES:九州・沖縄セミナー,全国セミナー【一覧】,福岡セミナー
END:VEVENT
BEGIN:VEVENT
DTSTART;TZID=Asia/Tokyo:20250528T103000
DTEND;TZID=Asia/Tokyo:20250528T123000
DTSTAMP:20260422T151301
CREATED:20250430T013908Z
LAST-MODIFIED:20250430T013908Z
UID:4116-1748428200-1748435400@member.stolle.jp
SUMMARY:熊本県【サステナ健康セミナー】
DESCRIPTION:
URL:https://member.stolle.jp/various_contents_top/event/%e7%86%8a%e6%9c%ac%e7%9c%8c%e3%80%90%e3%82%b5%e3%82%b9%e3%83%86%e3%83%8a%e5%81%a5%e5%ba%b7%e3%82%bb%e3%83%9f%e3%83%8a%e3%83%bc%e3%80%91-4/
LOCATION:宇土中央公民館（多目的室）\, 熊本県宇土市新小路町96
CATEGORIES:九州・沖縄その他セミナー,九州・沖縄セミナー,全国セミナー【一覧】
END:VEVENT
BEGIN:VEVENT
DTSTART;TZID=Asia/Tokyo:20250527T130000
DTEND;TZID=Asia/Tokyo:20250527T160000
DTSTAMP:20260422T151301
CREATED:20250519T051705Z
LAST-MODIFIED:20250519T052028Z
UID:4415-1748350800-1748361600@member.stolle.jp
SUMMARY:福岡県【ワークショップ】
DESCRIPTION:◇お申込み方法◇ \n１．お電話で申し込む（092-409-2703） \n２．博多オフィスにて申し込む \n  \n※お申込み期限５月２３日(金)まで \n \n 
URL:https://member.stolle.jp/various_contents_top/event/%e7%a6%8f%e5%b2%a1%e7%9c%8c%e3%80%90%e3%83%af%e3%83%bc%e3%82%af%e3%82%b7%e3%83%a7%e3%83%83%e3%83%97%e3%80%91-3/
LOCATION:博多オフィス\, 福岡県福岡市博多区博多駅南4-2-10　南近代ビル9階
CATEGORIES:九州・沖縄セミナー,全国セミナー【一覧】,福岡セミナー
END:VEVENT
END:VCALENDAR