BEGIN:VCALENDAR
VERSION:2.0
PRODID:-//STOLLE CONTENTS - ECPv6.6.2//NONSGML v1.0//EN
CALSCALE:GREGORIAN
METHOD:PUBLISH
X-WR-CALNAME:STOLLE CONTENTS
X-ORIGINAL-URL:https://member.stolle.jp/various_contents_top
X-WR-CALDESC:STOLLE CONTENTS のイベント
REFRESH-INTERVAL;VALUE=DURATION:PT1H
X-Robots-Tag:noindex
X-PUBLISHED-TTL:PT1H
BEGIN:VTIMEZONE
TZID:Asia/Tokyo
BEGIN:STANDARD
TZOFFSETFROM:+0900
TZOFFSETTO:+0900
TZNAME:JST
DTSTART:20250101T000000
END:STANDARD
END:VTIMEZONE
BEGIN:VEVENT
DTSTART;TZID=Asia/Tokyo:20251003T090000
DTEND;TZID=Asia/Tokyo:20251003T120000
DTSTAMP:20260422T134206
CREATED:20250929T074428Z
LAST-MODIFIED:20250929T074428Z
UID:5715-1759482000-1759492800@member.stolle.jp
SUMMARY:熊本県【サステナ健康セミナー】
DESCRIPTION:
URL:https://member.stolle.jp/various_contents_top/event/%e7%86%8a%e6%9c%ac%e7%9c%8c%e3%80%90%e3%82%b5%e3%82%b9%e3%83%86%e3%83%8a%e5%81%a5%e5%ba%b7%e3%82%bb%e3%83%9f%e3%83%8a%e3%83%bc%e3%80%91-7/
LOCATION:宇土中央公民館\, 熊本県宇土市新小路町96
CATEGORIES:九州・沖縄その他セミナー,九州・沖縄セミナー,全国セミナー【一覧】
END:VEVENT
BEGIN:VEVENT
DTSTART;TZID=Asia/Tokyo:20250930T180000
DTEND;TZID=Asia/Tokyo:20250930T200000
DTSTAMP:20260422T134206
CREATED:20250902T031309Z
LAST-MODIFIED:20250902T031309Z
UID:5598-1759255200-1759262400@member.stolle.jp
SUMMARY:沖縄県【本社主催セミナー】
DESCRIPTION:
URL:https://member.stolle.jp/various_contents_top/event/%e6%b2%96%e7%b8%84%e7%9c%8c%e3%80%90%e6%9c%ac%e7%a4%be%e4%b8%bb%e5%82%ac%e3%82%bb%e3%83%9f%e3%83%8a%e3%83%bc%e3%80%91-6/
LOCATION:てぃるる（会議室１）\, 沖縄県那覇市西3-11-1
CATEGORIES:九州・沖縄その他セミナー,九州・沖縄セミナー,全国セミナー【一覧】
END:VEVENT
BEGIN:VEVENT
DTSTART;TZID=Asia/Tokyo:20250930T133000
DTEND;TZID=Asia/Tokyo:20250930T153000
DTSTAMP:20260422T134206
CREATED:20250905T074405Z
LAST-MODIFIED:20250905T074731Z
UID:5610-1759239000-1759246200@member.stolle.jp
SUMMARY:福岡県【ワークショップ】
DESCRIPTION:参加費用は300円 \n◇お申込み方法◇ \n１．お電話で申し込む（092-409-2703） \n２．博多オフィスにて申し込む \n◇お申込み期限◇ \n９月22日(月)まで
URL:https://member.stolle.jp/various_contents_top/event/%e7%a6%8f%e5%b2%a1%e7%9c%8c%e3%80%90%e3%83%af%e3%83%bc%e3%82%af%e3%82%b7%e3%83%a7%e3%83%83%e3%83%97%e3%80%91-5/
LOCATION:博多オフィス\, 福岡県福岡市博多区博多駅南4-2-10　南近代ビル9階
CATEGORIES:九州・沖縄セミナー,全国セミナー【一覧】,福岡セミナー
END:VEVENT
BEGIN:VEVENT
DTSTART;TZID=Asia/Tokyo:20250928T133000
DTEND;TZID=Asia/Tokyo:20250928T153000
DTSTAMP:20260422T134206
CREATED:20250902T031056Z
LAST-MODIFIED:20250911T024407Z
UID:5595-1759066200-1759073400@member.stolle.jp
SUMMARY:福岡県【本社主催セミナー】
DESCRIPTION:9月29日から日程変更になっております。
URL:https://member.stolle.jp/various_contents_top/event/%e7%a6%8f%e5%b2%a1%e7%9c%8c%e3%80%90%e6%9c%ac%e7%a4%be%e4%b8%bb%e5%82%ac%e3%82%bb%e3%83%9f%e3%83%8a%e3%83%bc%e3%80%91-7/
LOCATION:南近代ビル(5号室)\, 福岡県福岡市博多区博多駅南4-2-10　南近代ビル7階
CATEGORIES:九州・沖縄セミナー,全国セミナー【一覧】,福岡セミナー
END:VEVENT
BEGIN:VEVENT
DTSTART;TZID=Asia/Tokyo:20250928T133000
DTEND;TZID=Asia/Tokyo:20250928T153000
DTSTAMP:20260422T134206
CREATED:20250321T093220Z
LAST-MODIFIED:20250723T082538Z
UID:3771-1759066200-1759073400@member.stolle.jp
SUMMARY:千葉県【本社主催セミナー】
DESCRIPTION:
URL:https://member.stolle.jp/various_contents_top/event/%e5%8d%83%e8%91%89%e7%9c%8c%e3%80%90%e3%82%b5%e3%82%b9%e3%83%86%e3%83%8a%e5%81%a5%e5%ba%b7%e3%82%bb%e3%83%9f%e3%83%8a%e3%83%bc%e3%80%91-8/
LOCATION:サンライズ九十九里\, 千葉県山武郡九十九里町真亀490
CATEGORIES:全国セミナー【一覧】,千葉セミナー,関東セミナー
END:VEVENT
BEGIN:VEVENT
DTSTART;TZID=Asia/Tokyo:20250928T100000
DTEND;TZID=Asia/Tokyo:20250928T130000
DTSTAMP:20260422T134206
CREATED:20250908T064005Z
LAST-MODIFIED:20250908T064005Z
UID:5632-1759053600-1759064400@member.stolle.jp
SUMMARY:宮城県【サステナ健康セミナー】
DESCRIPTION:
URL:https://member.stolle.jp/various_contents_top/event/%e5%ae%ae%e5%9f%8e%e7%9c%8c%e3%80%90%e3%82%b5%e3%82%b9%e3%83%86%e3%83%8a%e5%81%a5%e5%ba%b7%e3%82%bb%e3%83%9f%e3%83%8a%e3%83%bc%e3%80%91-18/
LOCATION:南三陸まなびの里いりやど\, 宮城県本吉郡南三陸町入谷字鏡石5番3
CATEGORIES:全国セミナー【一覧】,北海道・東北セミナー
END:VEVENT
BEGIN:VEVENT
DTSTART;TZID=Asia/Tokyo:20250926T133000
DTEND;TZID=Asia/Tokyo:20250926T160000
DTSTAMP:20260422T134206
CREATED:20250827T053806Z
LAST-MODIFIED:20250827T053806Z
UID:5528-1758893400-1758902400@member.stolle.jp
SUMMARY:佐賀県【サステナ健康セミナー】
DESCRIPTION:
URL:https://member.stolle.jp/various_contents_top/event/%e4%bd%90%e8%b3%80%e7%9c%8c%e3%80%90%e3%82%b5%e3%82%b9%e3%83%86%e3%83%8a%e5%81%a5%e5%ba%b7%e3%82%bb%e3%83%9f%e3%83%8a%e3%83%bc%e3%80%91-27/
LOCATION:メートプラザ(勤労福祉センター)\, 佐賀県佐賀市兵庫北3-8-40
CATEGORIES:九州・沖縄セミナー,佐賀セミナー,全国セミナー【一覧】
END:VEVENT
BEGIN:VEVENT
DTSTART;TZID=Asia/Tokyo:20250926T133000
DTEND;TZID=Asia/Tokyo:20250926T153000
DTSTAMP:20260422T134206
CREATED:20250902T030739Z
LAST-MODIFIED:20250922T082145Z
UID:5593-1758893400-1758900600@member.stolle.jp
SUMMARY:宮﨑県【本社主催セミナー】
DESCRIPTION:スピーカーが変更となりました。何卒ご了承くださいますようお願い申し上げます。
URL:https://member.stolle.jp/various_contents_top/event/%e5%ae%ae%ef%a8%91%e7%9c%8c%e3%80%90%e6%9c%ac%e7%a4%be%e4%b8%bb%e5%82%ac%e3%82%bb%e3%83%9f%e3%83%8a%e3%83%bc%e3%80%91/
LOCATION:宮崎市民文化ホール\, 宮崎県宮崎市花山手東3丁目25-3
CATEGORIES:九州・沖縄セミナー,全国セミナー【一覧】,宮崎セミナー
END:VEVENT
BEGIN:VEVENT
DTSTART;TZID=Asia/Tokyo:20250921T133000
DTEND;TZID=Asia/Tokyo:20250921T153000
DTSTAMP:20260422T134206
CREATED:20250908T063722Z
LAST-MODIFIED:20250908T063722Z
UID:5630-1758461400-1758468600@member.stolle.jp
SUMMARY:宮城県【サステナ健康セミナー】
DESCRIPTION:
URL:https://member.stolle.jp/various_contents_top/event/%e5%ae%ae%e5%9f%8e%e7%9c%8c%e3%80%90%e3%82%b5%e3%82%b9%e3%83%86%e3%83%8a%e5%81%a5%e5%ba%b7%e3%82%bb%e3%83%9f%e3%83%8a%e3%83%bc%e3%80%91-17/
LOCATION:スタジオサンモール5階\, 宮城県仙台市青葉区一番町２－５－５
CATEGORIES:全国セミナー【一覧】,北海道・東北セミナー
END:VEVENT
BEGIN:VEVENT
DTSTART;TZID=Asia/Tokyo:20250918T133000
DTEND;TZID=Asia/Tokyo:20250918T170000
DTSTAMP:20260422T134206
CREATED:20250729T035042Z
LAST-MODIFIED:20250729T035042Z
UID:5174-1758202200-1758214800@member.stolle.jp
SUMMARY:福岡県【サステナ健康セミナー】
DESCRIPTION:
URL:https://member.stolle.jp/various_contents_top/event/%e7%a6%8f%e5%b2%a1%e7%9c%8c%e3%80%90%e3%82%b5%e3%82%b9%e3%83%86%e3%83%8a%e5%81%a5%e5%ba%b7%e3%82%bb%e3%83%9f%e3%83%8a%e3%83%bc%e3%80%91-27/
LOCATION:ももち文化センター(会議室4)\, 福岡県福岡市早良区百道2-3-15
CATEGORIES:九州・沖縄セミナー,全国セミナー【一覧】,福岡セミナー
END:VEVENT
BEGIN:VEVENT
DTSTART;TZID=Asia/Tokyo:20250916T190000
DTEND;TZID=Asia/Tokyo:20250916T200000
DTSTAMP:20260422T134206
CREATED:20250827T085003Z
LAST-MODIFIED:20250827T085023Z
UID:5545-1758049200-1758052800@member.stolle.jp
SUMMARY:ZOOM【サステナ健康セミナー】
DESCRIPTION:ミーティング ID:899 7960 6718 \nZOOMアプリをダウンロード済みの方はこちらから⇒参加する \n  \nZOOMアプリを持っていない方はこちらから⇒参加する
URL:https://member.stolle.jp/various_contents_top/event/zoom%e3%80%90%e3%82%b5%e3%82%b9%e3%83%86%e3%83%8a%e5%81%a5%e5%ba%b7%e3%82%bb%e3%83%9f%e3%83%8a%e3%83%bc%e3%80%91-5/
CATEGORIES:ZOOM,全国セミナー【一覧】
END:VEVENT
BEGIN:VEVENT
DTSTART;TZID=Asia/Tokyo:20250914T133000
DTEND;TZID=Asia/Tokyo:20250914T153000
DTSTAMP:20260422T134206
CREATED:20250723T081022Z
LAST-MODIFIED:20250819T054319Z
UID:5081-1757856600-1757863800@member.stolle.jp
SUMMARY:千葉県【本社主催セミナー】
DESCRIPTION:
URL:https://member.stolle.jp/various_contents_top/event/%e5%8d%83%e8%91%89%e7%9c%8c%e3%80%90%e6%9c%ac%e7%a4%be%e4%b8%bb%e5%82%ac%e3%82%bb%e3%83%9f%e3%83%8a%e3%83%bc%e3%80%91-7/
LOCATION:かずさアカデミアパーク\, 千葉県木更津市かずさ鎌足２丁目３－９
CATEGORIES:全国セミナー【一覧】,千葉セミナー,関東セミナー
END:VEVENT
BEGIN:VEVENT
DTSTART;TZID=Asia/Tokyo:20250911T133000
DTEND;TZID=Asia/Tokyo:20250911T160000
DTSTAMP:20260422T134206
CREATED:20250827T053613Z
LAST-MODIFIED:20250827T053613Z
UID:5526-1757597400-1757606400@member.stolle.jp
SUMMARY:佐賀県【サステナ健康セミナー】
DESCRIPTION:
URL:https://member.stolle.jp/various_contents_top/event/%e4%bd%90%e8%b3%80%e7%9c%8c%e3%80%90%e3%82%b5%e3%82%b9%e3%83%86%e3%83%8a%e5%81%a5%e5%ba%b7%e3%82%bb%e3%83%9f%e3%83%8a%e3%83%bc%e3%80%91-26/
LOCATION:メートプラザ(勤労福祉センター)\, 佐賀県佐賀市兵庫北3-8-40
CATEGORIES:九州・沖縄セミナー,佐賀セミナー,全国セミナー【一覧】
END:VEVENT
BEGIN:VEVENT
DTSTART;TZID=Asia/Tokyo:20250910T133000
DTEND;TZID=Asia/Tokyo:20250910T153000
DTSTAMP:20260422T134206
CREATED:20250819T081521Z
LAST-MODIFIED:20250819T081521Z
UID:5487-1757511000-1757518200@member.stolle.jp
SUMMARY:長野県【本社主催セミナー】
DESCRIPTION:
URL:https://member.stolle.jp/various_contents_top/event/%e9%95%b7%e9%87%8e%e7%9c%8c%e3%80%90%e6%9c%ac%e7%a4%be%e4%b8%bb%e5%82%ac%e3%82%bb%e3%83%9f%e3%83%8a%e3%83%bc%e3%80%91-10/
LOCATION:アイパル　2階スターチス\, 長野県駒ヶ根市東町4-3
CATEGORIES:中部・北陸セミナー,全国セミナー【一覧】
END:VEVENT
BEGIN:VEVENT
DTSTART;TZID=Asia/Tokyo:20250909T133000
DTEND;TZID=Asia/Tokyo:20250909T170000
DTSTAMP:20260422T134206
CREATED:20250711T084344Z
LAST-MODIFIED:20250711T084410Z
UID:5033-1757424600-1757437200@member.stolle.jp
SUMMARY:福岡県【サステナ健康セミナー】
DESCRIPTION:
URL:https://member.stolle.jp/various_contents_top/event/%e7%a6%8f%e5%b2%a1%e7%9c%8c%e3%80%90%e3%82%b5%e3%82%b9%e3%83%86%e3%83%8a%e5%81%a5%e5%ba%b7%e3%82%bb%e3%83%9f%e3%83%8a%e3%83%bc%e3%80%91-26/
LOCATION:なみきスクエア　視聴覚室\, 福岡県福岡市東区千早4-21-45
CATEGORIES:九州・沖縄セミナー,全国セミナー【一覧】,福岡セミナー
END:VEVENT
BEGIN:VEVENT
DTSTART;TZID=Asia/Tokyo:20250909T133000
DTEND;TZID=Asia/Tokyo:20250909T163000
DTSTAMP:20260422T134206
CREATED:20250827T053351Z
LAST-MODIFIED:20250827T053351Z
UID:5523-1757424600-1757435400@member.stolle.jp
SUMMARY:大阪府【サステナ健康セミナー】
DESCRIPTION:
URL:https://member.stolle.jp/various_contents_top/event/%e5%a4%a7%e9%98%aa%e5%ba%9c%e3%80%90%e3%82%b5%e3%82%b9%e3%83%86%e3%83%8a%e5%81%a5%e5%ba%b7%e3%82%bb%e3%83%9f%e3%83%8a%e3%83%bc%e3%80%91-9/
LOCATION:NLC新大阪8号館9階　902号室\, 大阪府大阪市掟川区西中島3-9-13
CATEGORIES:全国セミナー【一覧】,関西セミナー
END:VEVENT
BEGIN:VEVENT
DTSTART;TZID=Asia/Tokyo:20250909T133000
DTEND;TZID=Asia/Tokyo:20250909T153000
DTSTAMP:20260422T134206
CREATED:20250819T080943Z
LAST-MODIFIED:20250819T080943Z
UID:5484-1757424600-1757431800@member.stolle.jp
SUMMARY:長野県【本社主催セミナー】
DESCRIPTION:
URL:https://member.stolle.jp/various_contents_top/event/%e9%95%b7%e9%87%8e%e7%9c%8c%e3%80%90%e6%9c%ac%e7%a4%be%e4%b8%bb%e5%82%ac%e3%82%bb%e3%83%9f%e3%83%8a%e3%83%bc%e3%80%91-9/
LOCATION:マリオローヤル会館\, 長野県茅野市ちの3502-1 ベルビア 3階
CATEGORIES:中部・北陸セミナー,全国セミナー【一覧】
END:VEVENT
BEGIN:VEVENT
DTSTART;TZID=Asia/Tokyo:20250909T133000
DTEND;TZID=Asia/Tokyo:20250909T153000
DTSTAMP:20260422T134206
CREATED:20250805T084146Z
LAST-MODIFIED:20250805T084146Z
UID:5438-1757424600-1757431800@member.stolle.jp
SUMMARY:神奈川県【サステナ健康セミナー】
DESCRIPTION:
URL:https://member.stolle.jp/various_contents_top/event/%e7%a5%9e%e5%a5%88%e5%b7%9d%e7%9c%8c%e3%80%90%e3%82%b5%e3%82%b9%e3%83%86%e3%83%8a%e5%81%a5%e5%ba%b7%e3%82%bb%e3%83%9f%e3%83%8a%e3%83%bc%e3%80%91-9/
LOCATION:横浜市民フロア(そごう横浜店9F　Aルーム)\, 神奈川県横浜市西区高島2-18-1　横浜新都市ビル
CATEGORIES:全国セミナー【一覧】,神奈川セミナー,関東セミナー
END:VEVENT
BEGIN:VEVENT
DTSTART;TZID=Asia/Tokyo:20250908T133000
DTEND;TZID=Asia/Tokyo:20250908T160000
DTSTAMP:20260422T134206
CREATED:20250805T083556Z
LAST-MODIFIED:20250805T083556Z
UID:5436-1757338200-1757347200@member.stolle.jp
SUMMARY:福岡県【サステナ健康セミナー】
DESCRIPTION:
URL:https://member.stolle.jp/various_contents_top/event/%e7%a6%8f%e5%b2%a1%e7%9c%8c%e3%80%90%e3%82%b5%e3%82%b9%e3%83%86%e3%83%8a%e5%81%a5%e5%ba%b7%e3%82%bb%e3%83%9f%e3%83%8a%e3%83%bc%e3%80%91-28/
LOCATION:小郡市総合保健福祉センター「あすてらす」\, 福岡県小郡市二森1167-1
CATEGORIES:九州・沖縄セミナー,全国セミナー【一覧】,福岡セミナー
END:VEVENT
BEGIN:VEVENT
DTSTART;TZID=Asia/Tokyo:20250907T133000
DTEND;TZID=Asia/Tokyo:20250907T153000
DTSTAMP:20260422T134206
CREATED:20250805T083030Z
LAST-MODIFIED:20250805T083030Z
UID:5431-1757251800-1757259000@member.stolle.jp
SUMMARY:佐賀県【サステナ健康セミナー】
DESCRIPTION:
URL:https://member.stolle.jp/various_contents_top/event/%e4%bd%90%e8%b3%80%e7%9c%8c%e3%80%90%e3%82%b5%e3%82%b9%e3%83%86%e3%83%8a%e5%81%a5%e5%ba%b7%e3%82%bb%e3%83%9f%e3%83%8a%e3%83%bc%e3%80%91-23/
LOCATION:唐津市民交流プラザ\, 佐賀県唐津市南城内1-1 大手口センタービル3F
CATEGORIES:九州・沖縄セミナー,佐賀セミナー,全国セミナー【一覧】
END:VEVENT
BEGIN:VEVENT
DTSTART;TZID=Asia/Tokyo:20250831T133000
DTEND;TZID=Asia/Tokyo:20250831T153000
DTSTAMP:20260422T134206
CREATED:20250723T081417Z
LAST-MODIFIED:20250723T081417Z
UID:5086-1756647000-1756654200@member.stolle.jp
SUMMARY:佐賀県【サステナ健康セミナー】
DESCRIPTION:
URL:https://member.stolle.jp/various_contents_top/event/%e4%bd%90%e8%b3%80%e7%9c%8c%e3%80%90%e3%82%b5%e3%82%b9%e3%83%86%e3%83%8a%e5%81%a5%e5%ba%b7%e3%82%bb%e3%83%9f%e3%83%8a%e3%83%bc%e3%80%91-20/
LOCATION:メートプラザ(勤労福祉センター)\, 佐賀県佐賀市兵庫北3-8-40
CATEGORIES:九州・沖縄セミナー,佐賀セミナー,全国セミナー【一覧】
END:VEVENT
BEGIN:VEVENT
DTSTART;TZID=Asia/Tokyo:20250829T103000
DTEND;TZID=Asia/Tokyo:20250829T123000
DTSTAMP:20260422T134206
CREATED:20250805T083328Z
LAST-MODIFIED:20250805T083328Z
UID:5434-1756463400-1756470600@member.stolle.jp
SUMMARY:宮崎県【本社主催セミナー】
DESCRIPTION:
URL:https://member.stolle.jp/various_contents_top/event/%e5%ae%ae%e5%b4%8e%e7%9c%8c%e3%80%90%e6%9c%ac%e7%a4%be%e4%b8%bb%e5%82%ac%e3%82%bb%e3%83%9f%e3%83%8a%e3%83%bc%e3%80%91-9/
LOCATION:宮崎市民文化ホール\, 宮崎県宮崎市花山手東3丁目25-3
CATEGORIES:九州・沖縄セミナー,全国セミナー【一覧】,宮崎セミナー
END:VEVENT
BEGIN:VEVENT
DTSTART;TZID=Asia/Tokyo:20250826T133000
DTEND;TZID=Asia/Tokyo:20250826T160000
DTSTAMP:20260422T134206
CREATED:20250805T082802Z
LAST-MODIFIED:20250805T082802Z
UID:5429-1756215000-1756224000@member.stolle.jp
SUMMARY:神奈川県【サステナ健康セミナー】
DESCRIPTION:
URL:https://member.stolle.jp/various_contents_top/event/%e7%a5%9e%e5%a5%88%e5%b7%9d%e7%9c%8c%e3%80%90%e3%82%b5%e3%82%b9%e3%83%86%e3%83%8a%e5%81%a5%e5%ba%b7%e3%82%bb%e3%83%9f%e3%83%8a%e3%83%bc%e3%80%91-8/
LOCATION:ゆうゆう\, 神奈川県相模原市緑区城山1-8-12
CATEGORIES:全国セミナー【一覧】,神奈川セミナー,関東セミナー
END:VEVENT
BEGIN:VEVENT
DTSTART;TZID=Asia/Tokyo:20250826T133000
DTEND;TZID=Asia/Tokyo:20250826T153000
DTSTAMP:20260422T134206
CREATED:20250624T081723Z
LAST-MODIFIED:20250818T083243Z
UID:4872-1756215000-1756222200@member.stolle.jp
SUMMARY:福岡県【本社主催セミナー】
DESCRIPTION:博多ワークショップのお知らせ \n10：30~博多オフィスにてワークショップを行います！ \n参加費用は300円 \n◇お申込み方法◇ \n１．お電話で申し込む（092-409-2703） \n２．博多オフィスにて申し込む \n◇お申込み期限◇ \n8月22日(金)まで
URL:https://member.stolle.jp/various_contents_top/event/%e7%a6%8f%e5%b2%a1%e7%9c%8c%e3%80%90%e6%9c%ac%e7%a4%be%e4%b8%bb%e5%82%ac%e3%82%bb%e3%83%9f%e3%83%8a%e3%83%bc%e3%80%91-6/
LOCATION:南近代ビル（6号室）\, 福岡県福岡市博多区博多駅南4-2-10　南近代ビル7階
CATEGORIES:九州・沖縄セミナー,全国セミナー【一覧】,福岡セミナー
END:VEVENT
BEGIN:VEVENT
DTSTART;TZID=Asia/Tokyo:20250824T133000
DTEND;TZID=Asia/Tokyo:20250824T153000
DTSTAMP:20260422T134206
CREATED:20250321T092925Z
LAST-MODIFIED:20250723T080211Z
UID:3769-1756042200-1756049400@member.stolle.jp
SUMMARY:千葉県【本社主催セミナー】
DESCRIPTION:
URL:https://member.stolle.jp/various_contents_top/event/%e5%8d%83%e8%91%89%e7%9c%8c%e3%80%90%e6%9c%ac%e7%a4%be%e4%b8%bb%e5%82%ac%e3%82%bb%e3%83%9f%e3%83%8a%e3%83%bc%e3%80%91-6/
LOCATION:サンライズ九十九里\, 千葉県山武郡九十九里町真亀490
CATEGORIES:全国セミナー【一覧】,千葉セミナー,関東セミナー
END:VEVENT
BEGIN:VEVENT
DTSTART;TZID=Asia/Tokyo:20250824T100000
DTEND;TZID=Asia/Tokyo:20250824T130000
DTSTAMP:20260422T134206
CREATED:20250812T061558Z
LAST-MODIFIED:20250812T061558Z
UID:5461-1756029600-1756040400@member.stolle.jp
SUMMARY:宮城県【サステナ健康セミナー】
DESCRIPTION:
URL:https://member.stolle.jp/various_contents_top/event/%e5%ae%ae%e5%9f%8e%e7%9c%8c%e3%80%90%e3%82%b5%e3%82%b9%e3%83%86%e3%83%8a%e5%81%a5%e5%ba%b7%e3%82%bb%e3%83%9f%e3%83%8a%e3%83%bc%e3%80%91-16/
LOCATION:南三陸まなびの里いりやど\, 宮城県本吉郡南三陸町入谷字鏡石5番3
CATEGORIES:全国セミナー【一覧】,北海道・東北セミナー
END:VEVENT
BEGIN:VEVENT
DTSTART;TZID=Asia/Tokyo:20250819T190000
DTEND;TZID=Asia/Tokyo:20250819T200000
DTSTAMP:20260422T134206
CREATED:20250729T030041Z
LAST-MODIFIED:20250729T030056Z
UID:5156-1755630000-1755633600@member.stolle.jp
SUMMARY:ZOOM【サステナ健康セミナー】
DESCRIPTION:ミーティング ID:897 8407 2823 \nZOOMアプリをダウンロード済みの方はこちらから⇒参加する \n  \nZOOMアプリを持っていない方はこちらから⇒参加する
URL:https://member.stolle.jp/various_contents_top/event/zoom%e3%80%90%e3%82%b5%e3%82%b9%e3%83%86%e3%83%8a%e5%81%a5%e5%ba%b7%e3%82%bb%e3%83%9f%e3%83%8a%e3%83%bc%e3%80%91-4/
CATEGORIES:ZOOM,全国セミナー【一覧】
END:VEVENT
BEGIN:VEVENT
DTSTART;TZID=Asia/Tokyo:20250819T130000
DTEND;TZID=Asia/Tokyo:20250819T170000
DTSTAMP:20260422T134206
CREATED:20250613T071802Z
LAST-MODIFIED:20250613T071802Z
UID:4586-1755608400-1755622800@member.stolle.jp
SUMMARY:福岡県【サステナ健康セミナー】
DESCRIPTION:
URL:https://member.stolle.jp/various_contents_top/event/%e7%a6%8f%e5%b2%a1%e7%9c%8c%e3%80%90%e3%82%b5%e3%82%b9%e3%83%86%e3%83%8a%e5%81%a5%e5%ba%b7%e3%82%bb%e3%83%9f%e3%83%8a%e3%83%bc%e3%80%91-24/
LOCATION:ももち文化センター(会議室2)\, 福岡県福岡市早良区百道2-3-15
CATEGORIES:九州・沖縄セミナー,全国セミナー【一覧】,福岡セミナー
END:VEVENT
BEGIN:VEVENT
DTSTART;TZID=Asia/Tokyo:20250818T133000
DTEND;TZID=Asia/Tokyo:20250818T163000
DTSTAMP:20260422T134206
CREATED:20250718T073710Z
LAST-MODIFIED:20250718T073710Z
UID:5053-1755523800-1755534600@member.stolle.jp
SUMMARY:大阪府【サステナ健康セミナー】
DESCRIPTION:
URL:https://member.stolle.jp/various_contents_top/event/%e5%a4%a7%e9%98%aa%e5%ba%9c%e3%80%90%e3%82%b5%e3%82%b9%e3%83%86%e3%83%8a%e5%81%a5%e5%ba%b7%e3%82%bb%e3%83%9f%e3%83%8a%e3%83%bc%e3%80%91-8/
LOCATION:NLC新大阪8号館9階　902号室\, 大阪府大阪市掟川区西中島3-9-13
CATEGORIES:全国セミナー【一覧】,関西セミナー
END:VEVENT
BEGIN:VEVENT
DTSTART;TZID=Asia/Tokyo:20250817T133000
DTEND;TZID=Asia/Tokyo:20250817T153000
DTSTAMP:20260422T134206
CREATED:20250812T061323Z
LAST-MODIFIED:20250812T061323Z
UID:5458-1755437400-1755444600@member.stolle.jp
SUMMARY:宮城県【サステナ健康セミナー】
DESCRIPTION:
URL:https://member.stolle.jp/various_contents_top/event/%e5%ae%ae%e5%9f%8e%e7%9c%8c%e3%80%90%e3%82%b5%e3%82%b9%e3%83%86%e3%83%8a%e5%81%a5%e5%ba%b7%e3%82%bb%e3%83%9f%e3%83%8a%e3%83%bc%e3%80%91-15/
LOCATION:スタジオサンモール5階\, 宮城県仙台市青葉区一番町２－５－５
CATEGORIES:全国セミナー【一覧】,北海道・東北セミナー
END:VEVENT
END:VCALENDAR