BEGIN:VCALENDAR
VERSION:2.0
PRODID:-//STOLLE CONTENTS - ECPv6.6.2//NONSGML v1.0//EN
CALSCALE:GREGORIAN
METHOD:PUBLISH
X-WR-CALNAME:STOLLE CONTENTS
X-ORIGINAL-URL:https://member.stolle.jp/various_contents_top
X-WR-CALDESC:STOLLE CONTENTS のイベント
REFRESH-INTERVAL;VALUE=DURATION:PT1H
X-Robots-Tag:noindex
X-PUBLISHED-TTL:PT1H
BEGIN:VTIMEZONE
TZID:Asia/Tokyo
BEGIN:STANDARD
TZOFFSETFROM:+0900
TZOFFSETTO:+0900
TZNAME:JST
DTSTART:20250101T000000
END:STANDARD
END:VTIMEZONE
BEGIN:VEVENT
DTSTART;TZID=Asia/Tokyo:20260119T133000
DTEND;TZID=Asia/Tokyo:20260119T170000
DTSTAMP:20260422T115729
CREATED:20251226T034741Z
LAST-MODIFIED:20251226T034741Z
UID:6425-1768829400-1768842000@member.stolle.jp
SUMMARY:熊本県【本社主催セミナー】
DESCRIPTION:
URL:https://member.stolle.jp/various_contents_top/event/%e7%86%8a%e6%9c%ac%e7%9c%8c%e3%80%90%e6%9c%ac%e7%a4%be%e4%b8%bb%e5%82%ac%e3%82%bb%e3%83%9f%e3%83%8a%e3%83%bc%e3%80%91/
LOCATION:さくら十字ホールやつしろ\, 熊本県八代市新町5-20
CATEGORIES:九州・沖縄その他セミナー,九州・沖縄セミナー,全国セミナー【一覧】
END:VEVENT
BEGIN:VEVENT
DTSTART;TZID=Asia/Tokyo:20260118T140000
DTEND;TZID=Asia/Tokyo:20260118T160000
DTSTAMP:20260422T115729
CREATED:20251128T085854Z
LAST-MODIFIED:20251219T033549Z
UID:6156-1768744800-1768752000@member.stolle.jp
SUMMARY:佐賀県【本社主催セミナー】
DESCRIPTION:開始時間が１３：３０から１４：００に変更となりました。 \n何卒ご了承くださいますようお願い申し上げます。
URL:https://member.stolle.jp/various_contents_top/event/%e4%bd%90%e8%b3%80%e7%9c%8c%e3%80%90%e6%9c%ac%e7%a4%be%e4%b8%bb%e5%82%ac%e3%82%bb%e3%83%9f%e3%83%8a%e3%83%bc%e3%80%91/
LOCATION:唐津市民交流プラザ(第一会議室)\, 佐賀県唐津市南城内1-1 大手口センタービル3F
CATEGORIES:九州・沖縄セミナー,佐賀セミナー,全国セミナー【一覧】
END:VEVENT
BEGIN:VEVENT
DTSTART;TZID=Asia/Tokyo:20260118T133000
DTEND;TZID=Asia/Tokyo:20260118T153000
DTSTAMP:20260422T115729
CREATED:20251219T035112Z
LAST-MODIFIED:20251219T035112Z
UID:6272-1768743000-1768750200@member.stolle.jp
SUMMARY:宮城県【サステナ健康セミナー】
DESCRIPTION:
URL:https://member.stolle.jp/various_contents_top/event/%e5%ae%ae%e5%9f%8e%e7%9c%8c%e3%80%90%e3%82%b5%e3%82%b9%e3%83%86%e3%83%8a%e5%81%a5%e5%ba%b7%e3%82%bb%e3%83%9f%e3%83%8a%e3%83%bc%e3%80%91-25/
LOCATION:スタジオサンモール5階\, 宮城県仙台市青葉区一番町２－５－５
CATEGORIES:全国セミナー【一覧】,北海道・東北セミナー
END:VEVENT
BEGIN:VEVENT
DTSTART;TZID=Asia/Tokyo:20260113T133000
DTEND;TZID=Asia/Tokyo:20260113T170000
DTSTAMP:20260422T115729
CREATED:20251119T034922Z
LAST-MODIFIED:20251119T034922Z
UID:5991-1768311000-1768323600@member.stolle.jp
SUMMARY:福岡県【サステナ健康セミナー】
DESCRIPTION:
URL:https://member.stolle.jp/various_contents_top/event/%e7%a6%8f%e5%b2%a1%e7%9c%8c%e3%80%90%e3%82%b5%e3%82%b9%e3%83%86%e3%83%8a%e5%81%a5%e5%ba%b7%e3%82%bb%e3%83%9f%e3%83%8a%e3%83%bc%e3%80%91-36/
LOCATION:なみきスクエア　視聴覚室\, 福岡県福岡市東区千早4-21-45
CATEGORIES:九州・沖縄セミナー,全国セミナー【一覧】,福岡セミナー
END:VEVENT
BEGIN:VEVENT
DTSTART;TZID=Asia/Tokyo:20260109T133000
DTEND;TZID=Asia/Tokyo:20260109T170000
DTSTAMP:20260422T115729
CREATED:20251208T074229Z
LAST-MODIFIED:20251208T074229Z
UID:6213-1767965400-1767978000@member.stolle.jp
SUMMARY:福岡県【サステナ健康セミナー】
DESCRIPTION:
URL:https://member.stolle.jp/various_contents_top/event/%e7%a6%8f%e5%b2%a1%e7%9c%8c%e3%80%90%e3%82%b5%e3%82%b9%e3%83%86%e3%83%8a%e5%81%a5%e5%ba%b7%e3%82%bb%e3%83%9f%e3%83%8a%e3%83%bc%e3%80%91-38/
LOCATION:ももち文化センター(会議室6)\, 福岡県福岡市早良区百道2-3-15
CATEGORIES:九州・沖縄セミナー,全国セミナー【一覧】,福岡セミナー
END:VEVENT
BEGIN:VEVENT
DTSTART;TZID=Asia/Tokyo:20260109T133000
DTEND;TZID=Asia/Tokyo:20260109T163000
DTSTAMP:20260422T115729
CREATED:20260202T025050Z
LAST-MODIFIED:20260202T025050Z
UID:6572-1767965400-1767976200@member.stolle.jp
SUMMARY:神奈川県【サステナ健康セミナー】
DESCRIPTION:
URL:https://member.stolle.jp/various_contents_top/event/%e7%a5%9e%e5%a5%88%e5%b7%9d%e7%9c%8c%e3%80%90%e3%82%b5%e3%82%b9%e3%83%86%e3%83%8a%e5%81%a5%e5%ba%b7%e3%82%bb%e3%83%9f%e3%83%8a%e3%83%bc%e3%80%91-13/
LOCATION:ゆうゆう\, 神奈川県相模原市緑区城山1-8-12
CATEGORIES:全国セミナー【一覧】,神奈川セミナー,関東セミナー
END:VEVENT
BEGIN:VEVENT
DTSTART;TZID=Asia/Tokyo:20260108T133000
DTEND;TZID=Asia/Tokyo:20260108T153000
DTSTAMP:20260422T115729
CREATED:20251208T073814Z
LAST-MODIFIED:20251208T073814Z
UID:6211-1767879000-1767886200@member.stolle.jp
SUMMARY:佐賀県【サステナ健康セミナー】
DESCRIPTION:
URL:https://member.stolle.jp/various_contents_top/event/%e4%bd%90%e8%b3%80%e7%9c%8c%e3%80%90%e3%82%b5%e3%82%b9%e3%83%86%e3%83%8a%e5%81%a5%e5%ba%b7%e3%82%bb%e3%83%9f%e3%83%8a%e3%83%bc%e3%80%91-31/
LOCATION:メートプラザ(勤労福祉センター)\, 佐賀県佐賀市兵庫北3-8-40
CATEGORIES:九州・沖縄セミナー,佐賀セミナー,全国セミナー【一覧】
END:VEVENT
BEGIN:VEVENT
DTSTART;TZID=Asia/Tokyo:20251223T133000
DTEND;TZID=Asia/Tokyo:20251223T153000
DTSTAMP:20260422T115729
CREATED:20251121T061830Z
LAST-MODIFIED:20251128T091110Z
UID:6002-1766496600-1766503800@member.stolle.jp
SUMMARY:神奈川県【サステナFANミーティング〜感謝の集い2025～】
DESCRIPTION:★お申込み期限：12月12日(金)まで★ \n参加費：おひとり500円（お茶菓子🍰とドリンク🥤付き） \n参加をご希望の方はカスタマーセンターへお申込みください。 \n代表の方よりまとめてのお申込みも可能です。 \nお申込み方法 \n1）お電話　0120-301-637 \n2）FAX　03-5466-3168 \n3）メール　sprt@stolle.jp
URL:https://member.stolle.jp/various_contents_top/event/%e7%a5%9e%e5%a5%88%e5%b7%9d%e7%9c%8c%e3%80%90%e3%82%b5%e3%82%b9%e3%83%86%e3%83%8afan%e3%83%9f%e3%83%bc%e3%83%86%e3%82%a3%e3%83%b3%e3%82%b0%e3%80%9c%e6%84%9f%e8%ac%9d%e3%81%ae%e9%9b%86%e3%81%842025/
LOCATION:横浜市民フロア(そごう横浜店9F　ACルーム)\, 神奈川県横浜市西区高島2-18-1　横浜新都市ビル
CATEGORIES:全国セミナー【一覧】,神奈川セミナー,関東セミナー
END:VEVENT
BEGIN:VEVENT
DTSTART;TZID=Asia/Tokyo:20251222T133000
DTEND;TZID=Asia/Tokyo:20251222T153000
DTSTAMP:20260422T115729
CREATED:20251119T032843Z
LAST-MODIFIED:20251119T032843Z
UID:5988-1766410200-1766417400@member.stolle.jp
SUMMARY:佐賀県【サステナ健康セミナー】
DESCRIPTION:
URL:https://member.stolle.jp/various_contents_top/event/%e4%bd%90%e8%b3%80%e7%9c%8c%e3%80%90%e3%82%b5%e3%82%b9%e3%83%86%e3%83%8a%e5%81%a5%e5%ba%b7%e3%82%bb%e3%83%9f%e3%83%8a%e3%83%bc%e3%80%91-30/
LOCATION:メートプラザ(勤労福祉センター)\, 佐賀県佐賀市兵庫北3-8-40
CATEGORIES:九州・沖縄セミナー,佐賀セミナー,全国セミナー【一覧】
END:VEVENT
BEGIN:VEVENT
DTSTART;TZID=Asia/Tokyo:20251221T100000
DTEND;TZID=Asia/Tokyo:20251221T130000
DTSTAMP:20260422T115729
CREATED:20251203T033545Z
LAST-MODIFIED:20251203T033545Z
UID:6176-1766311200-1766322000@member.stolle.jp
SUMMARY:宮城県【サステナ健康セミナー】
DESCRIPTION:
URL:https://member.stolle.jp/various_contents_top/event/%e5%ae%ae%e5%9f%8e%e7%9c%8c%e3%80%90%e3%82%b5%e3%82%b9%e3%83%86%e3%83%8a%e5%81%a5%e5%ba%b7%e3%82%bb%e3%83%9f%e3%83%8a%e3%83%bc%e3%80%91-24/
LOCATION:南三陸まなびの里いりやど\, 宮城県本吉郡南三陸町入谷字鏡石5番3
CATEGORIES:全国セミナー【一覧】,北海道・東北セミナー
END:VEVENT
BEGIN:VEVENT
DTSTART;TZID=Asia/Tokyo:20251216T133000
DTEND;TZID=Asia/Tokyo:20251216T153000
DTSTAMP:20260422T115729
CREATED:20251121T061234Z
LAST-MODIFIED:20251128T091032Z
UID:6000-1765891800-1765899000@member.stolle.jp
SUMMARY:福岡県【サステナFANミーティング〜感謝の集い2025～】
DESCRIPTION:★お申込み期限：12月8日(月)まで★ \n参加費：おひとり500円（お茶菓子🍰とドリンク🥤付き） \n参加をご希望の方はカスタマーセンターへお申込みください。 \n代表の方よりまとめてのお申込みも可能です。 \nお申込み方法 \n1）お電話　0120-301-637 \n2）FAX　03-5466-3168 \n3）メール　sprt@stolle.jp
URL:https://member.stolle.jp/various_contents_top/event/%e7%a6%8f%e5%b2%a1%e7%9c%8c%e3%80%90%e3%82%b5%e3%82%b9%e3%83%86%e3%83%8afan%e3%83%9f%e3%83%bc%e3%83%86%e3%82%a3%e3%83%b3%e3%82%b0%e3%80%9c%e6%84%9f%e8%ac%9d%e3%81%ae%e9%9b%86%e3%81%842025%e3%80%91/
LOCATION:南近代ビル（1号室）\, 福岡県福岡市博多区博多駅南4-2-10　南近代ビル7階
CATEGORIES:九州・沖縄セミナー,全国セミナー【一覧】,福岡セミナー
END:VEVENT
BEGIN:VEVENT
DTSTART;TZID=Asia/Tokyo:20251216T130000
DTEND;TZID=Asia/Tokyo:20251216T160000
DTSTAMP:20260422T115729
CREATED:20251208T073407Z
LAST-MODIFIED:20251208T073407Z
UID:6208-1765890000-1765900800@member.stolle.jp
SUMMARY:神奈川県【サステナ健康セミナー】
DESCRIPTION:
URL:https://member.stolle.jp/various_contents_top/event/%e7%a5%9e%e5%a5%88%e5%b7%9d%e7%9c%8c%e3%80%90%e3%82%b5%e3%82%b9%e3%83%86%e3%83%8a%e5%81%a5%e5%ba%b7%e3%82%bb%e3%83%9f%e3%83%8a%e3%83%bc%e3%80%91-12/
LOCATION:ゆうゆう\, 神奈川県相模原市緑区城山1-8-12
CATEGORIES:全国セミナー【一覧】,神奈川セミナー,関東セミナー
END:VEVENT
BEGIN:VEVENT
DTSTART;TZID=Asia/Tokyo:20251214T133000
DTEND;TZID=Asia/Tokyo:20251214T153000
DTSTAMP:20260422T115729
CREATED:20251121T061055Z
LAST-MODIFIED:20251128T090954Z
UID:5998-1765719000-1765726200@member.stolle.jp
SUMMARY:長野県【サステナFANミーティング〜感謝の集い2025～】
DESCRIPTION:★お申込み期限：12月5日(金)まで★ \n参加費：おひとり500円（お茶菓子🍰とドリンク🥤付き） \n参加をご希望の方はカスタマーセンターへお申込みください。 \n代表の方よりまとめてのお申込みも可能です。 \nお申込み方法 \n1）お電話　0120-301-637 \n2）FAX　03-5466-3168 \n3）メール　sprt@stolle.jp
URL:https://member.stolle.jp/various_contents_top/event/%e9%95%b7%e9%87%8e%e7%9c%8c%e3%80%90%e3%82%b5%e3%82%b9%e3%83%86%e3%83%8afan%e3%83%9f%e3%83%bc%e3%83%86%e3%82%a3%e3%83%b3%e3%82%b0%e3%80%9c%e6%84%9f%e8%ac%9d%e3%81%ae%e9%9b%86%e3%81%842025%e3%80%91/
LOCATION:マリオローヤル会館\, 長野県茅野市ちの3502-1 ベルビア 3階
CATEGORIES:中部・北陸セミナー,全国セミナー【一覧】
END:VEVENT
BEGIN:VEVENT
DTSTART;TZID=Asia/Tokyo:20251213T133000
DTEND;TZID=Asia/Tokyo:20251213T153000
DTSTAMP:20260422T115729
CREATED:20251203T031704Z
LAST-MODIFIED:20251203T031704Z
UID:6174-1765632600-1765639800@member.stolle.jp
SUMMARY:宮城県【サステナ健康セミナー】
DESCRIPTION:
URL:https://member.stolle.jp/various_contents_top/event/%e5%ae%ae%e5%9f%8e%e7%9c%8c%e3%80%90%e3%82%b5%e3%82%b9%e3%83%86%e3%83%8a%e5%81%a5%e5%ba%b7%e3%82%bb%e3%83%9f%e3%83%8a%e3%83%bc%e3%80%91-23/
LOCATION:スタジオサンモール5階\, 宮城県仙台市青葉区一番町２－５－５
CATEGORIES:全国セミナー【一覧】,北海道・東北セミナー
END:VEVENT
BEGIN:VEVENT
DTSTART;TZID=Asia/Tokyo:20251213T133000
DTEND;TZID=Asia/Tokyo:20251213T153000
DTSTAMP:20260422T115729
CREATED:20250819T055031Z
LAST-MODIFIED:20251014T075821Z
UID:5480-1765632600-1765639800@member.stolle.jp
SUMMARY:★中止★佐賀県【サステナ健康セミナー】
DESCRIPTION:都合により中止となりました。何卒ご了承くださいますようお願い申し上げます。
URL:https://member.stolle.jp/various_contents_top/event/%e4%bd%90%e8%b3%80%e7%9c%8c%e3%80%90%e3%82%b5%e3%82%b9%e3%83%86%e3%83%8a%e5%81%a5%e5%ba%b7%e3%82%bb%e3%83%9f%e3%83%8a%e3%83%bc%e3%80%91-25/
LOCATION:唐津市民交流プラザ(第一会議室)\, 佐賀県唐津市南城内1-1 大手口センタービル3F
CATEGORIES:九州・沖縄セミナー,佐賀セミナー,全国セミナー【一覧】
END:VEVENT
BEGIN:VEVENT
DTSTART;TZID=Asia/Tokyo:20251213T123000
DTEND;TZID=Asia/Tokyo:20251213T150000
DTSTAMP:20260422T115729
CREATED:20251121T055932Z
LAST-MODIFIED:20251121T064241Z
UID:5996-1765629000-1765638000@member.stolle.jp
SUMMARY:千葉県【サステナFANミーティング〜感謝の集い2025～】
DESCRIPTION:参加をご希望の方はカスタマーセンターへお申込みください。 \n代表の方よりまとめてのお申込みも可能です。 \nお申込み方法 \n1）お電話　0120-301-637 \n2）FAX　03-5466-3168 \n3）メール　sprt@stolle.jp \n  \n◇参加費用◇ \nおひとり3\,000円
URL:https://member.stolle.jp/various_contents_top/event/%e5%8d%83%e8%91%89%e7%9c%8c%e3%80%90%e3%82%b5%e3%82%b9%e3%83%86%e3%83%8afan%e3%83%9f%e3%83%bc%e3%83%86%e3%82%a3%e3%83%b3%e3%82%b0%e3%80%9c%e6%84%9f%e8%ac%9d%e3%81%ae%e9%9b%86%e3%81%842025%e3%80%91/
LOCATION:UE GARDEN RESORT(ユイガーデンリゾート)\, 千葉県東金市八坂台1-8-1
CATEGORIES:全国セミナー【一覧】,千葉セミナー,関東セミナー
END:VEVENT
BEGIN:VEVENT
DTSTART;TZID=Asia/Tokyo:20251210T133000
DTEND;TZID=Asia/Tokyo:20251210T163000
DTSTAMP:20260422T115729
CREATED:20251021T023039Z
LAST-MODIFIED:20251021T023039Z
UID:5830-1765373400-1765384200@member.stolle.jp
SUMMARY:大阪府【サステナ健康セミナー】
DESCRIPTION:
URL:https://member.stolle.jp/various_contents_top/event/%e5%a4%a7%e9%98%aa%e5%ba%9c%e3%80%90%e3%82%b5%e3%82%b9%e3%83%86%e3%83%8a%e5%81%a5%e5%ba%b7%e3%82%bb%e3%83%9f%e3%83%8a%e3%83%bc%e3%80%91-12/
LOCATION:NLC新大阪8号館9階　902号室\, 大阪府大阪市掟川区西中島3-9-13
CATEGORIES:全国セミナー【一覧】,関西セミナー
END:VEVENT
BEGIN:VEVENT
DTSTART;TZID=Asia/Tokyo:20251209T100000
DTEND;TZID=Asia/Tokyo:20251209T120000
DTSTAMP:20260422T115729
CREATED:20251128T085611Z
LAST-MODIFIED:20251128T085611Z
UID:6154-1765274400-1765281600@member.stolle.jp
SUMMARY:熊本県【サステナ健康セミナー】
DESCRIPTION:
URL:https://member.stolle.jp/various_contents_top/event/%e7%86%8a%e6%9c%ac%e7%9c%8c%e3%80%90%e3%82%b5%e3%82%b9%e3%83%86%e3%83%8a%e5%81%a5%e5%ba%b7%e3%82%bb%e3%83%9f%e3%83%8a%e3%83%bc%e3%80%91-9/
LOCATION:宇土中央公民館（多目的室）\, 熊本県宇土市新小路町96
CATEGORIES:九州・沖縄その他セミナー,九州・沖縄セミナー,全国セミナー【一覧】
END:VEVENT
BEGIN:VEVENT
DTSTART;TZID=Asia/Tokyo:20251206T133000
DTEND;TZID=Asia/Tokyo:20251206T153000
DTSTAMP:20260422T115729
CREATED:20251121T055425Z
LAST-MODIFIED:20251126T100319Z
UID:5994-1765027800-1765035000@member.stolle.jp
SUMMARY:宮崎県【サステナFANミーティング〜感謝の集い2025～】
DESCRIPTION:参加費：おひとり500円（お茶菓子🍰とドリンク🥤付き） \n参加をご希望の方はカスタマーセンターへお申込みください。 \n代表の方よりまとめてのお申込みも可能です。 \nお申込み方法 \n1）お電話　0120-301-637 \n2）FAX　03-5466-3168 \n3）メール　sprt@stolle.jp
URL:https://member.stolle.jp/various_contents_top/event/%e5%ae%ae%e5%b4%8e%e7%9c%8c%e3%80%90%e3%82%b5%e3%82%b9%e3%83%86%e3%83%8afan%e3%83%9f%e3%83%bc%e3%83%86%e3%82%a3%e3%83%b3%e3%82%b0%e3%80%9c%e6%84%9f%e8%ac%9d%e3%81%ae%e9%9b%86%e3%81%842025%e3%80%91/
LOCATION:らいふのパン\, 宮崎県宮崎市大坪町大坪町倉ノ町4410-1
CATEGORIES:九州・沖縄セミナー,全国セミナー【一覧】,宮崎セミナー
END:VEVENT
BEGIN:VEVENT
DTSTART;TZID=Asia/Tokyo:20251205T133000
DTEND;TZID=Asia/Tokyo:20251205T170000
DTSTAMP:20260422T115729
CREATED:20250929T074930Z
LAST-MODIFIED:20251120T010515Z
UID:5720-1764941400-1764954000@member.stolle.jp
SUMMARY:福岡県【サステナ健康セミナー】
DESCRIPTION:都合により12月16日から日程変更となりました。 \n 
URL:https://member.stolle.jp/various_contents_top/event/%e7%a6%8f%e5%b2%a1%e7%9c%8c%e3%80%90%e3%82%b5%e3%82%b9%e3%83%86%e3%83%8a%e5%81%a5%e5%ba%b7%e3%82%bb%e3%83%9f%e3%83%8a%e3%83%bc%e3%80%91-33/
LOCATION:ももち文化センター(会議室6)\, 福岡県福岡市早良区百道2-3-15
CATEGORIES:九州・沖縄セミナー,全国セミナー【一覧】,福岡セミナー
END:VEVENT
BEGIN:VEVENT
DTSTART;TZID=Asia/Tokyo:20251203T170000
DTEND;TZID=Asia/Tokyo:20251203T190000
DTSTAMP:20260422T115729
CREATED:20251126T034955Z
LAST-MODIFIED:20251126T034955Z
UID:6135-1764781200-1764788400@member.stolle.jp
SUMMARY:沖縄県【本社主催セミナー】
DESCRIPTION:
URL:https://member.stolle.jp/various_contents_top/event/%e6%b2%96%e7%b8%84%e7%9c%8c%e3%80%90%e6%9c%ac%e7%a4%be%e4%b8%bb%e5%82%ac%e3%82%bb%e3%83%9f%e3%83%8a%e3%83%bc%e3%80%91-7/
LOCATION:てぃるる（会議室１）\, 沖縄県那覇市西3-11-1
CATEGORIES:九州・沖縄その他セミナー,九州・沖縄セミナー,全国セミナー【一覧】
END:VEVENT
BEGIN:VEVENT
DTSTART;TZID=Asia/Tokyo:20251202T133000
DTEND;TZID=Asia/Tokyo:20251202T170000
DTSTAMP:20260422T115729
CREATED:20251014T074148Z
LAST-MODIFIED:20251014T074148Z
UID:5802-1764682200-1764694800@member.stolle.jp
SUMMARY:福岡県【サステナ健康セミナー】
DESCRIPTION:
URL:https://member.stolle.jp/various_contents_top/event/%e7%a6%8f%e5%b2%a1%e7%9c%8c%e3%80%90%e3%82%b5%e3%82%b9%e3%83%86%e3%83%8a%e5%81%a5%e5%ba%b7%e3%82%bb%e3%83%9f%e3%83%8a%e3%83%bc%e3%80%91-34/
LOCATION:なみきスクエア　視聴覚室\, 福岡県福岡市東区千早4-21-45
CATEGORIES:九州・沖縄セミナー,全国セミナー【一覧】,福岡セミナー
END:VEVENT
BEGIN:VEVENT
DTSTART;TZID=Asia/Tokyo:20251128T133000
DTEND;TZID=Asia/Tokyo:20251128T153000
DTSTAMP:20260422T115729
CREATED:20251021T022735Z
LAST-MODIFIED:20251021T022735Z
UID:5828-1764336600-1764343800@member.stolle.jp
SUMMARY:福岡県【本社主催セミナー】
DESCRIPTION:
URL:https://member.stolle.jp/various_contents_top/event/%e7%a6%8f%e5%b2%a1%e7%9c%8c%e3%80%90%e6%9c%ac%e7%a4%be%e4%b8%bb%e5%82%ac%e3%82%bb%e3%83%9f%e3%83%8a%e3%83%bc%e3%80%91-10/
LOCATION:南近代ビル（1号室）\, 福岡県福岡市博多区博多駅南4-2-10　南近代ビル7階
CATEGORIES:九州・沖縄セミナー,全国セミナー【一覧】,福岡セミナー
END:VEVENT
BEGIN:VEVENT
DTSTART;TZID=Asia/Tokyo:20251124T133000
DTEND;TZID=Asia/Tokyo:20251124T153000
DTSTAMP:20260422T115729
CREATED:20251114T073704Z
LAST-MODIFIED:20251114T073704Z
UID:5915-1763991000-1763998200@member.stolle.jp
SUMMARY:福井県【サステナ健康セミナー】
DESCRIPTION:
URL:https://member.stolle.jp/various_contents_top/event/%e7%a6%8f%e4%ba%95%e7%9c%8c%e3%80%90%e3%82%b5%e3%82%b9%e3%83%86%e3%83%8a%e5%81%a5%e5%ba%b7%e3%82%bb%e3%83%9f%e3%83%8a%e3%83%bc%e3%80%91-3/
LOCATION:ふくい産業支援センター\, 福井県坂井市丸岡町熊堂3-7-1-16
CATEGORIES:中部・北陸セミナー,全国セミナー【一覧】
END:VEVENT
BEGIN:VEVENT
DTSTART;TZID=Asia/Tokyo:20251123T100000
DTEND;TZID=Asia/Tokyo:20251123T130000
DTSTAMP:20260422T115729
CREATED:20250908T064927Z
LAST-MODIFIED:20250908T064927Z
UID:5640-1763892000-1763902800@member.stolle.jp
SUMMARY:宮城県【サステナ健康セミナー】
DESCRIPTION:
URL:https://member.stolle.jp/various_contents_top/event/%e5%ae%ae%e5%9f%8e%e7%9c%8c%e3%80%90%e3%82%b5%e3%82%b9%e3%83%86%e3%83%8a%e5%81%a5%e5%ba%b7%e3%82%bb%e3%83%9f%e3%83%8a%e3%83%bc%e3%80%91-22/
LOCATION:南三陸まなびの里いりやど\, 宮城県本吉郡南三陸町入谷字鏡石5番3
CATEGORIES:全国セミナー【一覧】,北海道・東北セミナー
END:VEVENT
BEGIN:VEVENT
DTSTART;TZID=Asia/Tokyo:20251122T100000
DTEND;TZID=Asia/Tokyo:20251122T123000
DTSTAMP:20260422T115729
CREATED:20251008T061616Z
LAST-MODIFIED:20251008T061616Z
UID:5779-1763805600-1763814600@member.stolle.jp
SUMMARY:長野県【サステナ健康セミナー】
DESCRIPTION:
URL:https://member.stolle.jp/various_contents_top/event/%e9%95%b7%e9%87%8e%e7%9c%8c%e3%80%90%e3%82%b5%e3%82%b9%e3%83%86%e3%83%8a%e5%81%a5%e5%ba%b7%e3%82%bb%e3%83%9f%e3%83%8a%e3%83%bc%e3%80%91-3/
LOCATION:諏訪市四賀公民館\, 長野県諏訪市大字四賀桑原804-3\, 日本
CATEGORIES:中部・北陸セミナー,全国セミナー【一覧】
END:VEVENT
BEGIN:VEVENT
DTSTART;TZID=Asia/Tokyo:20251121T133000
DTEND;TZID=Asia/Tokyo:20251121T160000
DTSTAMP:20260422T115729
CREATED:20251114T074040Z
LAST-MODIFIED:20251117T054759Z
UID:5918-1763731800-1763740800@member.stolle.jp
SUMMARY:福岡県【サステナ健康セミナー】
DESCRIPTION:
URL:https://member.stolle.jp/various_contents_top/event/%e7%a6%8f%e5%b2%a1%e7%9c%8c%e3%80%90%e3%82%b5%e3%82%b9%e3%83%86%e3%83%8a%e5%81%a5%e5%ba%b7%e3%82%bb%e3%83%9f%e3%83%8a%e3%83%bc%e3%80%91-35/
LOCATION:小郡市総合保健福祉センター「あすてらす」\, 福岡県小郡市二森1167-1
CATEGORIES:九州・沖縄セミナー,全国セミナー【一覧】,福岡セミナー
END:VEVENT
BEGIN:VEVENT
DTSTART;TZID=Asia/Tokyo:20251121T133000
DTEND;TZID=Asia/Tokyo:20251121T153000
DTSTAMP:20260422T115729
CREATED:20251119T073316Z
LAST-MODIFIED:20251119T073316Z
UID:6006-1763731800-1763739000@member.stolle.jp
SUMMARY:宮崎県【本社主催セミナー】
DESCRIPTION:
URL:https://member.stolle.jp/various_contents_top/event/%e5%ae%ae%e5%b4%8e%e7%9c%8c%e3%80%90%e6%9c%ac%e7%a4%be%e4%b8%bb%e5%82%ac%e3%82%bb%e3%83%9f%e3%83%8a%e3%83%bc%e3%80%91-10/
LOCATION:らいふのパン\, 宮崎県宮崎市大坪町大坪町倉ノ町4410-1
CATEGORIES:九州・沖縄セミナー,全国セミナー【一覧】,宮崎セミナー
END:VEVENT
BEGIN:VEVENT
DTSTART;TZID=Asia/Tokyo:20251118T133000
DTEND;TZID=Asia/Tokyo:20251118T170000
DTSTAMP:20260422T115729
CREATED:20250929T074707Z
LAST-MODIFIED:20250929T074707Z
UID:5718-1763472600-1763485200@member.stolle.jp
SUMMARY:福岡県【サステナ健康セミナー】
DESCRIPTION:
URL:https://member.stolle.jp/various_contents_top/event/%e7%a6%8f%e5%b2%a1%e7%9c%8c%e3%80%90%e3%82%b5%e3%82%b9%e3%83%86%e3%83%8a%e5%81%a5%e5%ba%b7%e3%82%bb%e3%83%9f%e3%83%8a%e3%83%bc%e3%80%91-32/
LOCATION:ももち文化センター(会議室6)\, 福岡県福岡市早良区百道2-3-15
CATEGORIES:九州・沖縄セミナー,全国セミナー【一覧】,福岡セミナー
END:VEVENT
BEGIN:VEVENT
DTSTART;TZID=Asia/Tokyo:20251115T133000
DTEND;TZID=Asia/Tokyo:20251115T153000
DTSTAMP:20260422T115729
CREATED:20250908T064719Z
LAST-MODIFIED:20250908T064719Z
UID:5638-1763213400-1763220600@member.stolle.jp
SUMMARY:宮城県【サステナ健康セミナー】
DESCRIPTION:
URL:https://member.stolle.jp/various_contents_top/event/%e5%ae%ae%e5%9f%8e%e7%9c%8c%e3%80%90%e3%82%b5%e3%82%b9%e3%83%86%e3%83%8a%e5%81%a5%e5%ba%b7%e3%82%bb%e3%83%9f%e3%83%8a%e3%83%bc%e3%80%91-21/
LOCATION:スタジオサンモール5階\, 宮城県仙台市青葉区一番町２－５－５
CATEGORIES:全国セミナー【一覧】,北海道・東北セミナー
END:VEVENT
END:VCALENDAR