BEGIN:VCALENDAR
VERSION:2.0
PRODID:-//STOLLE CONTENTS - ECPv6.6.2//NONSGML v1.0//EN
CALSCALE:GREGORIAN
METHOD:PUBLISH
X-WR-CALNAME:STOLLE CONTENTS
X-ORIGINAL-URL:https://member.stolle.jp/various_contents_top
X-WR-CALDESC:STOLLE CONTENTS のイベント
REFRESH-INTERVAL;VALUE=DURATION:PT1H
X-Robots-Tag:noindex
X-PUBLISHED-TTL:PT1H
BEGIN:VTIMEZONE
TZID:Asia/Tokyo
BEGIN:STANDARD
TZOFFSETFROM:+0900
TZOFFSETTO:+0900
TZNAME:JST
DTSTART:20250101T000000
END:STANDARD
END:VTIMEZONE
BEGIN:VEVENT
DTSTART;TZID=Asia/Tokyo:20250425T110000
DTEND;TZID=Asia/Tokyo:20250425T130000
DTSTAMP:20260424T072853
CREATED:20250220T070633Z
LAST-MODIFIED:20250422T023427Z
UID:3551-1745578800-1745586000@member.stolle.jp
SUMMARY:お歌を楽しむ会
DESCRIPTION:  \n下司　愉宇起さんのプロフィールはこちら→オフィシャルホームページ \n\n歌の効果\n検索\n\n早く到着されてもお待ちいただくスペースがございません。 \n11時ちょうどを目指してお越しください。 \n会場が分からない方は「原宿駅での待ち合わせ」をご利用ください。
URL:https://member.stolle.jp/various_contents_top/event/%e3%81%8a%e6%ad%8c%e3%82%92%e6%a5%bd%e3%81%97%e3%82%80%e4%bc%9a/
LOCATION:hall60(ホールソワサント)\, 東京都渋谷区神宮前6-34-14原宿表参道B2F
CATEGORIES:イベント
END:VEVENT
END:VCALENDAR