BEGIN:VCALENDAR
VERSION:2.0
PRODID:-//STOLLE CONTENTS - ECPv6.6.2//NONSGML v1.0//EN
CALSCALE:GREGORIAN
METHOD:PUBLISH
X-ORIGINAL-URL:https://member.stolle.jp/various_contents_top
X-WR-CALDESC:STOLLE CONTENTS のイベント
REFRESH-INTERVAL;VALUE=DURATION:PT1H
X-Robots-Tag:noindex
X-PUBLISHED-TTL:PT1H
BEGIN:VTIMEZONE
TZID:Asia/Tokyo
BEGIN:STANDARD
TZOFFSETFROM:+0900
TZOFFSETTO:+0900
TZNAME:JST
DTSTART:20250101T000000
END:STANDARD
END:VTIMEZONE
BEGIN:VEVENT
DTSTART;TZID=Asia/Tokyo:20250525T133000
DTEND;TZID=Asia/Tokyo:20250525T170000
DTSTAMP:20260424T073000
CREATED:20250403T055302Z
LAST-MODIFIED:20250515T030848Z
UID:3869-1748179800-1748192400@member.stolle.jp
SUMMARY:ロバート・ストーラー博士 / 島袋 隆 医学博士　スペシャル講演会
DESCRIPTION:参加費は2\,000円です。 \n13：00開場 \n13：30～15：00　ロバート・ストーラー博士　来日記念講演会 \n15：15～16：45　ハズしまぶくろクリニック　島袋 隆 医学博士　特別講演 \n九段会館テラスへのアクセス→アクセス・交通案内 | 九段会館テラス（KUDAN-KAIKAN TERRACE） \n \n  \n 
URL:https://member.stolle.jp/various_contents_top/event/%e3%83%ad%e3%83%90%e3%83%bc%e3%83%88%e3%83%bb%e3%82%b9%e3%83%88%e3%83%bc%e3%83%a9%e3%83%bc%e5%8d%9a%e5%a3%ab-%e5%b3%b6%e8%a2%8b-%e9%9a%86-%e5%8c%bb%e5%ad%a6%e5%8d%9a%e5%a3%ab%e3%80%80%e3%82%b9/
LOCATION:九段会館テラス（３階302-茜）\, 東京都千代田区九段南1丁目6番5号
CATEGORIES:イベント,関東その他セミナー,関東セミナー
END:VEVENT
END:VCALENDAR